BEGIN:VCALENDAR
VERSION:2.0
PRODID:-//CROSS 中性子科学センター（2019年アーカイブ） - ECPv5.14.1//NONSGML v1.0//EN
CALSCALE:GREGORIAN
METHOD:PUBLISH
X-WR-CALNAME:CROSS 中性子科学センター（2019年アーカイブ）
X-ORIGINAL-URL:https://archive2019nt.cross.or.jp
X-WR-CALDESC:CROSS 中性子科学センター（2019年アーカイブ） のイベント
BEGIN:VTIMEZONE
TZID:Asia/Tokyo
BEGIN:STANDARD
TZOFFSETFROM:+0900
TZOFFSETTO:+0900
TZNAME:JST
DTSTART:20170101T000000
END:STANDARD
END:VTIMEZONE
BEGIN:VEVENT
DTSTART;TZID=Asia/Tokyo:20170908T093000
DTEND;TZID=Asia/Tokyo:20170908T173500
DTSTAMP:20260426T092757
CREATED:20170726T140038Z
LAST-MODIFIED:20180308T012307Z
UID:90-1504863000-1504892100@archive2019nt.cross.or.jp
SUMMARY:第4回 大型実験施設とスーパーコンピュータとの連携利用シンポジウム
DESCRIPTION:
URL:https://archive2019nt.cross.or.jp/events/170908/
LOCATION:秋葉原UDX 6階\, 外神田4-14-1\, 千代田区\, 東京都\, 101-0021
ATTACH;FMTTYPE=image/png:https://archive2019nt.cross.or.jp/wp/wp-content/uploads/2018/01/noimg.png
END:VEVENT
END:VCALENDAR