BEGIN:VCALENDAR
VERSION:2.0
PRODID:-//CROSS 中性子科学センター（2019年アーカイブ） - ECPv5.14.1//NONSGML v1.0//EN
CALSCALE:GREGORIAN
METHOD:PUBLISH
X-WR-CALNAME:CROSS 中性子科学センター（2019年アーカイブ）
X-ORIGINAL-URL:https://archive2019nt.cross.or.jp
X-WR-CALDESC:CROSS 中性子科学センター（2019年アーカイブ） のイベント
BEGIN:VTIMEZONE
TZID:Asia/Tokyo
BEGIN:STANDARD
TZOFFSETFROM:+0900
TZOFFSETTO:+0900
TZNAME:JST
DTSTART:20170101T000000
END:STANDARD
END:VTIMEZONE
BEGIN:VEVENT
DTSTART;TZID=Asia/Tokyo:20171116T080000
DTEND;TZID=Asia/Tokyo:20171120T150000
DTSTAMP:20260426T034845
CREATED:20170622T080033Z
LAST-MODIFIED:20180326T041437Z
UID:8195-1510819200-1511190000@archive2019nt.cross.or.jp
SUMMARY:The 9th AONSA/The 2nd Neutron and Muon School will be held 16 (Thu.)-20 (Mon.) November 2017
DESCRIPTION:For more information please visit this website: https://neutron.cross.or.jp/9thAONSAschool/
URL:https://archive2019nt.cross.or.jp/events/171116-20-e/
LOCATION:茨城大学　水戸キャンパス\, 水戸市文京2-1-1\, Ibaraki\, 310-8512\, 日本
ATTACH;FMTTYPE=image/png:https://archive2019nt.cross.or.jp/wp/wp-content/uploads/2018/03/9thAONSA.png
END:VEVENT
END:VCALENDAR