BEGIN:VCALENDAR
VERSION:2.0
PRODID:-//CROSS 中性子科学センター（2019年アーカイブ） - ECPv5.14.1//NONSGML v1.0//EN
CALSCALE:GREGORIAN
METHOD:PUBLISH
X-WR-CALNAME:CROSS 中性子科学センター（2019年アーカイブ）
X-ORIGINAL-URL:https://archive2019nt.cross.or.jp
X-WR-CALDESC:CROSS 中性子科学センター（2019年アーカイブ） のイベント
BEGIN:VTIMEZONE
TZID:Asia/Tokyo
BEGIN:STANDARD
TZOFFSETFROM:+0900
TZOFFSETTO:+0900
TZNAME:JST
DTSTART:20190101T000000
END:STANDARD
END:VTIMEZONE
BEGIN:VEVENT
DTSTART;VALUE=DATE:20190115
DTEND;VALUE=DATE:20190117
DTSTAMP:20260426T035215
CREATED:20181204T023533Z
LAST-MODIFIED:20190129T122658Z
UID:10171-1547510400-1547683199@archive2019nt.cross.or.jp
SUMMARY:J-PARC Workshop2018 ／ Deuterium Labeling Study for Neutron Science
DESCRIPTION:開催趣旨（Objective of the meeting）\nタンパク質や高分子などライフサイエンス・ソフトマター分野における中性子科学研究では、重水素ラベル法は標的分子のみをクローズアップした研究が可能となることから、J-PARCセンターMLFでは中性子科学の飛躍的な発展の鍵を握る重要な技術と位置付けています。本ワークショップでは国内外の重水素化材料にかかわる専門家を招聘して、最先端・先駆的技術と成果について議論します。 \n参加申し込み\n以下のフォームからお申し込みください。 \n\n参加申し込みフォームへ\n\n使用言語（Language）\n英語（English） \nプログラム（Program）\nJanuary 15th\n\n\n12:00 – 13:30\nReception\n\n\n13:30 – 13:40\nOpening & Introduction of J-PARC MLF\nT. Kanaya (KEK/J-PARC Center) \n\n\n13:40 – 13:50\nIntroduction of J-PARC MLF Users Society for Deuterium Labeled Materials\nH. Sajiki (Gifu Pharmaceutical Univ.) \n\n\nPlenary Session 1\, Chair：H. Sajiki (Gifu Pharmaceutical Univ.) \n\n\n13:50 – 14:40\nAdvances of Deuterium Labelling at the Australian National Deuteration Facility\nT. A. Darwish (ANSTO-NDF)\n\n\n14:40 – 15:00\nCoffee Break\n\n\nScience Session_1_Chemistry\, Chair：K. Akutsu (CROSS) \n\n\n15:00 – 15:30\nTransition Metal-Catalyzed Synthesis of Deuterated Aryl Compounds\nM. Kuriyama (Nagasaki Univ) \n\n\n15:30 – 16:00\nDynamics of Imidazolium Ionic Liquid\nO. Yamamuro (Univ. of Tokyo) \n\n\n16:00 – 16:30\nSANS analysis of Internal Structure of Supramolecular Nanofiber\nI. Akiba (Univ. of Kitakyushu) \n\n\nScience Session_2_ Industry (Japanese Session)\, Chair：T. Miyazaki (CROSS) \n\n\n16:30 – 17:00\nIntroduction of Iwatani Deuterium Business\nS. Ohkawa (Iwatani Co.\, Ltd.) \n\n\n17:00 – 17:30\nIntroduction of Shoko Science\nR. Sato (Shoko Science Co.\, Ltd.) \n\n\n18:30 – \nDinner at Hakkaku\n\n\n\nJanuary 16th\n\n\nScience Session_3_ Biology\, Chair：M. Adachi (QST) \n\n\n9:00 – 9:30\nStructural analysis of protein complex utilizing inverse contrast matching SANS\nM. Sugiyama (Kyoto Univ.) \n\n\n9:30 – 10:00\nDynamical behavior of water between phospholipid membranes\nT. Yamada (CROSS) \n\n\n10:00 – 10:30\nProtein deuteration for small angle neutron scattering\nT. Oda (Yokohama City Univ.) \n\n\n10:30-11:00\nCoffee Break and Group Photo\n\n\nPlenary Session 2\, Chair：K. Akutsu (CROSS) \n\n\n11:00 – 11:50\nDeuterium Substitution in Soft Materials: Subtle Changes with Huge Implications\nKunlun Hong (Oak Ridge National Laboratory)\n\n\n11:50 – 13:00\nLunch Time\n\n\nScience Session_4_ Polymer Science\, Chair：H. Aoki (JAEA/KEK/J-PARC Center) \n\n\n13:00 – 13:30\nPolymer analysis using SANS\nA. Takano (Nagoya Univ.) \n\n\n13:30 – 14:00\nPolymer analysis using NR\nD. Kawaguchi (Kyusyu Univ.) \n\n\nReport from J-PARC MLF\, Chair：Y. Kawakita (J-PARC Center/JAEA) \n\n\n14:00 – 14:20\nCurrent Status of J-PARC MLF Deuteration Laboratory\nH. Aoki (JAEA・KEK/J-PARC Center) \n\n\n14:20 – 14:40\nCurrent Status of the Small and Wide Angle Neutron Scattering Instrument (TAIKAN) at J-PARC\nS. Takata (JAEA/J-PARC Center) \n\n\n14:40 – 15:00\nCurrent Status of neutron reflectometer BL16 SOFIA at J-PARC MLF and its applications utilizing deuterated materials\nF. Nemoto (KEK/J-PARC Center) \n\n\n15:00 – 15:05\nClosing\nT. Kanaya (KEK/J-PARC Center) \n\n\n15:10 – 17:00\nSite visit to J-PARC\n\n\n世話人（Organizers）\n金谷利治（J-PARCセンター）、川北至信（J-PARCセンター）、青木裕之（J-PARCセンター）、大原 高志（J-PARCセンター） \n高田 慎一（J-PARCセンター）、安達 基泰（QST）、宮﨑 司（CROSS）、阿久津 和宏（CROSS）、佐治木 弘尚（岐阜薬科大学） \n中川 洋（JAEA）、田中 伊知朗（茨城大学） \n運営組織\n主催\nJ-PARC センター \n共 催\n総合科学研究機構（CROSS）中性子科学センター \nJ-PARC MLF利用者懇談会 \n後 援\n日本プロセス化学会 \n量子科学技術研究開発機構（QST） \n問合せ先\n総合科学研究機構（CROSS）中性子科学センター \n阿久津 和宏 \n茨城県東海村白方162-1いばらき量子ビーム研究センター A307 \nTEL: 029-219-5310 Ext:3410 \nE-mail: k_akutsu[at]cross.or.jp（[at]を@に置き換えてください）
URL:https://archive2019nt.cross.or.jp/events/190115-16/
LOCATION:いばらき量子ビーム研究センター（IQBRC）2階 B201\, 202多目的ホール\, 白方162-1\, 那珂郡東海村\, 茨城県\, 319-1106\, Japan
CATEGORIES:ワークショップ
ATTACH;FMTTYPE=image/png:https://archive2019nt.cross.or.jp/wp/wp-content/uploads/2018/01/noimg.png
END:VEVENT
END:VCALENDAR