BEGIN:VCALENDAR
VERSION:2.0
PRODID:-//CROSS 中性子科学センター（2019年アーカイブ） - ECPv5.14.1//NONSGML v1.0//EN
CALSCALE:GREGORIAN
METHOD:PUBLISH
X-WR-CALNAME:CROSS 中性子科学センター（2019年アーカイブ）
X-ORIGINAL-URL:https://archive2019nt.cross.or.jp
X-WR-CALDESC:CROSS 中性子科学センター（2019年アーカイブ） のイベント
BEGIN:VTIMEZONE
TZID:Asia/Tokyo
BEGIN:STANDARD
TZOFFSETFROM:+0900
TZOFFSETTO:+0900
TZNAME:JST
DTSTART:20190101T000000
END:STANDARD
END:VTIMEZONE
BEGIN:VEVENT
DTSTART;TZID=Asia/Tokyo:20190208T100000
DTEND;TZID=Asia/Tokyo:20190208T173000
DTSTAMP:20260426T035025
CREATED:20190108T052854Z
LAST-MODIFIED:20190108T052854Z
UID:10753-1549620000-1549647000@archive2019nt.cross.or.jp
SUMMARY:第7回材料系ワークショップ 　~第一原理計算と実験のデータ同化による材料開発手法~
DESCRIPTION:開催趣旨\n本ワークショップでは、企業や大学などの材料系分野の研究者および開発者を\n対象に、材料系アプリケーションの研究活用事例や、大規模計算を行うための\nノウハウなどの話題を提供いたします。 \n特に今回は、データの活用方法として、数値シミュレーションに実測データを\n取り込むデータ同化に着目し、第一原理計算と実験による新たな手法も\n紹介します。 \n※ スーパーコンピュータ「京」を中核としたHPCIをご利用頂くための申請手続きや支援サービスな\nどについてのご相談は、個別にいつでも(10:00~17:30)対応しておりますので、遠慮なくお申し出ください。 \n主催\n 高度情報科学技術研究機構 \n共催\nスーパーコンピューティング技術産業応用協議会（産応協/ICSCP）\n　　　ポスト「京」重点課題５、６、７ \n協賛\n \nTIAかけはし　　　　　　計算物質科学人材育成コンソーシアム（PCoMS　　　　　　情報統合型物質・材料開発イニシアティブ（MI2I）　　　日本材料学会　　　元素戦略プロジェクト＜研究拠点形成型＞
URL:https://archive2019nt.cross.or.jp/events/190208/
LOCATION:東京・秋葉原UDX 4階\, 外神田4-14-1\, 千代田区\, 東京都\, 101-0021
CATEGORIES:ワークショップ
ATTACH;FMTTYPE=image/png:https://archive2019nt.cross.or.jp/wp/wp-content/uploads/2018/01/noimg.png
END:VEVENT
END:VCALENDAR