BEGIN:VCALENDAR
VERSION:2.0
PRODID:-//CROSS 中性子科学センター（2019年アーカイブ） - ECPv5.14.1//NONSGML v1.0//EN
CALSCALE:GREGORIAN
METHOD:PUBLISH
X-WR-CALNAME:CROSS 中性子科学センター（2019年アーカイブ）
X-ORIGINAL-URL:https://archive2019nt.cross.or.jp
X-WR-CALDESC:CROSS 中性子科学センター（2019年アーカイブ） のイベント
BEGIN:VTIMEZONE
TZID:Asia/Tokyo
BEGIN:STANDARD
TZOFFSETFROM:+0900
TZOFFSETTO:+0900
TZNAME:JST
DTSTART:20190101T000000
END:STANDARD
END:VTIMEZONE
BEGIN:VEVENT
DTSTART;TZID=Asia/Tokyo:20190319T100000
DTEND;TZID=Asia/Tokyo:20190319T170000
DTSTAMP:20260426T034915
CREATED:20190121T083941Z
LAST-MODIFIED:20190806T232706Z
UID:10936-1552989600-1553014800@archive2019nt.cross.or.jp
SUMMARY:平成30年度第2回残留歪み・応力解析研究会
DESCRIPTION:テーマ\n各種計測手法によるひずみと残留応力の計測 \n趣旨\n構造物や部品に形成された残留応力は，静的・動的強度に大きく影響するため，重要な設計評価指標です．その測定方法には，破壊的方法や非破壊的方法，ならびに，有限要素法などによる解析などがあります．今回の研究会では，疲労強度の大家である村上敬宜先生に√area 法による微小欠陥材の疲労強度評価法についてご講演いただくとともに，各種の残留応力測定方法，ならびに，表面改質材の残留応力測定例を紹介します． \n共催\nJ-PARC MLF 利用者懇談会(結晶解析・pdf 解析分科会)  \n協賛\n総合科学研究機構(CROSS)中性子科学センター \nQST 微細構造解析プラットフォーム  \n日本材料学会 X 線材料強度部門委員会 \nJ-PARC センター
URL:https://archive2019nt.cross.or.jp/events/1903019/
LOCATION:研究社英語センター大会議室\, 神楽坂1-2\, 新宿区\, 東京都\, 162-0825\, Japan
CATEGORIES:研究会
ATTACH;FMTTYPE=image/png:https://archive2019nt.cross.or.jp/wp/wp-content/uploads/2018/01/noimg.png
END:VEVENT
END:VCALENDAR