BEGIN:VCALENDAR
VERSION:2.0
PRODID:-//CROSS 中性子科学センター（2019年アーカイブ） - ECPv5.14.1//NONSGML v1.0//EN
CALSCALE:GREGORIAN
METHOD:PUBLISH
X-WR-CALNAME:CROSS 中性子科学センター（2019年アーカイブ）
X-ORIGINAL-URL:https://archive2019nt.cross.or.jp
X-WR-CALDESC:CROSS 中性子科学センター（2019年アーカイブ） のイベント
BEGIN:VTIMEZONE
TZID:Asia/Tokyo
BEGIN:STANDARD
TZOFFSETFROM:+0900
TZOFFSETTO:+0900
TZNAME:JST
DTSTART:20190101T000000
END:STANDARD
END:VTIMEZONE
BEGIN:VEVENT
DTSTART;TZID=Asia/Tokyo:20190315T090000
DTEND;TZID=Asia/Tokyo:20190315T173000
DTSTAMP:20260426T034954
CREATED:20190117T233016Z
LAST-MODIFIED:20190725T071026Z
UID:10852-1552640400-1552671000@archive2019nt.cross.or.jp
SUMMARY:第5回　大型実験施設とスーパーコンピュータとの連携利用シンポジウム ― 熱電材料 ―
DESCRIPTION:開催趣旨\n大型実験施設であるSPring-8、J-PARC MLFと「京」をはじめとするスーパーコンピュータとの連携利用は、実験的手法と数値シミュレーション手法の特性を活かした新しい研究成果の創出につながり、その推進は多方面から期待されています。第5回目となる本シンポジウムでは、「熱電材料研究における実験と計算科学との連携利用」をテーマとした最新の研究講演とパネル・ディスカッションを行います。また、副会場では関連した研究事例や各施設（SPring-8、J-PARC MLF、「京」を中核とするHPCI共用計算資源）を紹介したポスター展示を予定しています。 \n参加申し込み\n参加費無料。定員は100名程度でどなたでも自由にお申込みいただけます。申込フォームからお申し込みください。メールでのお申し込みは受け付けておりません。 \n\n参加申し込みフォーム\n\n2019年3月13日（水）12:00まで \n＊お申込み受付後、受付通知メールを送付させて頂きます。\n＊申込多数の場合、締切前に受付を終了させていただくことがあります。お早めにお申し込みください。 \nプログラム（Program）\n\n\n9:00\n受付開始\n\n\n\nオープニングセッション　座長：荒木政則（RIST）\n\n\n9:30-9:35\n開会挨拶（5分）\n横溝英明（CROSS）土肥義治（JASRI）\n\n\n9:35-10:20\nオーバービュー ～ 各施設から（各15分）\n\n\n\nO-1　SPring-8の施設紹介\n櫻井吉晴（JASRI）\n\n\nO-2　J-PARC MLFの施設紹介\n金谷利治（J-PARCセンター）\n\n\nO-3　スーパーコンピュータ「京」の施設紹介\n奥田　基（RIST）\n\n\n第1セッション　座長 : 小久保達信（RIST）\n\n\n10:20-11:00\n1-1　フォノンエンジニアリング・プラットフォーム（実験×数値シミュレーション）を活用した熱電材料研究（40分）\n塩見淳一郎　教授（東京大学　工学系研究科）\n\n\n11:00-11:40\n1-2　電子-格子間非平衡状態を活用した熱電変換特性の向上（40分）\n薮内　真　氏（株式会社　日立製作所）\n\n\n11:40-13:20\nランチ＋Coffee Break\n\n\n\n12:35-13:15\nポスターセッションのコアタイム（40分）\n副会場（NEXT-3）\n\n\n第2セッション　座長 : 野間　敬（CROSS）\n\n\n13:20-14:00\n2-1　熱電変換材料としての金属酸化物の可能性（40分）\n太田裕道　教授（北海道大学　電子科学研究所）\n\n\n14:00-14:40\n2-2　トンネル構造を有したジントル化合物系熱電材料の開拓と評価（40分）\n山田高広　准教授（東北大学　多元物質科学研究所）\n\n\n14:40-14:55\n休憩（Coffee Break）\n副会場（NEXT-3）\n\n\n第3セッション　座長 : 廣沢一郎（JASRI）\n\n\n14:55-15:35\n3-1　IV族半導体微細加工による熱電材料の機能発現と物性評価（40分）\n横川　凌　氏（明治大学　理工学部）\n\n\n15:35-16:15\n3-2　大振幅原子振動を活用した熱電材料の開発（40分）\n末國晃一郎　准教授（九州大学　総合理工学研究院）\n\n\n16:15-16:30\n休憩（Coffee Break）\n副会場（NEXT-3）\n\n\n第4セッション：パネル・ディスカッション　モデレータ：塩見淳⼀郎（東京大学）\n\n\n16:30-17:30\nテーマ：大型実験施設と計算機を用いた熱電材料の研究開発の現状とこれから（60分）\nパネリスト：薮内　真、太田裕道、山田高広、横川　凌、末國晃一郎\n\n\n17:30-17:35\n閉会挨拶（5分）\n髙津英幸（RIST）\n\n\n副会場（NEXT-3）催し\n熱電材料に関する研究事例、各施設*を紹介したポスター展示等を予定（9:30-16:30） \n＊各施設：SPring-8、J-PARC MLF、「京」を中核とするHPCI共用計算資源 \n運営組織\n主催\n（公財）高輝度光科学研究センター（JASRI）\n（一財）総合科学研究機構（CROSS）\n（一財）高度情報科学技術研究機構（RIST）\n \n協力\nポスト「京」重点課題7「次世代の産業を支える新機能デバイス・高性能材料の創成」 \n協賛\n理化学研究所、J-PARCセンター（JAEA&KEK）、日本放射光学会、日本中性子科学会、日本材料学会、光ビームプラットフォーム、SPring-8ユーザー協同体、SPring-8利用推進協議会、J-PARC MLF利用者懇談会、中性子産業利用推進協議会、ポスト「京」重点課題1「生体分子システムの機能制御による革新的創薬基盤の構築」、同2「個別化・予防医療を支援する統合計算生命科学」、同3「地震・津波による複合災害の統合的予測システムの構築」、同4「観測ビッグデータを活用した気象と地球環境の予測の高度化」、同5「エネルギーの高効率な創出、変換・貯蔵、利用の新規基盤技術の開発」、同6「革新的クリーンエネルギーシステムの実用化」、同8「近未来型ものづくりを先導する革新的設計・製造プロセスの開発」、同9「宇宙の基本法則と進化の解明」 \n後援\n文部科学省、兵庫県、茨城県 \n問合せ先\n高度情報科学技術研究機構 シンポジウム担当\nhpci-sympo[at]hpci-office.jp（[at]を”@”に置き換えてください）
URL:https://archive2019nt.cross.or.jp/events/190315/
LOCATION:東京・秋葉原UDX 4階\, 外神田4-14-1\, 千代田区\, 東京都\, 101-0021
CATEGORIES:シンポジウム
ATTACH;FMTTYPE=image/png:https://archive2019nt.cross.or.jp/wp/wp-content/uploads/2018/01/noimg.png
END:VEVENT
END:VCALENDAR