BEGIN:VCALENDAR
VERSION:2.0
PRODID:-//CROSS 中性子科学センター（2019年アーカイブ） - ECPv5.14.1//NONSGML v1.0//EN
CALSCALE:GREGORIAN
METHOD:PUBLISH
X-WR-CALNAME:CROSS 中性子科学センター（2019年アーカイブ）
X-ORIGINAL-URL:https://archive2019nt.cross.or.jp
X-WR-CALDESC:CROSS 中性子科学センター（2019年アーカイブ） のイベント
BEGIN:VTIMEZONE
TZID:Asia/Tokyo
BEGIN:STANDARD
TZOFFSETFROM:+0900
TZOFFSETTO:+0900
TZNAME:JST
DTSTART:20190101T000000
END:STANDARD
END:VTIMEZONE
BEGIN:VEVENT
DTSTART;TZID=Asia/Tokyo:20190327T130000
DTEND;TZID=Asia/Tokyo:20190327T170000
DTSTAMP:20260426T035001
CREATED:20190118T014211Z
LAST-MODIFIED:20190118T093617Z
UID:10829-1553691600-1553706000@archive2019nt.cross.or.jp
SUMMARY:平成30年度第2回構造生物学研究会
DESCRIPTION:趣旨\n昨年度「新世代中性子構造生物学」を謳って相関構造解析を基盤にした新しい中性子構造生物学を提案しました。今年度はそれが目指すものを明確にする作業を当該研究会で議論して進めています。今年度第2回の研究会では，J-PARC MLFにおける生命科学研究に対する考え方や方針（将来構想）との整合性に焦点を当てて議論します。 \n共催\nJ-PARC MLF利用者懇談会 \n日本学術振興会回折構造生物第169委員会中性子・放射光連携小委員会(予定) \n新世代研究所 水和ナノ構造研究会(予定) \n協賛\n総合科学研究機構(CROSS)中性子科学センター \nJ-PARCセンター \n 
URL:https://archive2019nt.cross.or.jp/events/190327/
LOCATION:エッサム神田ホール 401会議室\, 神田鍛冶町3-2-2\, 千代田区\, 東京都\, 101-0045\, Japan
ATTACH;FMTTYPE=image/png:https://archive2019nt.cross.or.jp/wp/wp-content/uploads/2018/01/noimg.png
END:VEVENT
END:VCALENDAR