BEGIN:VCALENDAR
VERSION:2.0
PRODID:-//CROSS 中性子科学センター（2019年アーカイブ） - ECPv5.14.1//NONSGML v1.0//EN
CALSCALE:GREGORIAN
METHOD:PUBLISH
X-WR-CALNAME:CROSS 中性子科学センター（2019年アーカイブ）
X-ORIGINAL-URL:https://archive2019nt.cross.or.jp
X-WR-CALDESC:CROSS 中性子科学センター（2019年アーカイブ） のイベント
BEGIN:VTIMEZONE
TZID:Asia/Tokyo
BEGIN:STANDARD
TZOFFSETFROM:+0900
TZOFFSETTO:+0900
TZNAME:JST
DTSTART:20190101T000000
END:STANDARD
END:VTIMEZONE
BEGIN:VEVENT
DTSTART;TZID=Asia/Tokyo:20190822T130000
DTEND;TZID=Asia/Tokyo:20190823T153000
DTSTAMP:20260426T033957
CREATED:20190515T111901Z
LAST-MODIFIED:20190819T042943Z
UID:11616-1566478800-1566574200@archive2019nt.cross.or.jp
SUMMARY:東北大金研-CROSSワークショップ「J-PARCとJRR-3の相補利用による偏極中性子科学の新展開」
DESCRIPTION:趣旨\n中性子はスピン自由度や高い物質透過性等を持つユニークなプローブであり、磁性研究において重要な役割を果たしてきました。東北大金研では研究用原子炉JRR-3に設置する装置群において偏極デバイスの開発や利用が続けられ、近年ではJ-PARCのパルス中性子源にKEKと共同で偏極中性子散乱装置（POLANO）を設置し、2019年度より供用を開始しており、CROSSではJ-PARCで中性子小角・広角散乱装置（大観）、偏極中性子反射率計（写楽）、エネルギー分析型中性子イメージング装置（螺鈿）で偏極中性子を用いたユーザーの利用研究を促進しています。 \n本ワークショップでは、磁気構造解析、スピン揺動成分解析等の偏極解析に関する専門家や、理論家、東北大金研における材料研究者等を交え、偏極中性子の利用に適した新しい研究テーマや成果創出について議論を行います。また、JRR-3とJ-PARCに設置されている偏極中性子装置群を利用した小角・反射率測定、イメージング測定、ダイナミクス測定等の偏極中性子手法の専門家が一同に会する場を持つことで、JRR-3とJ-PARCの効果的な相補利用の議論を交わす場を設けたいと考えております。皆様のご参加をお待ち申し上げます。 \n参加申し込み\n次の参加申し込みフォームからお申し込み下さい。 \n\n参加申し込みフォーム\n\n当日参加可ですが、ポスター発表される方は2019年6月30日までに申し込みをしてください。\nポスター発表の参加申し込みは2019年7月7日で締め切りました。 \n＊参加費無料。 \nプログラム\n口頭講演　1日目\n\n\n13:00\nはじめに　松浦直人（CROSS）\nTutorial lecture（チュートリアル講演45分）座長：遠藤康夫（東北大名誉教授）\nO1/チュートリアル講演：加倉井和久（CROSS）\, 「偏極中性子散乱」入門\n\n\n13;45\nInstrumentation Session（20分講演×3）座長：松浦直人(CROSS)\nO2/鈴木淳市（CROSS）\, 「『大観』\,『写楽』\,『螺鈿』の偏極中性子利用」\nO3/藤田全基（東北大金研）\, 「中性子散乱装置群PATHを基盤とした東北大学における中性子利用プラットフォームの構築」\nO4/武田全康（JAEA）\, JRR-3の現状と偏極中性子利用装置の紹介\n\n\n14:45\nコーヒーブレイク\n\n\n15:00\nポスターセッション/CROSSインターン制度の紹介（2時間） \n\n17:00\n終了\n\n\n17:30\n懇親会\n\n\n口頭講演　2日目\n\n\n9:00\nScience Session : Spintronics（25分講演×4）座長：川村光（阪大理）\n	O5/水口将輝（東北大金研）\, スピントロニクスデバイス開発における量子ビームの利活用\n	O6/吉川貴史（東北大金研）\, 磁性絶縁体Y3Fe5O12におけるマグノン-フォノン混成誘起スピンゼーベック効果\n	O7/南部雄亮（東北大金研）\, スピントロニクス基盤物質におけるマグノン極性の観測\n	O8/秋光純（岡山大異分野研）\, K-T転移の直接観測の試み\n\n\n10:40\nコーヒーブレイク \n\n10:55\nScience Session : Chiral magnets（25分講演×4）座長：大石一城(CROSS)\n	O9/高阪勇輔（大阪府立大）\, 偏極中性子を用いた無機キラル磁性体の磁気構造研究\n	O10/中島多朗（東大工）\, 偏極中性子を用いたマルチフェロイック、磁気スキルミオン物質の研究\n	O11/奥山大輔（東北大多元研）\, 電流中の磁気スキルミオン格子のダイナミクス\n	O12/新居陽一（東北大金研）\, 空間反転対称な遍歴磁性体におけるスピンヘリシティの電流制御\n\n\n12:35\n集合写真、昼食 \n\n13:50\nFrontier Session : New science with polarized neutron technique （25分講演×4）座長：池田陽一(東北大金研)\n	O13/日野正裕（京大複合研）\, J-PARC MLF 中性子共鳴スピンエコー分光器群(VIN ROSE)の現状と今後\n	O14/佐藤豊人（東北大金研）\, エネルギー利用を目指した水素化物中の水素の観測\n	O15/熊田高之（JAEA）\, スピンコントラスト変調法の中性子小角散乱・反射率・回折への展開\n	O16/Sungkyun Park（Pusan National Univ.）\, Proving underlying magnetic information using polarized neutron reflectometry\n\n\n15:30\nまとめ　南部雄亮（東北大金研）\n終了\n\n\nポスター講演\n\n\nポスター番号 / 講演者 / 講演タイトル\n \n\nL1 / 池内和彦（CROSS） / BL01(四季)の装置と利用成果の紹介\nL2 / 松浦直人（CROSS） / 中性子背面反射型分光器『DNA』の現状と将来計画\nL3 / 小田達郎（京大複合研） / J-PARC MLF BL06 VIN ROSE の MIEZE 分光器の高度化\nL4 / 町田真一（CROSS） / PLANETの概要と最近の研究成果\nL5 / 大石一城（CROSS） / 中性子小角・広角散乱装置『大観』の現状\nL6 / 宮田登・笠井聡（CROSS） / J-PARC MLF BL17偏極中性子反射率計『写楽』の紹介\nL7 / 中尾朗子（CROSS） / SENJUの現状\nL8 / 川崎卓郎（JAEA） / 工学材料回折装置『匠』の現状\nL9 / 小貫祐介（茨城大学） / iMATERIAにおける種々の測定手法とその場中性子回折実験環境の構築\nL10 / 本田孝志（KEK） / BL21 高強度中性子全散乱装置『NOVA』の現状\nL11 / 林田洋寿（CROSS） / エネルギー分析型中性子イメージング装置『螺鈿』の現状\nL12 / 大河原学（東北大金研） / BL23 POLANOにおける偏極デバイスの現状\n\n\n\n\nE1 / 浅野 駿（東北大金研） / ミュオンスピン緩和によるT*構造La1-x/2Eu1-x/2SrxCuO4の磁性に対するアニール効果の研究\nE2 / 宮崎 正範（室蘭工大） / La2CuO4における頂点酸素スピン磁性の観測\nE3 / 有馬寛（CROSS） / Mg含有非晶質炭酸カルシウム結晶化のX線その場観察による評価\nE4 / Jana Lustikova（東北大AIMR）/ Oscillatory Nernst effect in Pt|ferrite|cuprate-superconductor trilayer films\nE5 / 川本陽（東北大理） / 中性子飛行時間分光法によるフェリ磁性絶縁体Tb3Fe5O12の磁気励起測定\nE6 / 石角元志（CROSS） / 鉄系超伝導体FeTe0.5Se0.5のレゾナンスモードのQ依存性\nE7 / 奥山大輔（東北大多元研） / カイラル磁性体Pr5Ru3Al2の中性子小角散乱\nE8 / 阿久津和弘（CROSS） / 偏極中性子が導くソフトマターの精密構造解析\nE9 / 花島隆泰（CROSS） / 偏極中性子反射率法によるFe-Si超格子の磁気構造解析\nE10 / 池田陽一（東北大金研） / 反転対称性のないセリウム化合物における複雑な磁化過程の研究\nE11 / 梅本好日古（東北大金研） / 中性子回折実験によるFeMn基合金のMo添加に伴う構造変化の観察\nE12 / 榎木勝徳（東北大多元研）/ 第一原理計算によるハイエントロピー合金の熱力学的安定性の評価\nE13 / 谷口貴紀（東北大金研）/ 新奇重い電子化合物YbCu4Niの合成及びNMR/NQRに関する研究\nE14 / 山田高広（東北大多元研）/ らせんトンネル構造を有したジントル化合物の結晶構造と特性評価\nE15 / 北澤崇文（東北大金研）/ 超重電子系YbT2Zn20系の結晶場状態の研究\nE16 / 奥隆之（JAEA）/ J-PARC MLFにおける3He中性子偏極フィルターの開発と利用環境の整備状況\nE17 / 関口仁子（東北大理）/ 三体核力研究のための偏極3He標的\nE18 / 工藤友美（東北大多元研）/ 3He偏極ガス封入用GE180ガラスセルの製作\nE19 / 猪野隆（KEK）/ 散乱中性子偏極解析用3Heスピンフィルターの検討\nE20 / 三浦大輔（JAEA）/ スピンコントラスト粉末結晶構造解析法の開発\nE21 / 金子耕士（JAEA） / 多次元化した新広角中性子回折装置WAND2\nE22 / 水沢多鶴子（CROSS）/ J-PARC MLFの中性子利用\nE23 / 藤田全基（東北大金研）/ 東北大学金属材料研究所 中性子物質材料研究センターの活動\n\n\n\nポスターセッション\nA0サイズのポスターボードとプッシュピンを用意しています。ポスター会場は東北大学金研2号館講堂隣のラウンジです。参加受付が済み次第、ポスターを貼って頂けますようお願いいたします。 \n懇親会\n8/22 17:30~20:00  レストラン萩-hagi-(仙台市青葉区一番町1-14-8　片平北門会館2F)\n会費：5000円（予定） \n旅費支援（ポスター講演者）\n支援に限りはありますが、ポスター講演者の旅費支援を予定しております。希望者は参加登録フォームにて申請してください。\n旅費手続きについては追ってこちらからメールで連絡いたします。 \n講演要旨提出（締切：2019年 7月31日（水））\n\n講演要旨テンプレート\n\n原稿の作成方法\n上記テンプレート（Microsoft Word形式）をダウンロードし、これをもとに原稿を作成して下さい。原稿はA4半ページ以内でお願いいたします。 \n提出先\nIMR_CROSS_WS2019[at]cross.or.jp ([at]を@に置き換えてください）宛に添付ファイルにてwordファイルをご送信ください。 \nご提出いただいた講演要旨は講演要旨集として冊子にまとめ、研究会当日配布いたします。 \n印刷に要する日程上、締切（2019年 7月31日（水））の厳守をお願いいたします。 \n口頭発表資料提供のお願い\n口頭発表の発表資料は講演資料集として冊子にとまとめ、後日配布し、Webでも公開します。 \n当日、発表後にファイルを集めにまわりますので、公開して差支えのない発表ファイルをご用意ください。 \n運営組織\n主催\n東北大学金属材料研究所\n総合科学研究機構（CROSS）中性子科学センター \n後援\n東北大学 光・量子ビーム科学連携推進室\n日本中性子科学会 \n研究会世話人\n南部雄亮（東北大学金研）、池田陽一（東北大学金研）、大石一城（CROSS）、松浦直人（CROSS） \n問合せ先\nワークショップ事務局 E-mail : IMR_CROSS_WS2019[at]cross.or.jp  ([at]を@に置き換えてください）
URL:https://archive2019nt.cross.or.jp/events/190822-23/
LOCATION:東北大学金属材料研究所2号館1階講堂\, 青葉区片平2-1-1\, 仙台市\, 宮城県\, 980-8577\, Japan
CATEGORIES:ワークショップ
ATTACH;FMTTYPE=image/png:https://archive2019nt.cross.or.jp/wp/wp-content/uploads/2018/01/noimg.png
END:VEVENT
END:VCALENDAR