BEGIN:VCALENDAR
VERSION:2.0
PRODID:-//CROSS 中性子科学センター（2019年アーカイブ） - ECPv5.14.1//NONSGML v1.0//EN
CALSCALE:GREGORIAN
METHOD:PUBLISH
X-WR-CALNAME:CROSS 中性子科学センター（2019年アーカイブ）
X-ORIGINAL-URL:https://archive2019nt.cross.or.jp
X-WR-CALDESC:CROSS 中性子科学センター（2019年アーカイブ） のイベント
BEGIN:VTIMEZONE
TZID:Asia/Tokyo
BEGIN:STANDARD
TZOFFSETFROM:+0900
TZOFFSETTO:+0900
TZNAME:JST
DTSTART:20190101T000000
END:STANDARD
END:VTIMEZONE
BEGIN:VEVENT
DTSTART;TZID=Asia/Tokyo:20190917T093000
DTEND;TZID=Asia/Tokyo:20190917T170000
DTSTAMP:20260426T034718
CREATED:20190725T070722Z
LAST-MODIFIED:20190913T082206Z
UID:11965-1568712600-1568739600@archive2019nt.cross.or.jp
SUMMARY:第6回　大型実験施設とスーパーコンピュータとの連携利用シンポジウム― 物質構造の階層性とフォノン物性の理解 ―
DESCRIPTION:開催趣旨\n大型実験施設であるSPring-8、J-PARC MLFと「京」をはじめとするスーパーコンピュータとの連携利用は、実験的手法と数値シミュレーション手法の特性を活かした新しい研究成果の創出につながり、その推進は多方面から期待されています。第6回目となる本シンポジウムでは、「物質構造の階層性とフォノン物性の理解」をテーマとした最新の研究講演とパネル・ディスカッションを行います。 \n参加申し込み\n参加費無料。 \n申込締切：2019年9月12日（木） 12:00まで \nWebでの参加申込は、締め切りました。 \n※会場にて当日受付もいたしております。 \nプログラム（Program）\n\n\n9:00\n受付開始\n\n\nオープニングセッション\n座長：森　雅博（RIST）\n\n\n9:30～9:35\n開会挨拶（5分）\n横溝　英明（CROSS）雨宮　慶幸（JASRI）\n\n\n9:35～10:35\nオーバービュー ～ 各施設から（各20分）\n\n\n\nO-1　SPring-8の施設紹介\n矢橋　牧名（理化学研究所）\n\n\nO-2　J-PARC MLFの施設紹介\n金谷　利治（J-PARCセンター）\n\n\nO-3　HPCIの施設紹介\n奥田　基（RIST）\n\n\n第1セッション「階層性と量子ビーム相補利用」\n座長：加倉井　和久（CROSS）\n\n\n10：35～11:15\n1-1　　中性子・Ｘ線非弾性散乱実験とデータ駆動科学によるフォノン研究（40分）\n有馬　孝尚　教授（東京大学）\n\n\n11:15～11:55\n1-2　放射光・中性子散乱を利用した誘電体の構造・ダイナミクス研究―バルク、境界、単一粒子（40分）\n大和田　謙二　グループリーダー（量子科学技術研究開発機構）\n\n\n11:55～12:50\nランチ＋Coffee Break\n\n\n\n第2セッション「材料特性・材料設計」\n座長：廣沢　一郎（JASRI）\n\n\n12:50～13:30\n2-1　構造材料研究における量子ビームの利用（40分）\n乾　晴行　教授（京都大学）\n\n\n13:30～14:10\n2-2　企業におけるスパコン活用と、誘電体材料BaTiO3への取り組み事例紹介 （40分）\n中田　浩弥　氏（京セラ株式会社）\n\n\n14:10～14:20\n休憩（Coffee Break）\n\n\n第3セッション「光応答・フォノン物性」\n座長：小久保　達信（RIST）\n\n\n14:20～15:00\n3-1　アルミネート系化合物における新規機能性誘電体の開発（40分）\n谷口　博基　准教授（名古屋大学）\n\n\n15:00～15:40\n3-2　大規模計算による光電磁場・電子・フォノンの第一原理シミュレーション（40分）\n矢花　一浩　教授（筑波大学）\n\n\n15:40～15:55\n休憩（Coffee Break）\n\n\n第4セッション：パネル・ディスカッション\nモデレータ：有馬　孝尚\n\n\n15:55～16:55\nテーマ：物質機能発現の理解のための成熟した連携利用に向けて（60分）\nパネリスト：大和田　謙二乾　晴行中田　浩弥谷口　博基矢花　一浩\n\n\n16:55～17:00\n閉会挨拶（5分）\n関　昌弘（RIST）\n\n\n～18:00\nプログラム終了後：任意の交流・情報交換\n\n\n運営組織\n主　催\n（公財）高輝度光科学研究センター（JASRI）\n（一財）総合科学研究機構（CROSS）\n（一財）高度情報科学技術研究機構（RIST） \n協　力\nポスト「京」重点課題7「次世代の産業を支える新機能デバイス・高性能材料の創成」 \n協　賛\n理化学研究所、J-PARCセンター、日本放射光学会、日本中性子科学会、日本材料学会、日本金属学会、光ビームプラットフォーム、SPring-8ユーザー協同体、SPring-8利用推進協議会、J-PARC MLF利用者懇談会、中性子産業利用推進協議会、ポスト「京」重点課題1「生体分子システムの機能制御による革新的創薬基盤の構築」、同2「個別化・予防医療を支援する統合計算生命科学」、同3「地震・津波による複合災害の統合的予測システムの構築」、同4「観測ビッグデータを活用した気象と地球環境の予測の高度化」、同5「エネルギーの高効率な創出、変換・貯蔵、利用の新規基盤技術の開発」、同6「革新的クリーンエネルギーシステムの実用化」、同8「近未来型ものづくりを先導する革新的設計・製造プロセスの開発」、同9「宇宙の基本法則と進化の解明」 \n後　援\n文部科学省、兵庫県、茨城県 \n問合せ先\n高度情報科学技術研究機構 シンポジウム担当\nhpci-sympo[at]hpci-office.jp（[at]を”@”に置き換えてください）
URL:https://archive2019nt.cross.or.jp/events/190917/
LOCATION:秋葉原UDXギャラリー\, 外神田4-14-1\, 千代田区\, 東京都\, 101-0021
CATEGORIES:シンポジウム
ATTACH;FMTTYPE=image/png:https://archive2019nt.cross.or.jp/wp/wp-content/uploads/2018/01/noimg.png
END:VEVENT
END:VCALENDAR