BEGIN:VCALENDAR
VERSION:2.0
PRODID:-//CROSS 中性子科学センター（2019年アーカイブ） - ECPv5.14.1//NONSGML v1.0//EN
CALSCALE:GREGORIAN
METHOD:PUBLISH
X-WR-CALNAME:CROSS 中性子科学センター（2019年アーカイブ）
X-ORIGINAL-URL:https://archive2019nt.cross.or.jp
X-WR-CALDESC:CROSS 中性子科学センター（2019年アーカイブ） のイベント
BEGIN:VTIMEZONE
TZID:Asia/Tokyo
BEGIN:STANDARD
TZOFFSETFROM:+0900
TZOFFSETTO:+0900
TZNAME:JST
DTSTART:20190101T000000
END:STANDARD
END:VTIMEZONE
BEGIN:VEVENT
DTSTART;TZID=Asia/Tokyo:20191128T133000
DTEND;TZID=Asia/Tokyo:20191128T170000
DTSTAMP:20260426T034110
CREATED:20191010T235505Z
LAST-MODIFIED:20191018T112646Z
UID:12091-1574947800-1574960400@archive2019nt.cross.or.jp
SUMMARY:2019年度第1回中性子構造生物学研究会
DESCRIPTION:中性子散乱を利用してタンパク質の構造・機能解析を目指す「新世代中性子構造生物学」に関心をお持ちの皆さまの参加をお待ちしています． \n主催\n中性子産業利用推進協議会、茨城県中性子利用促進研究会，総合科学研究機構(CROSS)中性子科学センター \n共催\nJ-PARC MLF利用者懇談会
URL:https://archive2019nt.cross.or.jp/events/191128/
LOCATION:エッサム神田ホール1号館401会議室\, 神田鍛冶町3-2-2\, 千代田区\, 東京都\, 101-0045\, Japan
ATTACH;FMTTYPE=image/png:https://archive2019nt.cross.or.jp/wp/wp-content/uploads/2018/01/noimg.png
END:VEVENT
END:VCALENDAR