BEGIN:VCALENDAR
VERSION:2.0
PRODID:-//CROSS 中性子科学センター（2019年アーカイブ） - ECPv5.14.1//NONSGML v1.0//EN
CALSCALE:GREGORIAN
METHOD:PUBLISH
X-WR-CALNAME:CROSS 中性子科学センター（2019年アーカイブ）
X-ORIGINAL-URL:https://archive2019nt.cross.or.jp
X-WR-CALDESC:CROSS 中性子科学センター（2019年アーカイブ） のイベント
BEGIN:VTIMEZONE
TZID:Asia/Tokyo
BEGIN:STANDARD
TZOFFSETFROM:+0900
TZOFFSETTO:+0900
TZNAME:JST
DTSTART:20190101T000000
END:STANDARD
END:VTIMEZONE
BEGIN:VEVENT
DTSTART;TZID=Asia/Tokyo:20191129T093500
DTEND;TZID=Asia/Tokyo:20191129T170000
DTSTAMP:20260426T045756
CREATED:20191011T012738Z
LAST-MODIFIED:20191018T113020Z
UID:12022-1575020100-1575046800@archive2019nt.cross.or.jp
SUMMARY:2019年度中性子実験技術基礎講習会（レベル１講習会）
DESCRIPTION:中性子実験技術の初心者の方を対象に中性子実験技術の基礎的事項を紹介し，中性子実験施設（J-PARC MLF\, JRR-3M等）での実験計画立案や課題申請に役立てていただくことを目的として，中性子実験技術基礎講習会(レベル１講習会)を開催します．多くの皆さまのご参加をお願い致します． \n主催\n中性子産業利用推進協議会，日本中性子科学会\, 茨城県，総合科学研究機構中性子科学センター
URL:https://archive2019nt.cross.or.jp/events/191129/
LOCATION:エッサム神田ホール1号館701会議室
CATEGORIES:講習会
ATTACH;FMTTYPE=image/png:https://archive2019nt.cross.or.jp/wp/wp-content/uploads/2018/01/noimg.png
END:VEVENT
END:VCALENDAR