BEGIN:VCALENDAR
VERSION:2.0
PRODID:-//CROSS 中性子科学センター（2019年アーカイブ） - ECPv5.14.1//NONSGML v1.0//EN
CALSCALE:GREGORIAN
METHOD:PUBLISH
X-WR-CALNAME:CROSS 中性子科学センター（2019年アーカイブ）
X-ORIGINAL-URL:https://archive2019nt.cross.or.jp
X-WR-CALDESC:CROSS 中性子科学センター（2019年アーカイブ） のイベント
BEGIN:VTIMEZONE
TZID:Asia/Tokyo
BEGIN:STANDARD
TZOFFSETFROM:+0900
TZOFFSETTO:+0900
TZNAME:JST
DTSTART:20200101T000000
END:STANDARD
END:VTIMEZONE
BEGIN:VEVENT
DTSTART;TZID=Asia/Tokyo:20200306T133000
DTEND;TZID=Asia/Tokyo:20200306T170000
DTSTAMP:20260426T034131
CREATED:20200127T054005Z
LAST-MODIFIED:20200221T060700Z
UID:12835-1583501400-1583514000@archive2019nt.cross.or.jp
SUMMARY:【中止】2019年度第2回中性子構造生物学研究会
DESCRIPTION:【緊急連絡】2019年度第2回中性子構造生物学研究会　中止のご案内 \nCOVID-19の国内での感染者が増加しているため、2019年度第2回中性子構造生物学研究会は中止いたします。 \n—————————————————————————————————————————————————————————————– \n2019年度第2回中性子構造生物学研究会を「新世代中性子構造生物学と相関構造解析Ⅱ」をテーマに開催することになりました。タンパク質の構造・機能解析における相関構造解析のの装置・解析の現状などに関心をお持ちの皆さまの参加をお待ちしています。 \n趣旨\n中性子散乱を利用してタンパク質の構造・機能解析を目指す「新世代中性子構造生物学」には様々な研究手法を組合せて相乗的に利用する相関構造解析が必須です。そこで、今年度はトピックとしてタンパク質の構造・機能解析における相関構造解析の現状を紹介し、「新世代中性子構造生物学」が目指す研究の方向を探っていく予定です。 \n主催\n中性子産業利用推進協議会 、茨城県中性子利用促進研究会、総合科学研究機構(CROSS)中性子科学センター \n共催\nJ-PARC MLF利用者懇談会
URL:https://archive2019nt.cross.or.jp/events/200306/
LOCATION:エッサム神田ホール1号館401会議室\, 神田鍛冶町3-2-2\, 千代田区\, 東京都\, 101-0045\, Japan
CATEGORIES:研究会
ATTACH;FMTTYPE=image/png:https://archive2019nt.cross.or.jp/wp/wp-content/uploads/2018/01/noimg.png
END:VEVENT
END:VCALENDAR