BEGIN:VCALENDAR
VERSION:2.0
PRODID:-//CROSS 中性子科学センター（2019年アーカイブ） - ECPv5.14.1//NONSGML v1.0//EN
CALSCALE:GREGORIAN
METHOD:PUBLISH
X-WR-CALNAME:CROSS 中性子科学センター（2019年アーカイブ）
X-ORIGINAL-URL:https://archive2019nt.cross.or.jp
X-WR-CALDESC:CROSS 中性子科学センター（2019年アーカイブ） のイベント
BEGIN:VTIMEZONE
TZID:Asia/Tokyo
BEGIN:STANDARD
TZOFFSETFROM:+0900
TZOFFSETTO:+0900
TZNAME:JST
DTSTART:20200101T000000
END:STANDARD
END:VTIMEZONE
BEGIN:VEVENT
DTSTART;TZID=Asia/Tokyo:20200309T092000
DTEND;TZID=Asia/Tokyo:20200310T170000
DTSTAMP:20260426T035146
CREATED:20191220T014922Z
LAST-MODIFIED:20200302T023755Z
UID:12606-1583745600-1583859600@archive2019nt.cross.or.jp
SUMMARY:【中止】2019年度中級者向けz-code講習会
DESCRIPTION:【緊急連絡】2019年度中級者向けz-code講習会　中止のご案内 \nCOVID-19の国内での感染者が増加しているため、2019年度中級者向けz-code講習会は中止いたします。 \n—————————————————————————————————————————————————————————————– \n2019年度の粉末構造解析ソフトウエアZ-Codeの中級者向け講習会を開催します。J-PARC MLFの粉末構造解析が可能な装置を利用して、回折データの解析経験がある方が対象です。その経験の元に，実際に測定された各種結晶構造の回折データを用いて少し高度な解析を実習します。Windows版だけの実習を行いますので、Windows PCをご持参ください。Windows OSはWindows 7，8.1，10です（64ビット）。Mac PCでも受講できます。多くの皆さまの参加をお待ちしています。 \n目標\n文献等の構造情報に基づき、構造パラメータを理解しながら少し高度な構造解析を行えるようになることを目指します。内容としては下記の通りです。 \n　1)Ｘ線回折と中性子回折データのリートベルト解析を行う \n　2)Z-Rietveld用のファイル（実験室Ｘ線、放射光など）の作り方を学ぶ \n　3)MEM解析を行う \n　4)磁気構造を解析する \n　5)解析が上手くいかない場合の対処法を学ぶ \n　6)有効歪みや結晶子サイズを計算する \n主催\nJ-PARCセンターMLFディビジョン、KEK物質構造科学研究所、茨城県、茨城大学フロンティア応用原子科学研究センター、中性子産業利用推進協議会、総合科学研究機構（CROSS）中性子科学センター
URL:https://archive2019nt.cross.or.jp/events/200309-10/
LOCATION:エッサム神田ホール 1号館 2F 多目的ホール\, 神田鍛冶町3-2-2\, 千代田区\, 東京都\, 101-0045\, Japan
CATEGORIES:講習会
ATTACH;FMTTYPE=image/png:https://archive2019nt.cross.or.jp/wp/wp-content/uploads/2018/01/noimg.png
END:VEVENT
END:VCALENDAR