BEGIN:VCALENDAR
VERSION:2.0
PRODID:-//CROSS 中性子科学センター（2019年アーカイブ） - ECPv5.14.1//NONSGML v1.0//EN
CALSCALE:GREGORIAN
METHOD:PUBLISH
X-WR-CALNAME:CROSS 中性子科学センター（2019年アーカイブ）
X-ORIGINAL-URL:https://archive2019nt.cross.or.jp
X-WR-CALDESC:CROSS 中性子科学センター（2019年アーカイブ） のイベント
BEGIN:VTIMEZONE
TZID:Asia/Tokyo
BEGIN:STANDARD
TZOFFSETFROM:+0900
TZOFFSETTO:+0900
TZNAME:JST
DTSTART:20200101T000000
END:STANDARD
END:VTIMEZONE
BEGIN:VEVENT
DTSTART;VALUE=DATE:20200312
DTEND;VALUE=DATE:20200315
DTSTAMP:20260426T035023
CREATED:20191018T082504Z
LAST-MODIFIED:20200409T044529Z
UID:12351-1583971200-1584230399@archive2019nt.cross.or.jp
SUMMARY:【中止】2019年度量子ビームサイエンスフェスタ
DESCRIPTION:詳しくはこちらをご覧ください
URL:https://archive2019nt.cross.or.jp/events/200312-14/
LOCATION:ザ・ヒロサワ・シティ会館（茨城県立県民文化センター）\, 千波町東久保697番地\, 水戸市\, 茨城県\, 310-0851\, Japan
ATTACH;FMTTYPE=image/png:https://archive2019nt.cross.or.jp/wp/wp-content/uploads/2018/01/noimg.png
END:VEVENT
END:VCALENDAR