BEGIN:VCALENDAR
VERSION:2.0
PRODID:-//CROSS 中性子科学センター（2019年アーカイブ） - ECPv5.14.1//NONSGML v1.0//EN
CALSCALE:GREGORIAN
METHOD:PUBLISH
X-WR-CALNAME:CROSS 中性子科学センター（2019年アーカイブ）
X-ORIGINAL-URL:https://archive2019nt.cross.or.jp
X-WR-CALDESC:CROSS 中性子科学センター（2019年アーカイブ） のイベント
BEGIN:VTIMEZONE
TZID:Asia/Tokyo
BEGIN:STANDARD
TZOFFSETFROM:+0900
TZOFFSETTO:+0900
TZNAME:JST
DTSTART:20200101T000000
END:STANDARD
END:VTIMEZONE
BEGIN:VEVENT
DTSTART;TZID=Asia/Tokyo:20200314T103000
DTEND;TZID=Asia/Tokyo:20200314T170000
DTSTAMP:20260426T033956
CREATED:20200127T054811Z
LAST-MODIFIED:20200302T023653Z
UID:12840-1584181800-1584205200@archive2019nt.cross.or.jp
SUMMARY:【中止】2019年度液体・非晶質研究会
DESCRIPTION:【緊急連絡】2019年度液体・非晶質研究会　中止のご案内 \nCOVID-19の国内での感染者が増加しているため、2019年度液体・非晶質研究会は中止いたします。 \n—————————————————————————————————————————————————————————————– \n2019年度液体・非晶質研究会を「製品の中の液体・非晶質」をテーマに開催することになりました。皆さまの参加をお待ちしています。 \n主催\n中性子産業利用推進協議会 、茨城県中性子利用促進研究会、総合科学研究機構(CROSS)中性子科学センター \n共催\nJ-PARC MLF利用者懇談会 \n協賛\nJ-PARCセンター
URL:https://archive2019nt.cross.or.jp/events/200314/
LOCATION:ザ・ヒロサワ・シティ会館（茨城県立県民文化センター）\, 千波町東久保697番地\, 水戸市\, 茨城県\, 310-0851\, Japan
CATEGORIES:研究会
ATTACH;FMTTYPE=image/png:https://archive2019nt.cross.or.jp/wp/wp-content/uploads/2018/01/noimg.png
END:VEVENT
END:VCALENDAR