BEGIN:VCALENDAR
VERSION:2.0
PRODID:-//CROSS 中性子科学センター（2019年アーカイブ） - ECPv5.14.1//NONSGML v1.0//EN
CALSCALE:GREGORIAN
METHOD:PUBLISH
X-WR-CALNAME:CROSS 中性子科学センター（2019年アーカイブ）
X-ORIGINAL-URL:https://archive2019nt.cross.or.jp
X-WR-CALDESC:CROSS 中性子科学センター（2019年アーカイブ） のイベント
BEGIN:VTIMEZONE
TZID:Asia/Tokyo
BEGIN:STANDARD
TZOFFSETFROM:+0900
TZOFFSETTO:+0900
TZNAME:JST
DTSTART:20200101T000000
END:STANDARD
END:VTIMEZONE
BEGIN:VEVENT
DTSTART;TZID=Asia/Tokyo:20200804T133000
DTEND;TZID=Asia/Tokyo:20200804T144000
DTSTAMP:20260426T034120
CREATED:20200701T093001Z
LAST-MODIFIED:20200910T080104Z
UID:14232-1596547800-1596552000@archive2019nt.cross.or.jp
SUMMARY:第24回 CROSSroads Workshop 「偏極中性子を使った磁性薄膜・多層膜研究」
DESCRIPTION:  \n・第1回・第2回・第3回の発表資料を掲載しました。プログラムをご覧ください。 \n・開催報告を掲載しました。ご覧ください。https://neutron.cross.or.jp/ja/news/topics/200908top/ \n開催趣旨\n　磁性薄膜・多層膜さらにその関連物質は、試料の作製技術の進歩とともに盛んな研究の対象となっています。薄膜構造／微細構造／人工格子は、バルク磁性体とは異なる特徴的な物性を示すことから、スピントロニクス材料としてはもちろん基礎科学の観点からも盛んに研究され、トンネル磁気抵抗素子はすでに実用化されています。また、わずかな外場に対し多様な物性応答を示す強相関電子系物質や半導体であり、デバイスとの相性の良い希薄磁性半導体にも注目が集まっています。 \n　これらの磁性薄膜・多層膜の表面・界面に敏感な測定法として、偏極中性子実験法が発展し、弱磁場試料環境を使用した研究も行われています。本CROSSroads Workshopでは、この偏極中性子を使った磁性薄膜・多層膜研究について学術および技術情報の交換を行うとともに、当該研究の発展の可能性を幅広く探ります。 \n　現在、新型コロナウイルス感染拡大防止の観点から、不要不急の移動や3密を避けることが社会的な要請となっています。そこで新たな取り組みとして、Web会議によるWorkshopを開催します。\n \n開催日\n第1回　2020年6月30日（火）10:00～【終了しました】 \n第2回　2020年7月10日（金）10:00～【終了しました】 \n第3回　2020年8月 4日（火）13:30～【終了しました】 \n開催場所\nWeb会議システムZOOMを使用したWebワークショップ \n参加費\n無料 \n参加申込\n以下の参加申込サイトに入り、参加登録を行って下さい。 \n\n参加申し込みフォーム\n\n参加登録は終了しました。\n＊お申込み受付後、受付通知メールを送付させて頂きます。 \n＊受付通知メールが届かない場合や、参加申し込みフォームよりお申し込みできない場合は、 \n　下記の事項をご記入のうえ、CROSSroads Workshop 事務局＜suishin-event@cross.or.jp＞までメールにてお申し込み下さい。 \n——————————— \n　　1．お名前 \n　　2．フリガナ \n　　3．所属機関名 \n　　4．E-mailアドレス \n　　5．参加のご予定 \n　　　6月30日（火）参加する・参加しない \n　　　7月10日（金）参加する・参加しない \n　　 8月4日（火）参加する・参加しない \n　　6．連絡事項：事務局へご連絡があればご記入ください。 \n——————————— \nWebワークショップでの質問方法・注意事項\n1．ワークショップでの質問がある場合は、チャットを利用しお知らせ下さい。座長よりご指名させていただきます。 \n2．後日、ハンドアウト配布いたしますので、スナップショット、録画及び録音はご遠慮下さい。 \n3．スタッフによりワークショップ終了後にグループフォトを撮影させていただきます。 \n　 広報活動のため、ホームページ等に使用させていただく場合がございます。あらかじめご了承下さい。 \n※オンライン会議の進め方について \n \nプログラム\n\n\n\n【第１回】６月３０日\n\n\n9:30\nZOOM接続開始\n\n\n\n10:00-10:10\nはじめに\n柴山 充弘（CROSS中性子科学センター長）\n\n\n【座長: 宮田 登】【座長補佐：阿久津 和宏】\n\n\n10:10-10:40\n「偏極中性子反射率法によるFe3Si/FeSi2超格子の磁気構造解析」\n花島 隆泰（CROSS）　　＊発表資料＊\n\n\n【座長: 阿久津 和宏】【座長補佐：宮田 登】\n\n\n10:40-11:10\n「EuS/SnTeヘテロ接合における近接効果誘起の高温強磁性トポロジカル結晶絶縁体界面状態」High-temperature ferromagnetic topological crystalline insulating state induced by proximity effect in a EuS/SnTe heterostructure\n秋山 了太（東京大学）　　＊発表資料＊\n\n\n11:10-11:20\n第1回まとめ＆フォトセッション\n花島 隆泰（CROSS）\n\n\n\n\n\n \n\n【第２回】7月1０日\n\n\n9:30\nZOOM接続開始\n\n【座長: 大石 一城】【座長補佐：花島 隆泰】\n\n\n10:00-10:30\n「偏極中性子反射率測定を用いた固体物性研究 −トポロジカル絶縁体、カイラル磁性体を例として− 」\n中島 多朗（東京大学物性研究所）＊発表資料＊\n\n\n【座長: 花島 隆泰】【座長補佐：大石 一城】\n\n\n10:30-11:00\n「90度磁気結合を有する磁性積層膜の偏極中性子反射率測定による磁気構造解析」\n湯浅 裕美（九州大学）＊発表資料＊\n\n\n11:00-11:10\n第２回まとめ＆フォトセッション\n花島 隆泰（CROSS）\n\n\n\n\n\n\n【第３回】８月４日　\n\n\n13:00\nZOOM接続開始　　　　　　　　　　　　　　　　　　　　　　　　　　　　　　　　　　\n\n【座長: 阿久津和宏】【座長補佐：加倉井和久】\n\n\n13:30-14:00\n「Coherent magnetization rotation of a layered system observed by polarized neutron scattering under grazing incidence geometry」\n丸山 龍治 （日本原子力研究開発機構）＊発表資料＊\n\n【座長: 加倉井和久】【座長補佐：阿久津和宏】\n\n\n14:00-14:30\n「スピンメカトロニクスの進展」\n針井 一哉（量子科学技術研究開発機構）＊発表資料＊\n\n\n14:30-14:40\n第３回まとめ＆フォトセッション\n花島 隆泰（CROSS）\n\n\n\n主催\n一般財団法人総合科学研究機構（CROSS）中性子科学センター \n協賛\nJ-PARCセンター（JAEA&KEK） \n世話人\n花島 隆泰、阿久津 和宏、宮田 登、大石 一城、加倉井 和久（以上CROSS）、曽山 和彦（J-PARCセンター、JAEA）、武田 全康（JAEA)\n \n問合せ先\nCROSSroads Workshop事務局 \n一般財団法人総合科学研究機構（CROSS）中性子科学センター \n小西 盛也・大内　薫 \n　　e-mail：suishin-event@cross.or.jp \n　　TEL：029-219-5300 \n　　FAX：029-219-5311
URL:https://archive2019nt.cross.or.jp/events/200630/
LOCATION:Web会議システムZOOMを使用したWebワークショップ
CATEGORIES:ワークショップ
ATTACH;FMTTYPE=image/png:https://archive2019nt.cross.or.jp/wp/wp-content/uploads/2018/01/noimg.png
END:VEVENT
END:VCALENDAR