BEGIN:VCALENDAR
VERSION:2.0
PRODID:-//CROSS 中性子科学センター（2019年アーカイブ） - ECPv5.14.1//NONSGML v1.0//EN
CALSCALE:GREGORIAN
METHOD:PUBLISH
X-WR-CALNAME:CROSS 中性子科学センター（2019年アーカイブ）
X-ORIGINAL-URL:https://archive2019nt.cross.or.jp
X-WR-CALDESC:CROSS 中性子科学センター（2019年アーカイブ） のイベント
BEGIN:VTIMEZONE
TZID:Asia/Tokyo
BEGIN:STANDARD
TZOFFSETFROM:+0900
TZOFFSETTO:+0900
TZNAME:JST
DTSTART:20200101T000000
END:STANDARD
END:VTIMEZONE
BEGIN:VEVENT
DTSTART;TZID=Asia/Tokyo:20200827T092000
DTEND;TZID=Asia/Tokyo:20200828T170000
DTSTAMP:20260426T035121
CREATED:20200716T071549Z
LAST-MODIFIED:20200717T020414Z
UID:14326-1598520000-1598634000@archive2019nt.cross.or.jp
SUMMARY:2020年度初級者向けZ-Code講習会 Webセミナー
DESCRIPTION:　2020年度の粉末構造解析ソフトウエアZ-Codeの初級者向け講習会をwebで開催します。中性子回折の基礎講義に加えて、\nZ-Rietveld、Z-3D、Conographの使い方について講義と実習を通して学びます。Z-Rietveldを用いてマキシマムエントロピー法を用いた解析についてもご紹介します。 \nJ-PARC MLFの粉末構造回折装置を利用される多くの皆様に是非ご参加いただき、これらの解析ツールを構造解析に活用していただきますようご案内致します。 \n主催\nJ-PARCセンターMLFディビジョン、KEK物質構造科学研究所、茨城県、茨城大学フロンティア応用原子科学研究センター、中性子産業利用推進協議会、総合科学研究機構(CROSS)中性子科学センター
URL:https://archive2019nt.cross.or.jp/events/200827-28/
LOCATION:Webセミナー
CATEGORIES:講習会
ATTACH;FMTTYPE=image/png:https://archive2019nt.cross.or.jp/wp/wp-content/uploads/2018/01/noimg.png
END:VEVENT
END:VCALENDAR