BEGIN:VCALENDAR
VERSION:2.0
PRODID:-//CROSS 中性子科学センター（2019年アーカイブ） - ECPv5.14.1//NONSGML v1.0//EN
CALSCALE:GREGORIAN
METHOD:PUBLISH
X-WR-CALNAME:CROSS 中性子科学センター（2019年アーカイブ）
X-ORIGINAL-URL:https://archive2019nt.cross.or.jp
X-WR-CALDESC:CROSS 中性子科学センター（2019年アーカイブ） のイベント
BEGIN:VTIMEZONE
TZID:Asia/Tokyo
BEGIN:STANDARD
TZOFFSETFROM:+0900
TZOFFSETTO:+0900
TZNAME:JST
DTSTART:20200101T000000
END:STANDARD
END:VTIMEZONE
BEGIN:VEVENT
DTSTART;TZID=Asia/Tokyo:20200903T130000
DTEND;TZID=Asia/Tokyo:20200904T170000
DTSTAMP:20260426T035153
CREATED:20200630T042607Z
LAST-MODIFIED:20200630T042607Z
UID:14209-1599138000-1599238800@archive2019nt.cross.or.jp
SUMMARY:第17回SPring-8産業利⽤報告会
DESCRIPTION:
URL:https://archive2019nt.cross.or.jp/events/200903-04/
LOCATION:神戸国際会議場\, 兵庫県神戸市中央区港島中町6-9-1
CATEGORIES:報告会
ATTACH;FMTTYPE=image/png:https://archive2019nt.cross.or.jp/wp/wp-content/uploads/2018/01/noimg.png
END:VEVENT
END:VCALENDAR