BEGIN:VCALENDAR
VERSION:2.0
PRODID:-//CROSS 中性子科学センター（2019年アーカイブ） - ECPv5.14.1//NONSGML v1.0//EN
CALSCALE:GREGORIAN
METHOD:PUBLISH
X-WR-CALNAME:CROSS 中性子科学センター（2019年アーカイブ）
X-ORIGINAL-URL:https://archive2019nt.cross.or.jp
X-WR-CALDESC:CROSS 中性子科学センター（2019年アーカイブ） のイベント
BEGIN:VTIMEZONE
TZID:Asia/Tokyo
BEGIN:STANDARD
TZOFFSETFROM:+0900
TZOFFSETTO:+0900
TZNAME:JST
DTSTART:20220101T000000
END:STANDARD
END:VTIMEZONE
BEGIN:VEVENT
DTSTART;VALUE=DATE:20220828
DTEND;VALUE=DATE:20220902
DTSTAMP:20260426T035115
CREATED:20191210T050021Z
LAST-MODIFIED:20220801T071854Z
UID:12554-1661644800-1662076799@archive2019nt.cross.or.jp
SUMMARY:11th International Workshop on Sample Environment at Scattering Facilities
DESCRIPTION:ISSE workshop 2022 website has been renewed.　\nhttps://mlfinfo.jp/sp/isse2022/index.html\n\n \nArchive（old pages） \n \n \n \n \n 
URL:https://archive2019nt.cross.or.jp/events/200906-10/
CATEGORIES:ワークショップ
ATTACH;FMTTYPE=image/png:https://archive2019nt.cross.or.jp/wp/wp-content/uploads/2018/01/noimg.png
END:VEVENT
END:VCALENDAR