BEGIN:VCALENDAR
VERSION:2.0
PRODID:-//CROSS 中性子科学センター（2019年アーカイブ） - ECPv5.14.1//NONSGML v1.0//EN
CALSCALE:GREGORIAN
METHOD:PUBLISH
X-WR-CALNAME:CROSS 中性子科学センター（2019年アーカイブ）
X-ORIGINAL-URL:https://archive2019nt.cross.or.jp
X-WR-CALDESC:CROSS 中性子科学センター（2019年アーカイブ） のイベント
BEGIN:VTIMEZONE
TZID:Asia/Tokyo
BEGIN:STANDARD
TZOFFSETFROM:+0900
TZOFFSETTO:+0900
TZNAME:JST
DTSTART:20200101T000000
END:STANDARD
END:VTIMEZONE
BEGIN:VEVENT
DTSTART;VALUE=DATE:20200914
DTEND;VALUE=DATE:20200918
DTSTAMP:20260426T035147
CREATED:20200302T040423Z
LAST-MODIFIED:20200514T113858Z
UID:12978-1600041600-1600387199@archive2019nt.cross.or.jp
SUMMARY:【Postponement】The 9th annual Design and Engineering of Neutron Instruments Meeting(DENIM IX)
DESCRIPTION:【Important Notice】 \n\nDue to organizational difficulties resulting from the situation concerning the Coronavirus\, the DENIM IX hosted by J-PARC is postponed by 1 year. New date of DENIM IX will be announced later. \n\n \n\n　\n　\n　\n　\n	The 9th annual Design and Engineering of Neutron Instruments Meeting(DENIM IX) \n\n　\n　\n　\n\n  \nDate\n\nSeptember 14th (Mon) to 17th (Thu)\, 2020\n\n  \nVenue\n\nTokai-mura industry and information plaze “iVill”\n\n（3-1-1 Funaishikawa Eki Higashi\, Tokai\, Nakagun\, Ibaraki 319-1118） \n  \nScope\n\nWe are pleased to announce that the 9th annual Design and Engineering of Neutron Instruments Meeting (DENIM IX) will be hosted by J-PARC (Japan Proton Accelerator Research Complex) Center from September 14th to 17th\, 2020\, in Tokai\, Ibaraki\, Japan\, with a welcome reception at Mito the evening of September 14th. The meeting will include plenary sessions\, technical talks\, a poster session\, a banquet\, and a tour of J-PARC.　Furthermore\, the meeting will provide some satellite events including a joint DENIM-Sample Environment workshop on Friday\, 11th September\, RIKEN tour in Saitama on Sunday\, 13th September and 3rd annual ISNIE Summer School on Monday\, 14th September.\n　\nDENIM is the world’s largest and most important conference about Neutron Instrument Engineering. DENIM is held under the patronage of the International Society of Neutron Instrument Engineers (ISNIE). The ISNIE currently has close to 200 members from 32 different Institutes and Universities\, 20 countries\, and 16 corporations. DENIM has been previously held at neutron scattering facilities in England\, the U.S.\, Germany\, Hungary\, Sweden\, Australia\, and Switzerland. DENIM IX is being organized by J-PARC Center and will mark the first time DENIM has been held in Asia. We expect about 100 attendees this year. \n\n\n　\nISNIE website\n\n\n　\nWe are looking forward to seeing you in Tokai in 2020!\n　\nOn behalf of the Local Organizing Committee\nHiroshi SUZUKI\n(Materials Sciences Research Center/ J-PARC Center; Japan Atomic Energy Agency)\n\nHistory\nDENIM \n\n･I      　　2012　　　ISIS            United Kingdom\n･II     　　2013　　　ORNL         USA\n･III    　　2014　　　FZJ             Germany\n･IV    　　2015　　　BNC           Hungary\n･V     　　2016　　　ESS            Sweden\n･VI    　　2017　　　ANSTO       Australia\n･VII   　　2018　　　PSI             Switzerland\n･VIII  　　2019　　　NIST           USA\n･IX 　　　2020　　　J-PARC　　Japan\n\nOrganizers\n\nToshio ASAMI (The Institute for Solid State Physics\, The University of Tokyo)\nWataru KAMBARA (J-PARC Center; Japan Atomic Energy Agency)\nYukinobu KAWAKITA (J-PARC Center; Japan Atomic Energy Agency)\nKoji KIRIYAMA (Comprehensive Research Organization for Science and Society)\nWataru KAMBARA (J-PARC Center; Japan Atomic Energy Agency)\nRyota KOMINE(J-PARC Center; Japan Atomic Energy Agency)\nItaru TAMURA (Nuclear Science Research Institute\, Japan Atomic Energy Agency)\nShuki TORII (J-PARC Center; Institute of Materials Structure Science\, High Energy Accelerator Research Organization)\n\nSponsorship & Exhibition Opportunities\nThe 9th annual Design and Engineering of Neutron Instruments Meeting (DENIM IX) will provide an excellent opportunity to promote your company. It offers a unique platform for interacting with international researchers\, scientists\, and influential industry representatives. \n\n　\n\n\n●Sponsorship Packages\n\n\n　\n  *All Sponsors \n・Company name\, logo & link to Sponsor’s website on the DENIM website indicating sponsorship level\n・Company information in the program indicating sponsorship level Space varies by sponsorship level (see below) \n・Company logo shown on the AV Screen in welcoming presentation by DENIM IX chair\n・Inclusion of promotional materials within conference registration bag (at sponsor’s expense) \n\n\n　\n  *Gold sponsorship (US$3\,000)\n・Full page ad in program \n・An exhibition table in the area where posters\, breaks\, and/or lunches are being offered to facilitate interaction with the attendees\n・Short presentation in a plenary session\n・3-person entry to conference and conference banquet\n\n\n　\n  *Silver sponsorship (US$1\,500)\n・1/2 page ad in program \n・Logo print on the delegates bags\n・An exhibition table in the area where posters\, breaks\, and/or lunches are being offered to facilitate interaction with the attendees\n・1-person entry to conference and conference banquet\n\n\n　\n  *Bronze sponsorship (US$500)\n・1/4 page ad in program\n\n\n　\n　\n\n\n●Deadline: April 10\, 2020 \n　\n\n\n●Application form \nPlease download the application form by clicking here.\n\n[English]\n[Japanese]\n　\n\n\n●Contact \nWataru Kambara\nE-mail: kambara.wataru[at symbol]jaea.go.jp\n　\n　
URL:https://archive2019nt.cross.or.jp/events/200914-17_e/
LOCATION:Tokai-mura industry and an information plaza (AIVIRU)\, Naka-gun\,Tokai-mura\,Funaishikawaekihigashi\,3-1-1\, Ibaraki\, 319-1118\, Japan
CATEGORIES:Workshop
ATTACH;FMTTYPE=image/png:https://archive2019nt.cross.or.jp/wp/wp-content/uploads/2018/01/noimg.png
END:VEVENT
END:VCALENDAR