BEGIN:VCALENDAR
VERSION:2.0
PRODID:-//CROSS 中性子科学センター（2019年アーカイブ） - ECPv5.14.1//NONSGML v1.0//EN
CALSCALE:GREGORIAN
METHOD:PUBLISH
X-WR-CALNAME:CROSS 中性子科学センター（2019年アーカイブ）
X-ORIGINAL-URL:https://archive2019nt.cross.or.jp
X-WR-CALDESC:CROSS 中性子科学センター（2019年アーカイブ） のイベント
BEGIN:VTIMEZONE
TZID:Asia/Tokyo
BEGIN:STANDARD
TZOFFSETFROM:+0900
TZOFFSETTO:+0900
TZNAME:JST
DTSTART:20120101T000000
END:STANDARD
END:VTIMEZONE
BEGIN:VEVENT
DTSTART;TZID=Asia/Tokyo:20120116T080000
DTEND;TZID=Asia/Tokyo:20210303T170000
DTSTAMP:20260426T133325
CREATED:20210225T083343Z
LAST-MODIFIED:20210304T100229Z
UID:16440-1326700800-1614790800@archive2019nt.cross.or.jp
SUMMARY:CROSS-Tokai to Co-host the 1st CROSS-JASRI Workshop
DESCRIPTION:In their respective roles as Registered Institution for J-PARC and SPring-8\, CROSS-Tokai and JASRI will co-host the 1st CROSS-JASRI Workshop on Monday the 16th of January\, 2012. \nThe research theme of the first joint workshop in this series is the application of pulsed neutrons and synchrotron radiation to interface analysis and\, in particular\, the study of solar batteries: a potentially vital technology in the future energy mix of Japan and other countries. \nThe workshop aims to bring together facility staff\, users and experts in the field to explore ways in which these two world-class research facilities (J-PARC and SPring-8) may contribute to and collaborate in meeting the research challenges currently being faced in solar battery R&D. \nMore information\n\n1st CROSS-JASRI Workshop – New Opportunities for Neutrons and SR in Solar Battery R&D –\nImage Gallery
URL:https://archive2019nt.cross.or.jp/events/v12001e/
ATTACH;FMTTYPE=image/png:https://archive2019nt.cross.or.jp/wp/wp-content/uploads/2018/01/noimg.png
END:VEVENT
BEGIN:VEVENT
DTSTART;TZID=Asia/Tokyo:20130308T130000
DTEND;TZID=Asia/Tokyo:20130308T170000
DTSTAMP:20260426T133325
CREATED:20210226T085951Z
LAST-MODIFIED:20210226T085951Z
UID:16118-1362747600-1362762000@archive2019nt.cross.or.jp
SUMMARY:平成24年度 電池材料研究会
DESCRIPTION:概要\nJ-PARC/MLF に設置されている、茨城県材料構造解析装置（iMATERIA）や超高分解能粉末回折装置（SuperHRPD）、ならびに、新しく整備された RISING プロジェクトの電池専用回折装置 BL09（SPICA）の現状と概要を紹介する。また、これらの回折装置を利用して行われた、電池材料の結晶構造と電池特性との関連について報告するとともに、今後の研究展開について議論する。 \n共催\n中性子産業利用推進協議会茨城県中性子利用促進研究会J-PARC/MLF 利用者懇談会総合科学研究機構（CROSS） \n協賛\nSPring-8 利用推進協議会 \n開催日時\n2013年3月8日（金） 13:00～17:00 \n場所\n京都大学 東京オフィス第2、第3会議室〒108-6027 東京都港区港南2-15-1 品川インターシティA棟27階Tel: 03-5479-2220 \nプログラム\n\n\n13:00 – 13:05\n開会挨拶\n菅野了次主査\n\n\n13:05 – 13:25\nJ-PARC の概要と産業利用\n林眞琴 （茨城県）\n\n\n【電池研究用回折装置の現状】\n\n\n13:25 – 13:55\niMATERIA の現状と電池材料の研究\n石垣徹 （茨城大学）\n\n\n13:55 – 14:25\nSPICA の概要と利用計画\n米村雅雄 （KEK）\n\n\n【電池材料の構造解析方法】\n\n\n14:25 – 14:55\nZ-Code の現状と電池材料への適用例\n神山崇 （KEK）\n\n\n14:55 – 15:25\n固体電解質のMEM析（仮題）\n米村雅雄 （KEK）\n\n\n15:25 – 15:40\n休憩\n\n\n【電池材料の構造解析例】\n\n\n15:40 – 16:00\nRISING プロジェクトにおける中性子・放射光X線を用いた蓄電池材料のその場解析\n荒井創 （京都大学）\n\n\n16:00 – 16:20\nリチウムイオン電池正極材料の充放電過程における平均・局所構造と電子構造\n井手本康 （東京理科大学）\n\n\n16:20 – 16:40\n（題目未定）\n三井昭男 （トヨタ自動車）\n\n\n16:40 – 17:00\nRMC モデリングによるリチウムイオン伝導体の中距離構造解析\n森一広 （京都大学）\n\n\n懇親会\n研究会終了後、京都大学 東京オフィス第3会議室にて懇親会を開催します。参加費は￥2\,000です。是非ご参加ください。参加については当日受け付けます。 \n申込み先\n中性子産業利用推進協議会 事務局　桐原由美子Email: info@j-neutron.com下記の内容をご記入の上、メールでご連絡ください。——————————————– (1) お名前 (2) ご所属 (3) ご連絡先電話番号 (4) メールアドレス (5) 懇親会に、参加する・参加しない （どちらか消してください）——————————————– \n京都大学東京オフィスへのアクセス\n〒108-6027 東京都港区港南2-15-1 品川インターシティA棟27階Tel: 03-5479-2220 \nJR山手線品川駅東口徒歩約3分 \n\n        \n       \n懇親会のご案内\n会費： ￥2\,000時間： 17:30 ～ 19:30会場： 京都大学東京オフィス 第3会議室
URL:https://archive2019nt.cross.or.jp/events/v13005/
LOCATION:京都大学 東京オフィス\, 港南2-15-1 品川インターシティA棟27階\, 港区\, 東京都\, 108-6027\, Japan
ATTACH;FMTTYPE=image/png:https://archive2019nt.cross.or.jp/wp/wp-content/uploads/2018/01/noimg.png
END:VEVENT
END:VCALENDAR