BEGIN:VCALENDAR
VERSION:2.0
PRODID:-//CROSS 中性子科学センター（2019年アーカイブ） - ECPv5.14.1//NONSGML v1.0//EN
CALSCALE:GREGORIAN
METHOD:PUBLISH
X-WR-CALNAME:CROSS 中性子科学センター（2019年アーカイブ）
X-ORIGINAL-URL:https://archive2019nt.cross.or.jp
X-WR-CALDESC:CROSS 中性子科学センター（2019年アーカイブ） のイベント
BEGIN:VTIMEZONE
TZID:Asia/Tokyo
BEGIN:STANDARD
TZOFFSETFROM:+0900
TZOFFSETTO:+0900
TZNAME:JST
DTSTART:20210101T000000
END:STANDARD
END:VTIMEZONE
BEGIN:VEVENT
DTSTART;TZID=Asia/Tokyo:20210301T130000
DTEND;TZID=Asia/Tokyo:20210302T120000
DTSTAMP:20260426T035249
CREATED:20210204T065814Z
LAST-MODIFIED:20210409T080741Z
UID:15494-1614603600-1614686400@archive2019nt.cross.or.jp
SUMMARY:第7回パルス中性子イメージング研究会
DESCRIPTION:  \n・発表資料を掲載しました。プログラムをご覧ください。 \n（資料は公開可能なデータのみとなっており、一部削除されているデータもございますので、ご了承ください。） \n・開催報告を掲載しました。ご覧ください。https://neutron.cross.or.jp/ja/news/topics/210330top/ \n開催趣旨\n　中性子イメージング法は、中性子の持つ高い物質透過能力を活用した非破壊での物質内部観察・分析手法として、幅広く利用されている実験技術です。物質・生命科学実験施設（MLF）に建設された世界初のパルス中性子イメージング装置「螺鈿（らでん）」では、平成27年度より共用を開始し、エネルギー分析型イメージング法の開発に加えて、検出器の高度化（計数率、空間分解能の向上）、CT再構成技術の高度化などの技術開発も進めてきました。 \n　本研究会は、螺鈿におけるパルス中性子イメージング技術開発・利用研究の現状を広く紹介することを通じて、ユーザー利用の拡大や新しい中性子イメージング研究の展開に資することを目的とします。　特に今回はオンライン開催の利点を活かして海外からの螺鈿ユーザーであるオーストラリアニューカッスル大学のChristopher Wensrich教授に、螺鈿で実施したひずみのCT測定の成果についてご講演頂きます。また、名古屋大学の鬼柳善明先生が今年度で名古屋大学を退官されます。鬼柳善明先生は長年に渡り世界のパルス中性子イメージング法の開発を先導して来られました。ご退官を記念してこれまで携わってこられた中性子イメージング研究についてご講演頂きます。 \n　多くの方々のご参加をお待ちしております。 \n詳細\n日時：　2021年3月1日（月）　13：15～17：25\n　　　　2021年3月2日（火）　  9：30～11：45  \n開催形式：　Zoomによるオンライン  \n参加費：　無料  \n申し込み方法\n次の参加申し込みフォームからお申し込み下さい。  \n\n第7回パルス中性子イメージング研究会　参加申し込みフォーム\n\n当研究会は終了致しました。多くの方々のご参加ありがとうございました。\n＊後日Zoomの接続アドレスをご連絡いたします。\n＊参加申し込みフォームよりお申し込みできない場合は、下記事項をご記載の上、\n　第7回パルス中性子イメージング研究会事務局＜suishin-event[at]cross.or.jp（[at]を”@”に置き換えてください。）＞　までメールにてお申し込みください。  \n　　　　　（記載事項） \n　　　　　1.メールアドレス \n　　　　　2.ご所属 \n　　　　　3.お名前 \n　　　　　4.フリガナ \n＊参加受付自動配信メールが届かない場合も、研究会事務局までお問い合わせ下さい。 \n参加時の注意事項\n＊画面の保存、ビデオ録画及び録音はご遠慮ください。\n＊広報活動のため、研究会当日の状況を写真撮影させて頂きます。\n　撮影した写真（ 会場スクリーンや参加者の姿が写っているものを含む）をホームページ等に使用させて頂く場合がございます。\n　あらかじめご了承ください。 \n問い合わせ先\n一般財団法人総合科学研究機構 （CROSS)　中性子科学センター　林田洋寿：h_hayashida[at]cross.or.jp \n　　　　　　　　　　　　　　　　　　　　　　　　　　　　研究会事務局：suishin-event[at]cross.or.jp\n　　　　　　　　　　　　　　　　　　　　　　　　　　　　　　　　TEL：029-219-5300\n※[at]を”@”に置き換えてください。 \nプログラム　（敬称略）\n＊発表資料は【無断転載禁止・編集禁止】ですので、取扱いにご注意下さい。 \n\n\n\n【　2021年3月1日（月）　13：15～17：25　】\n\n\n13：15～13：20\n開会挨拶　　　鬼柳善明（名古屋大学）\n\n\n≪　施設報告　≫　　座長：　甲斐哲也（JAEA）\n\n\n13：20～13：45\nJ-PARCイメージング装置RADENの現状と利用状況　　　篠原武尚（JAEA）\n\n\n13：45～14：10\nKURにおける中性子イメージング設備の現状と共同利用研究　　　伊藤大介（京都大学複合原子力科学研究所）\n\n\n14：10～14：35\nJRR-3における中性子イメージング装置　　　栗田圭輔（JAEA）\n\n\n14：35～14：50\n休憩\n\n\n≪　特別講演　≫　　座長：　篠原武尚（JAEA）　\n\n14：50～15：30\n中性子イメージングと日本刀研究　　　鬼柳善明（名古屋大学）\n\n15：30～15：45\n休憩\n\n\n≪　開発・利用成果　≫　　座長：　林田洋寿（CROSS）　\n\n15：45～16：10\n共鳴中性子イメージングを用いた分離塔内の吸着・溶離挙動の可視化　　　宮崎康則（JAEA）\n\n16：10～16：35\n高分解能中性子ラミノグラフィ　　　　伊勢川和久（JAEA）\n\n16：35～17：00\n中性子エネルギー分析によるホウ素分布可視化技術開発　　　土川雄介（JAEA）\n\n17：00～17：25\nパルス中性子同期ラジオグラフィ測定による過渡現象観察　　　松本吉弘（CROSS）\n\n\n\n\n\n \n\n【　2021年3月2日（火）　9：30～11：45　】\n\n\n≪　特別講演　≫　　座長：　鬼柳善明（名古屋大学）　\n\n\n9：30〜10：10\n3D Bragg-edge neutron transmission strain tomography　　 Christopher Wensrich（The University of Newcastle\, Australia）\n\n10：10～10：25\n休憩\n\n\n≪　利用成果　≫　　座長：　瀬戸山大吾（株式会社　豊田中央研究所）　\n\n10：25～10：50\n中性子イメージングによる固体高分子型燃料電池の開発　　　犬飼潤治（山梨大学）\n\n\n10：50～11：15\n偏極中性子を用いた異方性磁石の磁化イメージング　　　笹田星児（株式会社デンソー）\n\n\n11：15～11：40\n中性子ブラッグディップイメージングによるTlBr結晶の観察　　　渡辺賢一（名古屋大学）\n\n\n11：40～11：45\n閉会挨拶　　　林田洋寿（CROSS）\n\n\n運営組織\n主催\nJ-PARCセンター\n一般財団法人 総合科学研究機構（CROSS）中性子科学センター \n共催\nJ-PARC MLF利用者懇談会
URL:https://archive2019nt.cross.or.jp/events/20210301-0302/
LOCATION:Web形式
CATEGORIES:研究会
ATTACH;FMTTYPE=image/png:https://archive2019nt.cross.or.jp/wp/wp-content/uploads/2018/01/noimg.png
END:VEVENT
END:VCALENDAR