BEGIN:VCALENDAR
VERSION:2.0
PRODID:-//CROSS 中性子科学センター（2019年アーカイブ） - ECPv5.14.1//NONSGML v1.0//EN
CALSCALE:GREGORIAN
METHOD:PUBLISH
X-WR-CALNAME:CROSS 中性子科学センター（2019年アーカイブ）
X-ORIGINAL-URL:https://archive2019nt.cross.or.jp
X-WR-CALDESC:CROSS 中性子科学センター（2019年アーカイブ） のイベント
BEGIN:VTIMEZONE
TZID:Asia/Tokyo
BEGIN:STANDARD
TZOFFSETFROM:+0900
TZOFFSETTO:+0900
TZNAME:JST
DTSTART:20210101T000000
END:STANDARD
END:VTIMEZONE
BEGIN:VEVENT
DTSTART;TZID=Asia/Tokyo:20210330T133000
DTEND;TZID=Asia/Tokyo:20210330T170000
DTSTAMP:20260426T035045
CREATED:20210205T010757Z
LAST-MODIFIED:20210205T010757Z
UID:15487-1617111000-1617123600@archive2019nt.cross.or.jp
SUMMARY:2020年度　中性子構造生物学研究会
DESCRIPTION:テーマ\n新世代中性子構造生物学　－相関構造解析と産業利用への展開－ \n趣旨\n　中性子散乱を利用してタンパク質の構造・機能解析を目指す「新世代中性子構造生物学」には様々な研究手法を組合せて相乗的に利用する相関構造解析が必須です。　本研究会ではタンパク質の構造・機能解析における様々な相関構造解析を紹介し、「新世代中性子構造生物学」が目指す産業利用への展開を探っていきます。 \n主催\nJ-PARC MLF利用者懇談会 \n共催\n中性子産業利用推進協議会\n茨城県中性子利用研究会\n一般財団法人 総合科学研究機構（CROSS）中性子科学センター
URL:https://archive2019nt.cross.or.jp/events/20210330/
LOCATION:Web形式
CATEGORIES:研究会
ATTACH;FMTTYPE=image/png:https://archive2019nt.cross.or.jp/wp/wp-content/uploads/2018/01/noimg.png
END:VEVENT
END:VCALENDAR