BEGIN:VCALENDAR
VERSION:2.0
PRODID:-//CROSS 中性子科学センター（2019年アーカイブ） - ECPv5.14.1//NONSGML v1.0//EN
CALSCALE:GREGORIAN
METHOD:PUBLISH
X-WR-CALNAME:CROSS 中性子科学センター（2019年アーカイブ）
X-ORIGINAL-URL:https://archive2019nt.cross.or.jp
X-WR-CALDESC:CROSS 中性子科学センター（2019年アーカイブ） のイベント
BEGIN:VTIMEZONE
TZID:Asia/Tokyo
BEGIN:STANDARD
TZOFFSETFROM:+0900
TZOFFSETTO:+0900
TZNAME:JST
DTSTART:20210101T000000
END:STANDARD
END:VTIMEZONE
BEGIN:VEVENT
DTSTART;TZID=Asia/Tokyo:20210610T133000
DTEND;TZID=Asia/Tokyo:20210610T170000
DTSTAMP:20260426T045903
CREATED:20210513T065140Z
LAST-MODIFIED:20210513T065140Z
UID:17116-1623331800-1623344400@archive2019nt.cross.or.jp
SUMMARY:電池材料研究会
DESCRIPTION:テーマ\n「急速に市場拡大する二次電池の課題と量子ビームを用いた取り組み」 \n趣旨\n　電池分野については、これまでLiイオン電池をはじめとして、燃料電池など幅広く研究され、紹介されています。　本研究会では、それらを背景に、改めて二次電池に注目し、その動向、量子ビームを用いた解析の成果について報告し、議論を行う場とします。今回はその第１回目として、二次電池の最近の動向について、紹介をいただきます。 \n主催\n中性子産業利用推進協議会（IUSNA)\n一般財団法人　総合科学研究機構（CROSS）中性子科学センター \n共催\n茨城県中性子利用研究会 \n協賛\nJ-PARC　MLF利用者懇談会
URL:https://archive2019nt.cross.or.jp/events/20210610/
LOCATION:Web形式
CATEGORIES:研究会
ATTACH;FMTTYPE=image/png:https://archive2019nt.cross.or.jp/wp/wp-content/uploads/2018/01/noimg.png
END:VEVENT
END:VCALENDAR