BEGIN:VCALENDAR
VERSION:2.0
PRODID:-//CROSS 中性子科学センター（2019年アーカイブ） - ECPv5.14.1//NONSGML v1.0//EN
CALSCALE:GREGORIAN
METHOD:PUBLISH
X-WR-CALNAME:CROSS 中性子科学センター（2019年アーカイブ）
X-ORIGINAL-URL:https://archive2019nt.cross.or.jp
X-WR-CALDESC:CROSS 中性子科学センター（2019年アーカイブ） のイベント
BEGIN:VTIMEZONE
TZID:Asia/Tokyo
BEGIN:STANDARD
TZOFFSETFROM:+0900
TZOFFSETTO:+0900
TZNAME:JST
DTSTART:20210101T000000
END:STANDARD
END:VTIMEZONE
BEGIN:VEVENT
DTSTART;TZID=Asia/Tokyo:20210715T130000
DTEND;TZID=Asia/Tokyo:20210716T180000
DTSTAMP:20260426T035206
CREATED:20210422T071258Z
LAST-MODIFIED:20210720T045839Z
UID:16478-1626354000-1626458400@archive2019nt.cross.or.jp
SUMMARY:令和3年度J-PARC MLF産業利用報告会
DESCRIPTION:開催趣旨\n　このJ-PARC MLF 産業利用報告会は平成29（2017）年から毎年7月にJ-PARCセンター、CROSS、茨城県、中性子産業利用推進協議会、4者の共同主催で開催されてきました。令和2年度はCOVID-19のため中止となりましたが、令和3年度はオンラインで開催することに致します。 \n　この報告会は「MLFの産業利用への取組を振返り、今後の方向性を示す」ことを目的としますが、足元では産業界の方々から、中性子・ミュオンで何が分かるのか、どう使えるのかを改めて知りたいとの要望があります。それに応えるために今後3年間は「中性子・ミュオンで何が見えるか」「何に使えるか」に焦点を絞り、産業界の方の「見たいもの」とのマッチングを図ることに重点を置くこととしました。今年度の開催概要は下記のとおりです。 \n　目　的：「MLFの産業利用への取組を振返り、今後の方向性を示す。 \n　テーマ：「中性子やミュオンで何が見えるか、今後何が見えるようになるか」 \n　日　時：7月15日および7月16日（Zoom） \nまた、下記のような視点に立ってプログラムを編成致します。 \n　①（産業界）利用の現状、施設に何を望むのか、必要な技術とは何かを示す \n　②（施設側）施設が提供できる技術とその限界を示す \n　③（共同研究グループ）MLFで始動した共同研究の成果を示す \n　④ 研究用原子炉JRR-3との協調や産業利用について報告する \n皆様ぜひご参加いただきますよう、お願い致します。 \n　　　　　　　　　　　　　　　　　　　　　　　　　　　　　　　　　　　　　　　　J-PARCセンター \n　　　　　　　　　　　　　　　　　　　　　　　　　　　　　　　　　　　　　　　　物質・生命科学ディビジョン（J-PARC MLF） \n　　　　　　　　　　　　　　　　　　　　　　　　　　　　　　　　　　　　　　　　ディビジョン長　大友　季哉 \n開催場所\nオンライン（Zoom） \n参加費\n無料 \n参加申し込み\n次の参加申し込みフォームからお申し込み下さい。\n【Web受付終了しました】令和3年度J-PARC MLF産業利用報告会　参加申し込みフォーム\n　　申込締切（延長しました）：2021年7月12日（月）12:00→17:00 \n＊お申込み受付後、受付通知メールを送付させて頂きます。受付通知メールが届かない場合は、 \n　J-PARC MLF産業利用報告会事務局＜industry@cross.or.jp＞までご連絡下さい。 \n＊後日Zoomの接続アドレスをご連絡致します。 \n注）参加申し込みフォームがご利用できない場合は、下記事項をご記入の上、 \n　　J-PARC MLF産業利用報告会事務局＜industry@cross.or.jp＞までメールにてお申込み下さい。 \n\n　　　　＜参加申し込みフォームが利用できない場合の記載事項＞ \n　　　　　1.お名前 \n　　　　　2.フリガナ \n　　　　　3.ご所属 \n　　　　　4.メールアドレス \n　　　　　5.参加のご予定 \n　　　　　　7/15（木）13:00～　J-PARC MLF産業利用報告会(1日目) 　　参加する・参加しない \n　　　　　　7/16（金） 9:30～　J-PARC MLF産業利用報告会(2日目) 　　参加する・参加しない \n　　　　　6.連絡事項 \n　　　　　　事務局へ連絡があればご記入下さい。 \n参加時の注意事項\n＊画面の保存、ビデオ録画及び録音はご遠慮下さい。\n＊広報活動のため、報告会当日の状況を画面保存させて頂きます。\n　画面保存した画像データをホームページ等に使用させて頂く場合がございます。\n　あらかじめご了承下さい。 \nプログラム\n7月15日(木)\n\n\n\n司会：曽山　和彦（J-PARC）\n\n\n13:00～13:10\n開会挨拶\n小林　隆　J-PARCセンター長\n\n\n13:10～13:20\n文部科学省挨拶\n千原　由幸　科学技術・学術政策局長\n\n\nセッション1：施設報告と産業利用の現状と期待　座長：野間　敬（CROSS）\n\n\n13:20～13:40\nMLFの現状\n大友　季哉（J-PARC)\n\n\n13:40～14:00\nMLFにおける産業利用促進に係る活動について\n柴山　充弘（CROSS）\n\n\n14:00～14:20\nJRR-3の現状と今後の産業利用\n武田　全康（JAEA）\n\n\n14:20～14:40\n産業界が中性子に期待するもの\n志満津　孝（IUSNA）\n\n\n14:40～14:50\n休憩\n\n\nセッション2：MLFでの産学連携活動I　座長：日比　政昭（IUSNA）\n\n\n14:50～15:10\nJ-PARCとの連携による取組とタイヤ用ゴム材料開発における成果\n増井　友美（住友ゴム工業株式会社）\n住友ゴム工業ではJ-PARCフェローシップ制度などを活用しながらJ-PARCの利用を進めてきました。本発表では、フェローシップ制度で得られた連携の成果を中心にJ-PARC活用による成果を報告致します。\n\n\n15:10～15:30\n建築業界企業連合における中性子ビーム利用の取り組みと成果\n奥野　功一（安藤ハザマ）\n建設業界の企業連合を中心に、従来は正確な評価が困難であったコンクリートのひび割れ注入効果を中性子ビームを利用して評価する研究を進めています。本報告では、現在までに実施した内容と成果について紹介します。\n\n\n15:30～15:50\n機能性高分子コンソーシアムの活動と成果\n宮﨑　司（CROSS）\n中性子を使った高分子材料の機能設計のため、産学施設が連携してコンソーシアムを設立しました。設立から2年半での活動内容と、産業上および学術上の成果について報告します。\n\n\n15:50～16:00\n休憩\n\n\n特別講演Ⅰ　座長：富安　啓輔（株式会社日産アーク）\n\n\n16:00～16:25\n燃料電池車普及に向けた中性子への期待\n雨宮　一樹（技術研究組合FC-Cubic)\n2050年のカーボンニュートラルに向け、燃料電池普及は重要なテーマです。NEDO事業では2020年度からPEFC研究専用の評価解析プラットフォームを始動しました。本講演では中性子利用への期待を述べます。\n\n\nセッション3：MLFでの産学連携活動II（豊田中研×J-PARC連携）　座長：長井　康貴（株式会社豊田中央研究所）\n\n\n16:25～16:30\n全体概要\n葛谷　孝史（株式会社豊田中央研究所）/大友　季哉（J-PARC）\n\n\n16:30～16:45\n燃料電池触媒層におけるアイオノマの構造と水のダイナミクス\n原田　雅史（株式会社豊田中央研究所）/伊藤　華苗（J-PARC）\n燃料電池の電気化学反応を担う触媒層において、水を含むアイオノマのプロトン伝導が発電性能に大きく寄与しています。そこで、小角中性子散乱・中性子反射率・中性子準弾性散乱によって触媒層中の、アイオノマの構造と水のダイナミクスとを評価し、それらがプロトン伝導に及ぼす影響を考察しました。\n\n\n16:45～17:00\nパルス中性子による燃料電池内の水/氷識別イメージング\n樋口　雄紀（株式会社豊田中央研究所）/伊勢川　和久（J-PARC）\n燃料電池の氷点下始動性を向上するために、内部における水の凍結挙動を明らかにする必要があります。BL22(螺鈿)のパルス中性子イメージング装置で、冷中性子の断面積が水と氷とで異なる性質を利用して、車載用燃料電池流路を模擬した試料内部における水/氷分布とその変化を可視化できました。\n\n\n17:00～17:15\n中性子イメージングによるパワーモジュールの内部可視化\n瀬戸山　大吾（株式会社豊田中央研究所）/伊勢川　和久（J-PARC）\nパワーモジュールの高性能化、高信頼化はモビリティの電動化推進に欠かせません。本発表ではX線では内部可視化が困難な、銅による両面冷却型パワーモジュールの高分解能イメージングをBL22(螺鈿)の中性子イメージング装置で実施した結果を報告します。\n\n\n17:15～17:30\nミュオン特性X線によるリチウムイオン電池内部の観察\n梅垣　いづみ（株式会社豊田中央研究所）\nJ-PARC MLFの大強度負ミュオンビームを活用した、ミュオン特性X線によるリチウムイオン電池内部の非破壊分析にKEKとの共同研究を通じて取り組みました。金属リチウム析出と正極内のリチウムの観測について報告します。\n\n\n7月16日（金）\n\n\n2日目\n\n9:25～9:30\n2日目開会挨拶\n鬼柳　亮嗣（実行委員長／J-PARC)\n\n\n特別セッション：水圏機能材料の創成と計測　座長：柴山　充弘（CROSS）\n\n\n9:30～10:20\n文部科学省科学研究費新学術領域研究「水圏機能材料」における取り組みと成果・今後の展望（特別講演）\n加藤　隆史（東京大学）\n\n\n\n10:20～10:50\n生体親和性高分子に水和する水のダイナミクス\n瀬戸　秀紀（KEK）\nECMOなどの医療機器に用いられる生体親和性高分子に水和している水の運 動状態を中性子準弾性散乱を用いて調べ、バルク水とは違う状態の水が存在して いることが明らかになりました。\n\n\n10:50～11:00\n休憩\n\n\n特別講演Ⅱ　座長：桜井　宏子（DIC株式会社）\n\n\n11:00～11:50\n材料開発を加速する先端分析事例と中性子への期待\n石切山　一彦・中田　克・山根　常幸（株式会社東レリサーチセンター）\n材料・素材分野では、激しい国際競争に打ち勝つためにも、R&Dの加速が強く求められています。本講演では、データサイエンスの活用をはじめ、炭素材料やライフサイエンス関連材料等に関する、中性子利用を含めた先端分析事例について紹介します。\n\n\n11:50～13:00\n昼食\n\n\n13:00～14:50\nポスターセッション　座長：鬼柳　亮嗣（J-PARC）\n\n\n\n\nポスターセッション一覧\n\n\n14:50～15:00\n休憩\n\n\nセッション4：小角散乱／反射率測定を用いた成果　座長：堀　耕一郎（住友ゴム工業株式会社）\n\n\n15:00～15:20\n小角中性子散乱を用いた新規ポリブタジエンーウレタン共重合体の構造解析\n五十嵐　貴亮（株式会社ブリヂストン）\n近年、CO2削減の社会的要請は高まり、自動車用タイヤにおいても、低燃費化、省資源化が求められています。一方、タイヤでは、高い耐久性と燃費の良さはトレードオフの関係にあります。この問題は、水素結合が従来の化学結合とは異なるエネルギー散逸のひずみ依存性を示すことから、タイヤ用ゴムに水素結合を導入することで解決できる可能性があります。本研究では、ポリブタジエンとオレフィン含有ポリウレタンの供給比率を変えることで、ポリマー主鎖に水素結合の源となるウレタン結合を持つ一連の新規重水素化ポリブタジエン（d-PBU）を合成し、この水素結合がポリマー構造に及ぼす影響を調べるために，原子間力顕微鏡（AFM）と中性子小角散乱（SANS）を用いて構造改解析を行った事例を報告します。\n\n\n15:20～15:40\nDNP-SANSを用いた含水PVAフィルムの構造解析\n稲田　誠亮・津村　佳弘（株式会社クラレ）\nDNP-SANSは従来の重水素導入法よりも広い範囲でのコントラストバリエーション測定が可能となる先進的構造解析手法です。しかし、これまでにDNP-SANSは合成ゴムやブロックポリマーなどの疎水性・非結晶性高分子を中心に適用されており、親水性・結晶性高分子には適用されていませんでした。そこで、本発表では 親水性・結晶性高分子であるポリビニルアルコールへの DNP-SANS 適用のための検討と、測定結果および解析結果について報告します。\n\n\n15:40～16:00\n調湿環境下でみえてきたフェノール樹脂／シリカ界面の不均一構造\n和泉　篤士（住友ベークライト株式会社）\nガラス繊維強化フェノール樹脂は、自動車用樹脂部品などに広く使用される複合材です。複合材としての特性を最大限に発揮するためには、樹脂とガラス繊維の接着信頼性が特に重要となりますが、接着に関与する界面構造の詳細は解明されていませんでした。今回、BL17の調湿セルを活用したコントラスト変調中性子反射率解析により、その界面構造の存在を初めて明らかとしました。\n\n\n16:00～16:20\n90度磁気結合を用いた磁性積層膜の磁化配列定量化\n湯浅　裕美（九州大学）\n自然界に存在する強磁性体と反強磁性体の中間的な材料として、隣り合う磁区の磁化が反平行な疑似反強磁性を90度磁気結合を用いて創製しました。疑似反強磁性は2nm程度と薄く、さらに周囲の磁性層からの信号が重畳するため、一般の磁化測定では磁化定量化が難しい。本研究では、PNRを用いて2nmという薄い疑似反強磁性層のノンコリニア成分であるネールベクトルを定量化することに成功しました。\n\n\n16:20～16:30\n休憩\n\n\nセッション5：イメージング／ミュオンを用いた成果　座長：竹下　聡史（KEK）\n\n\n16:30～16:50\n中性子イメージングによる玉軸受内グリースの流動観察\n酒井　一泉（ENEOS株式会社中央技術研究所）\n軸受内部のグリースの流動状態を中性子イメージングを用いて可視化することにより、グリースのチャネリングやチャーニングといった現象を非破壊で観察することに成功しました。チャネリングやチャーニングはグリースの省エネルギー性とも相関していることを確認できました。\n\n\n16:50～17:10\nエネルギー分析型イメージングを用いた、自動車用モータのための永久磁石材・電磁鋼板材の研究\n笹田　星児（株式会社デンソー 計測技術部）\n自動車部品の電動化が急速に加速している昨今、モータの小型高出力が急務とされています。本報告では、中性子のエネルギー情報を活用しモータの構成部品である永久磁石の磁化状態、電磁鋼板材の加工ひずみの評価を行った結果を報告します。\n\n\n17:10～17:30\n宇宙線ミュオン起因半導体ソフトエラー率の評価に向けた取り組み\n渡辺　幸信（九州大学）\n地上に降り注ぐ二次宇宙線ミュオンが引き起こす半導体ソフトエラーの発生率を推定・評価するために、MUSEで実施した測定とシミュレーション結果を報告いたします。\n\n\n17:30～17:50\n擬似水素ミュオンと第一原理計算で調べたIGZO中の水素の電子状態\n平石　雅俊（KEK）\n半導体などの機能性材料において、不純物として含まれる微量水素が電気伝導などの特性を左右しうることが明らかになってきています。本発表では、水素の軽い同位体であるミュオンと第一原理計算の組み合わせによって調べた、半導体InGaZnO4 (IGZO) 中の水素の電子状態について報告いたします。\n\n\n17:50～18:00\n閉会挨拶\n柴山　充弘　CROSS中性子科学センター長\n\n\n運営組織\n主催\nJ-PARCセンター（JAEA&KEK）\n総合科学研究機構（CROSS）中性子科学センター\n茨城県\n中性子産業利用推進協議会 \n共催\nJ-PARC MLF利用者懇談会 \n協賛：順不同\n（一財）高度情報科学技術研究機構（RIST）、応用物理学会、高分子学会、（公財）高輝度光科学研究センター（JASRI）、SPring-8ユーザー協同体（SPRUC）、SPring-8利用推進協議会、繊維学会、電気学会、日本化学会、日本金属学会、日本結晶学会、日本ゴム協会、日本材料学会、日本磁気学会、日本生物物理学会、日本接着学会、日本セラミックス協会、日本蛋白質科学会、日本中間子科学会、日本中性子科学会、日本鉄鋼協会、日本非破壊検査協会、日本放射光学会、日本物理学会、日本薬学会、PFユーザーアソシエーション（PF-UA）、フロンティアソフトマター開発専用ビームライン産学連合体（FSBL） \n問合せ先\nJ-PARC MLF産業利用報告会事務局 \n一般財団法人総合科学研究機構 中性子科学センター \n小西 盛也・大内 薫・黒澤 理恵 \n　　e-mail：industry@cross.or.jp \n　　TEL：029-219-5300 \n　　FAX：029-219-5311
URL:https://archive2019nt.cross.or.jp/events/20210715-16/
LOCATION:オンライン
CATEGORIES:報告会
ATTACH;FMTTYPE=image/png:https://archive2019nt.cross.or.jp/wp/wp-content/uploads/2018/01/noimg.png
END:VEVENT
END:VCALENDAR