BEGIN:VCALENDAR
VERSION:2.0
PRODID:-//CROSS 中性子科学センター（2019年アーカイブ） - ECPv5.14.1//NONSGML v1.0//EN
CALSCALE:GREGORIAN
METHOD:PUBLISH
X-WR-CALNAME:CROSS 中性子科学センター（2019年アーカイブ）
X-ORIGINAL-URL:https://archive2019nt.cross.or.jp
X-WR-CALDESC:CROSS 中性子科学センター（2019年アーカイブ） のイベント
BEGIN:VTIMEZONE
TZID:Asia/Tokyo
BEGIN:STANDARD
TZOFFSETFROM:+0900
TZOFFSETTO:+0900
TZNAME:JST
DTSTART:20210101T000000
END:STANDARD
END:VTIMEZONE
BEGIN:VEVENT
DTSTART;TZID=Asia/Tokyo:20210901T120000
DTEND;TZID=Asia/Tokyo:20210902T170000
DTSTAMP:20260426T035206
CREATED:20210728T083446Z
LAST-MODIFIED:20210728T083446Z
UID:17853-1630497600-1630602000@archive2019nt.cross.or.jp
SUMMARY:第18回SPring-8産業利用報告会
DESCRIPTION:概要\n　SPring-8では、最先端の学術研究と産業利用の推進による産業振興への貢献が重要な使命であり、共用ビームラインや専用ビームラインを中心に広い範囲における産業利用が行われています。今年も、本報告会を通じ、産業界における放射光の成果・有効性を多くの方に知っていただくと共に、SPring-8利用者の相互交流を目的とする産業利用報告会を神戸国際会議場で9月1日・2日に開催します。\n　開催は、SPring-8の専用ビームラインを運営する、産業用専用ビームライン建設利用共同体（サンビーム）・兵庫県・豊田中央研究所の3団体、および高輝度光科学研究センター（JASRI）の年次報告会をジョイントして構成したものであり、口頭発表およびポスター発表形式にて実施します。\nさらに今回は、SPring-8の産業利用に関する団体からの発表も予定しており、様々な関連団体等との情報共有および連携を図ることも目的としております。　SPring-8における最新の産業利用の状況、研究成果を知る絶好の機会ですので、奮ってご参加ください。 \n主催\n産業用専用ビームライン建設利用共同体（サンビーム）\n兵庫県\n（株）豊田中央研究所\nSPring-8利用推進協議会\n高輝度光科学研究センター \n後援\n理化学研究所 放射光科学研究センター\nSPring-8ユーザー協同体（SPRUC）\nフロンティアソフトマター開発専用ビームライン産学連合体（FSBL）\n総合科学研究機構（CROSS） 中性子科学センター\n高度情報科学技術研究機構（RIST）\n中性子産業利用推進協議会（IUSNA)\nあいちシンクロトロン光センター\n佐賀県立九州シンクロトロン光研究センター\n茨城県
URL:https://archive2019nt.cross.or.jp/events/20210901-0902/
LOCATION:ハイブリット形式
CATEGORIES:報告会
ATTACH;FMTTYPE=image/png:https://archive2019nt.cross.or.jp/wp/wp-content/uploads/2018/01/noimg.png
END:VEVENT
END:VCALENDAR