BEGIN:VCALENDAR
VERSION:2.0
PRODID:-//CROSS 中性子科学センター（2019年アーカイブ） - ECPv5.14.1//NONSGML v1.0//EN
CALSCALE:GREGORIAN
METHOD:PUBLISH
X-WR-CALNAME:CROSS 中性子科学センター（2019年アーカイブ）
X-ORIGINAL-URL:https://archive2019nt.cross.or.jp
X-WR-CALDESC:CROSS 中性子科学センター（2019年アーカイブ） のイベント
BEGIN:VTIMEZONE
TZID:Asia/Tokyo
BEGIN:STANDARD
TZOFFSETFROM:+0900
TZOFFSETTO:+0900
TZNAME:JST
DTSTART:20210101T000000
END:STANDARD
END:VTIMEZONE
BEGIN:VEVENT
DTSTART;TZID=Asia/Tokyo:20211021T093500
DTEND;TZID=Asia/Tokyo:20211021T170000
DTSTAMP:20260426T034254
CREATED:20210819T040125Z
LAST-MODIFIED:20211012T040457Z
UID:18173-1634808900-1634835600@archive2019nt.cross.or.jp
SUMMARY:2021年度中性子実験技術基礎講習会（レベル1講習会）
DESCRIPTION:開催趣旨\n　中性子実験技術の初心者の方を対象に中性子実験技術の基礎的事項を紹介し、中性子実験施設（J-PARC MLF、 JRR-3等）での実験計画立案や課題申請に役立てていただくことを目的として、中性子実験技術基礎講習会（レベル１講習会）を開催します。本年度もZoomによるリモートでの開催となります。皆様のご参加をお待ちしております。\n　なお、今回は講習会終了後、復習を行うことができるよう、当日の講師の先生方のご講演を録画し、特設サイトにて期間限定で視聴いただくことができるようにする予定です。 \n主催\n日本中性子科学会（JSNS）\n中性子産業利用推進協議会（IUSNA）\n（一財）総合科学研究機構（CROSS）中性子科学センター \n \n共催\n茨城県中性子利用研究会
URL:https://archive2019nt.cross.or.jp/events/20211021/
LOCATION:Web形式
CATEGORIES:講習会
ATTACH;FMTTYPE=image/png:https://archive2019nt.cross.or.jp/wp/wp-content/uploads/2018/01/noimg.png
END:VEVENT
END:VCALENDAR