BEGIN:VCALENDAR
VERSION:2.0
PRODID:-//CROSS 中性子科学センター（2019年アーカイブ） - ECPv5.14.1//NONSGML v1.0//EN
CALSCALE:GREGORIAN
METHOD:PUBLISH
X-WR-CALNAME:CROSS 中性子科学センター（2019年アーカイブ）
X-ORIGINAL-URL:https://archive2019nt.cross.or.jp
X-WR-CALDESC:CROSS 中性子科学センター（2019年アーカイブ） のイベント
BEGIN:VTIMEZONE
TZID:Asia/Tokyo
BEGIN:STANDARD
TZOFFSETFROM:+0900
TZOFFSETTO:+0900
TZNAME:JST
DTSTART:20210101T000000
END:STANDARD
END:VTIMEZONE
BEGIN:VEVENT
DTSTART;VALUE=DATE:20211206
DTEND;VALUE=DATE:20211210
DTSTAMP:20260426T045928
CREATED:20211004T025954Z
LAST-MODIFIED:20211202T043115Z
UID:18360-1638748800-1639094399@archive2019nt.cross.or.jp
SUMMARY:KEK-IINAS School The 5th Neutron and Muon School
DESCRIPTION:開催趣旨\n中性子・ミュオンユーザーの裾野拡大や関連分野の若手育成を目的とし、第5回中性子・ミュオンスクールを開催します。中性子科学、ミュオン科学の基礎に関する講義を学習した後、オンライン形式ではありますが実際に実験装置を用いた実習を行うことで、その理解を深めることができるプログラムとなっています（講義のみの参加も可）。中性子科学及びミュオン科学に興味がある国内外の大学院生、若手研究者の多くの皆さんのご応募をお待ちしています。 \n\n対象者：大学院生、ポスドク、若手研究者（アカデミック、企業）\n定員：30名程度（講義のみの参加者は定員制限なし）\n内容：中性子・ミュオン科学の基礎とその応用に関する講義とMLFでのデータ解析実習\n使用言語：基本的に英語\n応募締切：2021年12月1日　※締め切りました。\n参加費：無料\n\nこちらのサイトをご覧ください。\nhttps://mlfinfo.jp/sp/school/5th-nms/index.html
URL:https://archive2019nt.cross.or.jp/events/20211206-09/
LOCATION:Web形式
ATTACH;FMTTYPE=image/png:https://archive2019nt.cross.or.jp/wp/wp-content/uploads/2018/01/noimg.png
END:VEVENT
END:VCALENDAR