BEGIN:VCALENDAR
VERSION:2.0
PRODID:-//CROSS 中性子科学センター（2019年アーカイブ） - ECPv5.14.1//NONSGML v1.0//EN
CALSCALE:GREGORIAN
METHOD:PUBLISH
X-WR-CALNAME:CROSS 中性子科学センター（2019年アーカイブ）
X-ORIGINAL-URL:https://archive2019nt.cross.or.jp
X-WR-CALDESC:CROSS 中性子科学センター（2019年アーカイブ） のイベント
BEGIN:VTIMEZONE
TZID:Asia/Tokyo
BEGIN:STANDARD
TZOFFSETFROM:+0900
TZOFFSETTO:+0900
TZNAME:JST
DTSTART:20220101T000000
END:STANDARD
END:VTIMEZONE
BEGIN:VEVENT
DTSTART;VALUE=DATE:20220307
DTEND;VALUE=DATE:20220310
DTSTAMP:20260426T035250
CREATED:20211006T082740Z
LAST-MODIFIED:20211006T082740Z
UID:18369-1646611200-1646870399@archive2019nt.cross.or.jp
SUMMARY:2021年度量子ビームサイエンスフェスタ
DESCRIPTION:詳しくはこちらをご覧ください \nhttps://mlfinfo.jp/sp/qbs-festa/2021/ \n主催\n高エネルギー加速器研究機構 物質構造科学研究所 \nJ-PARCセンター \n総合科学研究機構（CROSS） \nPFユーザーアソシエーション（PF-UA） \nJ-PARC MLF利用者懇談会 \n開催方法\nオンライン
URL:https://archive2019nt.cross.or.jp/events/20220307-0309/
LOCATION:オンライン
CATEGORIES:シンポジウム
ATTACH;FMTTYPE=image/png:https://archive2019nt.cross.or.jp/wp/wp-content/uploads/2018/01/noimg.png
END:VEVENT
END:VCALENDAR