BEGIN:VCALENDAR
VERSION:2.0
PRODID:-//CROSS 中性子科学センター（2019年アーカイブ） - ECPv5.14.1//NONSGML v1.0//EN
CALSCALE:GREGORIAN
METHOD:PUBLISH
X-WR-CALNAME:CROSS 中性子科学センター（2019年アーカイブ）
X-ORIGINAL-URL:https://archive2019nt.cross.or.jp
X-WR-CALDESC:CROSS 中性子科学センター（2019年アーカイブ） のイベント
BEGIN:VTIMEZONE
TZID:Asia/Tokyo
BEGIN:STANDARD
TZOFFSETFROM:+0900
TZOFFSETTO:+0900
TZNAME:JST
DTSTART:20220101T000000
END:STANDARD
END:VTIMEZONE
BEGIN:VEVENT
DTSTART;TZID=Asia/Tokyo:20220520T133000
DTEND;TZID=Asia/Tokyo:20220520T165500
DTSTAMP:20260426T035043
CREATED:20220407T010347Z
LAST-MODIFIED:20220421T052205Z
UID:19874-1653053400-1653065700@archive2019nt.cross.or.jp
SUMMARY:第77回SPring-8先端利用技術ワークショップ/第2回放射光・中性子連携利用研究会/第1回量子ビームを用いた構造材料研究会
DESCRIPTION:開催趣旨\n　構造材料分野における共通の技術的課題やその課題解決に資する量子ビーム活用の現状と可能性について、量子ビーム利用の未経験者を含む本分野の研究者間で情報共有を行い新規利用の開拓を目指します。多様な材料の活用を対象とする本分野において、それぞれの材料分野で抱えている技術課題の現状を把握して、その中から構造材料として共通する課題を見出すことを目指した議論を進め、その過程で構造材料開発の促進に貢献する量子ビーム活用方法を提案することを目標とします。\n本研究会ではまず金属、高分子と木材を対象とし、これらの材料研究で量子ビームを活用されている研究者の方にそれぞれの分野で現在抱える共通の課題と、量子ビーム利用で得られた成果について報告いただき、構造材料開発における放射光・中性子の連携利用に繋げることを目的とします。\n \n開催日時\n2022年5月20日（金）13時30分～16時55分 \n開催形式\nオンライン開催（使用ツール：Zoomを予定） \nプログラム・参加申込\nプログラム詳細、参加申込はこちらよりご確認ください。 \n参加対象\n構造材料に関わるユーザーおよび放射光・中性子の連携利用を検討しているユーザー \n募集定員\n80名程度 \n運営組織\n主催\n（公財）高輝度光科学研究センター（JASRI）\n（一財）総合科学研究機構（CROSS）中性子科学センター\n　SPring-8ユーザー共同体（SPRUC)放射光・中性子連携利用研究会 \n後援\nSPring-8ユーザー協同体（SPRUC）\n（公財）佐賀県産業振興機構 九州シンクロトロン光研究センター（SAGA-LS)  \n問い合わせ先\n（一財）総合科学研究機構（CROSS）中性子科学センター\n　　第1回量子ビームを用いた構造材料研究会事務局/　E-mail:suishin-event[at]cross.or.jp \n※[at]を”@”に置き換えてください。
URL:https://archive2019nt.cross.or.jp/events/20220520/
LOCATION:オンライン
CATEGORIES:研究会
ATTACH;FMTTYPE=image/png:https://archive2019nt.cross.or.jp/wp/wp-content/uploads/2018/01/noimg.png
END:VEVENT
END:VCALENDAR