BEGIN:VCALENDAR
VERSION:2.0
PRODID:-//CROSS 中性子科学センター（2019年アーカイブ） - ECPv5.14.1//NONSGML v1.0//EN
CALSCALE:GREGORIAN
METHOD:PUBLISH
X-WR-CALNAME:CROSS 中性子科学センター（2019年アーカイブ）
X-ORIGINAL-URL:https://archive2019nt.cross.or.jp
X-WR-CALDESC:CROSS 中性子科学センター（2019年アーカイブ） のイベント
BEGIN:VTIMEZONE
TZID:Asia/Tokyo
BEGIN:STANDARD
TZOFFSETFROM:+0900
TZOFFSETTO:+0900
TZNAME:JST
DTSTART:20220101T000000
END:STANDARD
END:VTIMEZONE
BEGIN:VEVENT
DTSTART;TZID=Asia/Tokyo:20220727T130000
DTEND;TZID=Asia/Tokyo:20220727T170500
DTSTAMP:20260426T035125
CREATED:20220615T083132Z
LAST-MODIFIED:20220615T083132Z
UID:20905-1658926800-1658941500@archive2019nt.cross.or.jp
SUMMARY:ＣＢＩ研究機構 量子構造生命科学研究所 中性子産業利用推進協議会 生物・生体材料研究会 合同シンポジウム 「生体分子の動的挙動解析への挑戦　試料調製から解析まで　Ⅲ」
DESCRIPTION:開催趣旨\n　国立研究開発法人日本医療研究開発機構（AMED） の生命科学・創薬研究支援基盤事業（BINDS）も本年4月より第二期に突入し、五年プロジェクトが開始しました。今回は、BINDSで新しく採択された課題のうち、中性子溶液散乱（杉山先生）と中性子回折（玉田先生）、核酸の構造解析（近藤先生）で試料調製を含む支援内容に加え最新のご研究についてもご紹介をお願いします。今回のシンポジウムの最後は、ヘルシンキ大学の岩井秀夫グループリーダに、NMRの試料調製から解析まで、最新のご研究内容をお話いただくことにしたいと思います。　ぜひ今後のご研究に役立てていただきたいと思います。 \n主催\n　CBI研究機構量子構造生命科学研究所　中性子産業利用推進協議会（IUSNA)　総合科学研究機構(CROSS)中性子科学センター \n共催\n　茨城県中性子利用研究会 \n協賛\n　J-PARC MLF利用者懇談会
URL:https://archive2019nt.cross.or.jp/events/20220727/
LOCATION:オンライン
CATEGORIES:シンポジウム
ATTACH;FMTTYPE=image/png:https://archive2019nt.cross.or.jp/wp/wp-content/uploads/2018/01/noimg.png
END:VEVENT
END:VCALENDAR