BEGIN:VCALENDAR
VERSION:2.0
PRODID:-//CROSS 中性子科学センター（2019年アーカイブ） - ECPv5.14.1//NONSGML v1.0//EN
CALSCALE:GREGORIAN
METHOD:PUBLISH
X-WR-CALNAME:CROSS 中性子科学センター（2019年アーカイブ）
X-ORIGINAL-URL:https://archive2019nt.cross.or.jp
X-WR-CALDESC:CROSS 中性子科学センター（2019年アーカイブ） のイベント
BEGIN:VTIMEZONE
TZID:Asia/Tokyo
BEGIN:STANDARD
TZOFFSETFROM:+0900
TZOFFSETTO:+0900
TZNAME:JST
DTSTART:20220101T000000
END:STANDARD
END:VTIMEZONE
BEGIN:VEVENT
DTSTART;TZID=Asia/Tokyo:20220930T093000
DTEND;TZID=Asia/Tokyo:20220930T173000
DTSTAMP:20260426T034926
CREATED:20220622T005408Z
LAST-MODIFIED:20220927T094540Z
UID:20953-1664530200-1664559000@archive2019nt.cross.or.jp
SUMMARY:「第8回 大型実験施設とスーパーコンピュータとの連携利用シンポジウム」ー次世代二次電池・燃料電池の開発に向けてー
DESCRIPTION:開催趣旨\n「大型実験施設とスーパーコンピュータとの連携利用シンポジウム」は、大型実験施設であるSPring-8、J-PARC MLFと「富岳/京」をはじめとするスーパーコンピュータとの連携利用による新たな研究成果の創出を目指し、2014年から実験計測の研究者と計算科学の研究者が一堂に会するシンポジウムとして開催してきました。第8回を迎える本シンポジウムでは、SPring-8及びJ-PARC MLFで進んでいる新たな実験手法の開発や実験装置の高度化に加え、「京」の後継機である「富岳」の本格稼働が始まったことを受け、第3回(2016年)にも取り上げたSDGsへの貢献が期待される二次電池・燃料電池に改めてフォーカスして開催いたします。実験的手法と数値シミュレーション手法それぞれの特性を活かした先端的な研究成果を相互の利用者間で共有し、パネルディスカッションを通して意見や情報を交換しながら、今後のさらなる研究の進展と連携利用の拡大を目指します。 \n日時\n2022年9月30日(金)9:30 ～ 17:30 （開場: 9:00 ～ 18:00） \n会場\n 秋葉原UDX NEXT-1\, NEXT-3  (東京都千代田区外神田4-14-1) \n参加申し込み\n次のページの参加申込みからご登録ください。 \n\n「第8回大型実験施設とスーパーコンピュータとの連携利用シンポジウム」\n\n参加費無料 \n100名程度(定員になりしだい締め切らせていただきます。) \n \nプログラム\n\n\n9:00　　　　\n受付開始\n\n\n9:30-10:10\n第1セッション：施設と登録機関の現状　　　　　　　　　　　\n座長： 社本 真一(CROSS)\n\n\n9:30-9:40\n開会挨拶（5分×2）\n雨宮 慶幸(JASRI)柴山 充弘(CROSS)\n\n\n 9:40-10:10\n施設と登録機関の紹介 10分x3\n\n\n\n1-1　SPring-8／JASRI　（発表資料）\n木村 滋(JASRI)\n\n\n1-2　J-PARC／CROSS　（発表資料）\n鈴木 淳市(CROSS)\n\n\n1-3　HPCI、富岳／RIST　（発表資料）\n吉澤 香奈子(RIST)\n\n\n10:10-10:30\n休憩（Coffee Break）\n\n\n10:30-12:15\n第2セッション(計算科学) ：二次電池と燃料電池の計算科学の概観\n座長： 吉澤 香奈子(RIST)\n\n\n10:30-11:15\n2-1　基調講演1 「スパコンがもたらす蓄電池現象の新たな理解」　　（講演概要）\n館山 佳尚(物質・材料研究機構)\n\n\n11:15-11:45\n2-2　招待講演1 「固体内酸素レドックス反応を利用したリチウムイオン電池と第一原理計算」　　（講演概要）\n中山 将伸(名古屋工業大学)\n\n\n11:45-12:15\n2-3　招待講演2 「酸化物電極の触媒活性の計算予測」　　（講演概要）\n杉野 修(東京大学)\n\n\n12:15-13:30\nランチ\n\n\n\n13:30-16:00\n 第3セッション(実験) ：二次電池と燃料電池の実験研究の現状\n座長：筒井 智嗣(JASRI)\n\n\n13:30-14:15\n3-1　基調講演2 「放射光X線と中性子線を用いた燃料電池の階層的構造・機能解析」　　（講演概要）\n犬飼 潤治(山梨大学)\n\n\n14:15-14:45\n3-2　招待講演3 「燃料電池のモデリングに役立つマルチスケール構造解析」　　（講演概要）\n原田 雅史(株式会社豊田中央研究所)\n\n\n14:45-15:30\n3-3　基調講演3 「レアメタルフリー高性能二次電池の開発」　　（講演概要）\n多々良 涼一、駒場 慎一(東京理科大学)\n\n\n15:30-16:00\n3-4　招待講演4 「放射光を用いた二次電池内部におけるイオン分布現象の可視化」　　（講演概要）\n折笠 有基(立命館大学)\n\n\n16:00-16:20\n休憩（Coffee Break）\n\n\n16:20-17:30\n第4セッション：パネルディスカッション\n座長：原田 雅史(株式会社豊田中央研究所)　　杉野 修（東京大学）\n\n\n16:20-17:20\n「電池研究の課題解決に向けた大型実験施設とスーパーコンピュータの連携利用」\n基調講演者、招待講演者陣内 亮典(株式会社豊田中央研究所)　　\n\n\n17:20-17:30\n閉会挨拶\n田島 保英(RIST)\n\n\n17:30\n閉会\n\n\n＊プログラムは予告なく変更する場合があります。 \n運営組織\n主　催\n（公財）高輝度光科学研究センター（JASRI）\n（一財）総合科学研究機構（CROSS）\n（一財）高度情報科学技術研究機構（RIST） \n協　賛\n\n理化学研究所、J-PARCセンター、日本物理学会、応用物理学会、日本化学会、日本放射光学会、日本中性子科学会、電気化学会、スーパーコンピューティング技術産業応用協議会、J-PARC MLF利用者懇談会、中性子産業利用推進協議会、SPring-8ユーザー協同体、SPring-8利用推進協議会 \n後　援\n\n文部科学省、茨城県、兵庫県 \n問合せ先\n高度情報科学技術研究機構 シンポジウム担当\nhpci-sympo[at]hpci-office.jp（[at]を”@”に置き換えてください）
URL:https://archive2019nt.cross.or.jp/events/20220930/
LOCATION:東京・秋葉原UDX 4階 NEXT-1\, 外神田4-14-1\, 千代田区\, 東京都\, 101-0021
CATEGORIES:シンポジウム
ATTACH;FMTTYPE=image/png:https://archive2019nt.cross.or.jp/wp/wp-content/uploads/2018/01/noimg.png
END:VEVENT
END:VCALENDAR