BEGIN:VCALENDAR
VERSION:2.0
PRODID:-//CROSS 中性子科学センター（2019年アーカイブ） - ECPv5.14.1//NONSGML v1.0//EN
CALSCALE:GREGORIAN
METHOD:PUBLISH
X-WR-CALNAME:CROSS 中性子科学センター（2019年アーカイブ）
X-ORIGINAL-URL:https://archive2019nt.cross.or.jp
X-WR-CALDESC:CROSS 中性子科学センター（2019年アーカイブ） のイベント
BEGIN:VTIMEZONE
TZID:Asia/Tokyo
BEGIN:STANDARD
TZOFFSETFROM:+0900
TZOFFSETTO:+0900
TZNAME:JST
DTSTART:20230101T000000
END:STANDARD
END:VTIMEZONE
BEGIN:VEVENT
DTSTART;VALUE=DATE:20230228
DTEND;VALUE=DATE:20230301
DTSTAMP:20260426T035211
CREATED:20221121T075841Z
LAST-MODIFIED:20221214T044630Z
UID:22561-1677542400-1677628799@archive2019nt.cross.or.jp
SUMMARY:2022年度中級者向けZ-Code講習会：12月6日(火) ～ 2月28日（火)
DESCRIPTION:2022年度の粉末構造解析ソフトウエアZ-Codeの中級者向け講習会を開催します。中級コースは、J-PARC MLFの粉末回折装置を利用して得た回折データの解析経験がある方が対象です。その経験の下に、実際に測定された各種結晶構造の回折データを用いて少し高度な解析の実習を行います。\n多数の皆様のご参加をお待ちしています。今回も講師の先生方の講義映像を特設サイトに掲載し、それを見て学習するオンデマンド方式にて開催いたします。 \n開催期間\n　2022年12月6日(火) ～ 2023年2月28日（火)＜講義映像視聴期間＞ \n開催方法\n事前に収録した先生方の講義の映像を各自で見て学習いただきます。\n※特設サイトへのURLは参加申込の方に別途お知らせします。 \n主催\nJ-PARCセンターMLFディビジョン\nKEK物質構造科学研究所\n茨城大学フロンティア応用原子科学研究センター\n中性子産業利用推進協議会（IUSNA)\n総合科学研究機構(CROSS)中性子科学センター \n共催\n茨城県中性子利用研究会
URL:https://archive2019nt.cross.or.jp/events/20221206_0228/
LOCATION:オンデマンド形式
CATEGORIES:講習会
ATTACH;FMTTYPE=image/png:https://archive2019nt.cross.or.jp/wp/wp-content/uploads/2018/01/noimg.png
END:VEVENT
END:VCALENDAR