BEGIN:VCALENDAR
VERSION:2.0
PRODID:-//CROSS 中性子科学センター（2019年アーカイブ） - ECPv5.14.1//NONSGML v1.0//EN
CALSCALE:GREGORIAN
METHOD:PUBLISH
X-WR-CALNAME:CROSS 中性子科学センター（2019年アーカイブ）
X-ORIGINAL-URL:https://archive2019nt.cross.or.jp
X-WR-CALDESC:CROSS 中性子科学センター（2019年アーカイブ） のイベント
BEGIN:VTIMEZONE
TZID:Asia/Tokyo
BEGIN:STANDARD
TZOFFSETFROM:+0900
TZOFFSETTO:+0900
TZNAME:JST
DTSTART:20230101T000000
END:STANDARD
END:VTIMEZONE
BEGIN:VEVENT
DTSTART;TZID=Asia/Tokyo:20230119T120000
DTEND;TZID=Asia/Tokyo:20230120T160000
DTSTAMP:20260426T035254
CREATED:20220922T035720Z
LAST-MODIFIED:20230123T003852Z
UID:21889-1674129600-1674230400@archive2019nt.cross.or.jp
SUMMARY:J-PARC Workshop 2022\, Deuterium Science Entering a New Phase
DESCRIPTION:開催趣旨\n重水素ラベル化法は中性子散乱法やNMR法などの同位体敏感な研究手法で広く活用されています。\n重水素化ラベルは中性子散乱研究においては散乱コントラストをコントロールするための重要な技術ですが、本研究会では、この重水素ラベル化と中性子散乱研究への応用に関わる専門家を国内外から招聘し、最先端の研究技術･成果について議論することで、J-PARCを始めとした国内の重水素化研究の更なる活性化を図ります。 \n開催日時\n2023年1月19日（木）12：00～17：20\n2023年1月20日（金） 9：00～16：00 \n　　 \n開催場所\n AQBRC 2階会議室\nhttps://neutron.cross.or.jp/ja/access/ \n※東海駅からの路線バス時刻表 \nプログラム\nJ-PARC Workshop 2022では基調講演、招待講演に加えてポスター発表を開催致します。\nポスター発表には、若手研究者（35歳以下）を対象にポスター発表賞を設定します。 \nJanuary 19th\n\n\n12:00—13:00\nReception\n\n\n13:00—13:10\nOpening & Introduction of J-PARC MLF\nT. Otomo (KEK/J-PARC Center)\n\n\nPlenary Session 1Chair：S. Mori (Ibaraki Univ.)\n\n\n13:10—13:50\nUpdates and Recent Advancements from ANSTO’s National Deuteration Facility\nT. A. Darwish (ANSTO-NDF)\n\n\nCoffee Break and Group Photo(13:50-14:10)\n\n\nPlenary Session 2Chair: K. Akutsu (CROSS)\n\n\n14:10—14:50\nCatalytic Chemoselective α-Deuteration of Carboxylic Acids\n T. Ohshima (Kyushu Univ.)\n\n\n14:50—15:30\nQuantum Multi-Component Molecular Theory for Hydrogen Bonded System and its H/D Isotope Effect\, \n M. Tachikawa (Yokohama City Univ.)\n\n\nCoffee Break (15:30-15:50)\n\n\nScience Session_1_ChemistryChair：N. L Yamada (KEK)\n\n\n15:50—16:20 \nDeuterated malonamide synthesis to probe interfacial mechanisms involved in solvent extraction process\nM. Cyril (JAEA)\n\n\n16:20—16:50 \nInsight into Amphiphilic Random Copolymer Self-Assemblies by Small-Angle Neutron Scattering and Neutron Reflectometry (Zoom)\nT. Terashima (Kyoto Univ.)\n\n\nPlenary Session 3 (Zoom)Chair：H. Sajiki (Gifu Pharmaceutical Univ.)\n\n\n17:20—18:00\nHydrogen Isotope Exchange – a key reaction to accelerate Isotope Science in Drug Discovery\nV. Derdau (Sanofi Germany)\n\n\nJanuary 20th\n\n\nPlenary Session 4Chair：H. Naka (Kyoto Univ.)\n\n\n9:40—10:20\nProtein deuteration and domain ligation for neutron scattering\nM. Sugiyama (Kyoto Univ.)\n\n\nCoffee Break (10:20-10:40)\n\n\nScience Session_2_ BiologyChair：M. Sugiyama (Kyoto Univ.)\n\n\n10:40—11:10\nMethods of uniform or site-specific deuteration of proteins and their applications to NMR analyses\nT. Ikegami (Yokohama City Univ.)\n\n\n11:10—11:40\nChemical protein synthesis and its application\nT. Yoshiya (Peptide Institute Inc.)\n\n\nLunch Time (11:40-12:40)\n\n\nPoster Session (12:40-14:00)\n\n\nScience Session_3_ Industry (Japanese Session)Chair：T. Ikawa (Gifu Pharmaceutical Univ.)\n\n\n14:00—14:15 \nHeavy water recycling for producing deuterium compounds\nY. Tsutsumi (FC Development)\n\n\n14:15—14:30 \nBasic of qNMR – Introduction of Proposed Revisions to the USP NMR General Chapters  and  –\nT. Miura (FUJIFILM Wako/USP qNMR EP)\n\n\n14:30—14:45 \nCustom Synthesis of Deuterated Compounds for Deuterium in Drug Discovery and Development\, OLED Materials and others\nH. Sonoda (i Chemical Lab)\n\n\nReport from J-PARC MLFChair：M. Adachi (QST) \n\n\n14:50—15:10 \nCurrent Status of J-PARC MLF Deuteration Laboratory\,\nH. Aoki (JAEA/J-PARC Center)\n\n\n15:10—15:30 \nFree Discussion\n\n\nSummary\n\n\n15:40—16:00\nSummary talk & Closing\nH. Sajiki (Gifu Pharmaceutical Univ.)\n\n\n申込方法\n参加申込を締め切りました。\n \n参加申込は、次の参加申込フォームからご登録ください。 \n\n「J-PARC Workshop 2022\, Deuterium Science Entering a New Phase」　参加申込フォーム\n\n\n申込締切：2023年1月13日（金）17：00　 \n※参加費無料 \n注）広報活動のため、ワークショップ当日の写真（会場スクリーンや参加者の姿が写っているものを含みます）をホームページ等に\n使用させていただく場合がございます。あらかじめご了承ください。 \n運営組織\n主催\nJ-PARCセンター \n共催\nCROSS\nJ-PARC MLF利用者懇談会 \n後援\n創薬等先端技術支援基盤プラットフォーム（Basis for Supporting Innovative Drug Discovery and\nLife Science Research）\n日本プロセス化学会\n茨城大学フロンティア応用原子科学研究センター\n京都大学複合原子力科学研究所 \n世話人\n＜JAEA\, KEK\, J-PARCセンター＞\n  青木裕之、大友季哉、 奥隆之、 川北至信、 柴崎千枝 \n＜CROSS＞\n  阿久津和宏、上田実咲、 柴山充弘 \n＜QST＞\n  安達基泰、 藤原悟 \n＜岐阜薬科大学＞\n  佐治木弘尚 \n＜京都大学＞\n  杉山正明 \n\n  立川仁典 \n\n  森聖治 \nこれまでの研究会一覧\n1） J-PARC Workshop “Neutron Biology for Next Generation”\, March 22nd-23rd\, 2017\, Ibaraki Quantum Beam Research Center     Tokai\, Japan.\n    Summary: JAEA-Review 2017-024\, J-PARC 17-03\, DOI:10.11484/jaea-review-2017-024 \n2） J-PARC Workshop “Deuterated Materials Enhancing Neutron Science for Structure Function Applications”; October     19th-20th\, 2017\, Ibaraki Quantum Beam Research Center\, Tokai\, Japan. \n    Web site: https://neutron.cross.or.jp/ja/events/v17015/\n    Summary: JAEA-Review 2018-002\, J-PARC 17-06\, DOI:10.11484/jaea-review-2018-002 \n3） Workshop “Meeting on Deuterium Labeled Compound for Neutron Science”\, November 15th\, 2018\, Ibaraki Quantum Beam     Research Center\, Tokai\, Japan.\n    Web site: https://neutron.cross.or.jp/ja/events/v18019/ \n4）  J-PARC Workshop “Deuterium Labeling Study for Neutron Science”\, January 15th-16th\, 2019\, Ibaraki Quantum Beam     Research Center\, Tokai\, Japan.\n    Web site: https://neutron.cross.or.jp/ja/events/190115-16/ \n今後の活動予定\n1) J-PARC Workshop 2023 (Jan. 2024) \n問い合わせ先\n阿久津 和宏\n  （一財）総合科学研究機構（CROSS）中性子科学センター\n    茨城県東海村白方162-1　いばらき量子ビーム研究センター A307\n    TEL: 029-219-5300 \n    E-mail: k_akutsu[at]cross.or.jp　＊[at]を@に置き換えてください。
URL:https://archive2019nt.cross.or.jp/events/20230119-20-2/
LOCATION:いばらき量子ビーム研究センター（IQBRC）2階 B201\, 202多目的ホール\, 白方162-1\, 那珂郡東海村\, 茨城県\, 319-1106\, Japan
CATEGORIES:ワークショップ
ATTACH;FMTTYPE=image/png:https://archive2019nt.cross.or.jp/wp/wp-content/uploads/2018/01/noimg.png
END:VEVENT
END:VCALENDAR