BEGIN:VCALENDAR
VERSION:2.0
PRODID:-//CROSS 中性子科学センター（2019年アーカイブ） - ECPv5.14.1//NONSGML v1.0//EN
CALSCALE:GREGORIAN
METHOD:PUBLISH
X-WR-CALNAME:CROSS 中性子科学センター（2019年アーカイブ）
X-ORIGINAL-URL:https://archive2019nt.cross.or.jp
X-WR-CALDESC:CROSS 中性子科学センター（2019年アーカイブ） のイベント
BEGIN:VTIMEZONE
TZID:Asia/Tokyo
BEGIN:STANDARD
TZOFFSETFROM:+0900
TZOFFSETTO:+0900
TZNAME:JST
DTSTART:20230101T000000
END:STANDARD
END:VTIMEZONE
BEGIN:VEVENT
DTSTART;VALUE=DATE:20230119
DTEND;VALUE=DATE:20230121
DTSTAMP:20260426T035209
CREATED:20220922T035720Z
LAST-MODIFIED:20230123T003952Z
UID:22099-1674086400-1674259199@archive2019nt.cross.or.jp
SUMMARY:J-PARC Workshop 2022\, Deuterium Science Entering a New Phase
DESCRIPTION:Objective of the meeting\nDeuterium labeling methods are widely used in isotope-sensitive research techniques such as neutron scattering and NMR. Deuterium labeling is an important technique to control the scattering contrast in neutron scattering research. Aiming at accelerating the development of deuteration activities\, an international workshop “Deuterium Science Entering a New Phase” will be held as a J-PARC Workshop. In this workshop\, we invite experts in deuterium labeling and its application to neutron scattering research from Japan and abroad to discuss the recent research topics and findings\, and to further promote deuterium labeling research at J-PARC. \nDate and time(Japan Standard Time) \nThursday\, January. 19\, 12:00-17:20  \nFriday\, January. 20\, 9:00-16:00  \n　　 \nVenue\n Ibaraki Quantum Beam Research Center\, Tokai\, Japan.\nhttps://neutron.cross.or.jp/en/access-e/ \n※Tokai Vill. bus service (by Ibaraki kotsu Co.) \nProgram\nJanuary 19th\n\n\n12:00—13:00\nReception\n\n\n13:00—13:10\nOpening & Introduction of J-PARC MLF\nT. Otomo (KEK/J-PARC Center)\n\n\nPlenary Session 1Chair：S. Mori (Ibaraki Univ.)\n\n\n13:10—13:50\nUpdates and Recent Advancements from ANSTO’s National Deuteration Facility\nT. A. Darwish (ANSTO-NDF)\n\n\nCoffee Break and Group Photo (13:50-14:10)\n\n\nPlenary Session 2Chair: K. Akutsu (CROSS)\n\n\n14:10—14:50\nCatalytic Chemoselective α-Deuteration of Carboxylic Acids\n T. Ohshima (Kyushu Univ.)\n\n\n14:50—15:30\nQuantum Multi-Component Molecular Theory for Hydrogen Bonded System and its H/D Isotope Effect\, \n M. Tachikawa (Yokohama City Univ.)\n\n\nCoffee Break (15:30-15:50)\n\n\nScience Session_1_ChemistryChair：N. L Yamada (KEK)\n\n\n15:50—16:20 \nDeuterated malonamide synthesis to probe interfacial mechanisms involved in solvent extraction process\nM. Cyril (JAEA)\n\n\n16:20—16:50 \nInsight into Amphiphilic Random Copolymer Self-Assemblies by Small-Angle Neutron Scattering and Neutron Reflectometry (Zoom)\nT. Terashima (Kyoto Univ.)\n\n\nPlenary Session 3 (Zoom)Chair：H. Sajiki (Gifu Pharmaceutical Univ.)\n\n\n17:20—18:00\nHydrogen Isotope Exchange – a key reaction to accelerate Isotope Science in Drug Discovery\nV. Derdau (Sanofi Germany)\n\n\nJanuary 20th\n\n\nPlenary Session 4Chair：H. Naka (Kyoto Univ.)\n\n\n9:40—10:20\nProtein deuteration and domain ligation for neutron scattering\nM. Sugiyama (Kyoto Univ.)\n\n\nCoffee Break  (10:20-10:40)\n\n\nScience Session_2_ BiologyChair：M. Sugiyama (Kyoto Univ.)\n\n\n10:40—11:10\nMethods of uniform or site-specific deuteration of proteins and their applications to NMR analyses\nT. Ikegami (Yokohama City Univ.)\n\n\n11:10—11:40\nChemical protein synthesis and its application\nT. Yoshiya (Peptide Institute Inc.)\n\n\nLunch Time (11:40-12:40)\n\n\nPoster Session (12:40-14:00)\n\n\nScience Session_3_ Industry (Japanese Session)Chair：T. Ikawa (Gifu Pharmaceutical Univ.)\n\n\n14:00—14:15 \nHeavy water recycling for producing deuterium compounds\nY. Tsutsumi (FC Development)\n\n\n14:15—14:30 \nBasic of qNMR – Introduction of Proposed Revisions to the USP NMR General Chapters  and  –\nT. Miura (FUJIFILM Wako/USP qNMR EP)\n\n\n14:30—14:45 \nCustom Synthesis of Deuterated Compounds for Deuterium in Drug Discovery and Development\, OLED Materials and others\nH. Sonoda (i Chemical Lab)\n\n\nReport from J-PARC MLFChair：M. Adachi (QST) \n\n\n14:50—15:10 \nCurrent Status of J-PARC MLF Deuteration Laboratory\,\nH. Aoki (JAEA/J-PARC Center)\n\n\n15:10—15:30 \nFree Discussion\n\n\nSummary\n\n\n15:40—16:00\nSummary talk & Closing\nH. Sajiki (Gifu Pharmaceutical Univ.)\n\n\nRegistration\nThe registration form is open from Nov. 28th to Jan. 13th. \n \n\n「J-PARC Workshop 2022\, Deuterium Science Entering a New Phase」the registration form\n\n \nOrganizing Institution\nSponsored by Japan Proton Accelerator Research Complex (J-PARC) Center\, https://j-parc.jp/c/en/index.html \nCo-sponsored by Comprehensive Research Organization for Science and Society (CROSS)\,https://neutron.cross.or.jp/en/\n                 J-PARC MLF Users Society  \nIn cooperation with Basis for Supporting Innovative Drug Discovery and Life Science Research(BINDS)\n                   The Japanese Society for Process Chemistry  \n                   Frontier Research Center for Applied Atomic Sciences\, Ibaraki University \n                   Institute for Integrated Radiation and Nuclear Science\, Kyoto University \nOrganizing Committee\n ＜Japan Atomic Energy Agency (JAEA)\, High Energy Accelerator Research Organization (KEK)\, J-PARC Center＞\n  H. Aoki\, T. Otomo\, T. Oku\, Y. Kawakita\, C. Shibazaki \n＜CROSS＞\n  K. Akutsu\, M. Ueda\, M. Shibayama \n＜National Institute for Quantum Science and Technology (QST)＞\n  M. Adachi\, S. Fujiwara \n＜Gifu Pharmaceutical University＞\n  H. Sajiki \n＜Kyoto University＞\n  M. Sugiyama \n＜Yokohama City University＞\n   M. Tachikawa \n＜Ibaraki University＞\n  S. Mori \nPast Events\n1） J-PARC Workshop “Neutron Biology for Next Generation”\, March 22nd-23rd\, 2017\, Ibaraki Quantum Beam Research Center     Tokai\, Japan.\n    Summary: JAEA-Review 2017-024\, J-PARC 17-03\, DOI:10.11484/jaea-review-2017-024 \n2） J-PARC Workshop “Deuterated Materials Enhancing Neutron Science for Structure Function Applications”; October     19th-20th\, 2017\, Ibaraki Quantum Beam Research Center\, Tokai\, Japan. \n    Web site: https://neutron.cross.or.jp/ja/events/v17015/\n    Summary: JAEA-Review 2018-002\, J-PARC 17-06\, DOI:10.11484/jaea-review-2018-002 \n3） Workshop “Meeting on Deuterium Labeled Compound for Neutron Science”\, November 15th\, 2018\, Ibaraki Quantum Beam     Research Center\, Tokai\, Japan.\n    Web site: https://neutron.cross.or.jp/ja/events/v18019/ \n4）  J-PARC Workshop “Deuterium Labeling Study for Neutron Science”\, January 15th-16th\, 2019\, Ibaraki Quantum Beam     Research Center\, Tokai\, Japan.\n    Web site: https://neutron.cross.or.jp/ja/events/190115-16/ \nFuture Events\n1） J-PARC Workshop 2023 (Jan. 2024) \nContact\nKazuhiro Akutsu (CROSS)\n    TEL: 029-219-5300 \n    E-mail: k_akutsu[at]cross.or.jp　＊Please replace [at] with @.
URL:https://archive2019nt.cross.or.jp/events/20230119-20/
CATEGORIES:Workshop
ATTACH;FMTTYPE=image/png:https://archive2019nt.cross.or.jp/wp/wp-content/uploads/2018/01/noimg.png
END:VEVENT
END:VCALENDAR