BEGIN:VCALENDAR
VERSION:2.0
PRODID:-//CROSS 中性子科学センター（2019年アーカイブ） - ECPv5.14.1//NONSGML v1.0//EN
CALSCALE:GREGORIAN
METHOD:PUBLISH
X-WR-CALNAME:CROSS 中性子科学センター（2019年アーカイブ）
X-ORIGINAL-URL:https://archive2019nt.cross.or.jp
X-WR-CALDESC:CROSS 中性子科学センター（2019年アーカイブ） のイベント
BEGIN:VTIMEZONE
TZID:Asia/Tokyo
BEGIN:STANDARD
TZOFFSETFROM:+0900
TZOFFSETTO:+0900
TZNAME:JST
DTSTART:20240101T000000
END:STANDARD
END:VTIMEZONE
BEGIN:VEVENT
DTSTART;VALUE=DATE:20240305
DTEND;VALUE=DATE:20240308
DTSTAMP:20260426T035148
CREATED:20231013T004111Z
LAST-MODIFIED:20231221T022453Z
UID:24712-1709596800-1709855999@archive2019nt.cross.or.jp
SUMMARY:2023年度量子ビームサイエンスフェスタ
DESCRIPTION:詳しくはこちらをご覧ください \nhttps://www2.kek.jp/imss/qbsf/2023/ \n主催\n高エネルギー加速器研究機構 物質構造科学研究所 \nJ-PARCセンター \n総合科学研究機構（CROSS） \nPFユーザーアソシエーション（PF-UA） \nJ-PARC MLF利用者懇談会
URL:https://archive2019nt.cross.or.jp/events/20230305_07/
LOCATION:水戸市民会館\, 水戸市泉町1丁目7番1号\, 茨城県\, 310-0026\, 日本
CATEGORIES:シンポジウム
ATTACH;FMTTYPE=image/png:https://archive2019nt.cross.or.jp/wp/wp-content/uploads/2018/01/noimg.png
END:VEVENT
END:VCALENDAR