BEGIN:VCALENDAR
VERSION:2.0
PRODID:-//CROSS 中性子科学センター（2019年アーカイブ） - ECPv5.14.1//NONSGML v1.0//EN
CALSCALE:GREGORIAN
METHOD:PUBLISH
X-WR-CALNAME:CROSS 中性子科学センター（2019年アーカイブ）
X-ORIGINAL-URL:https://archive2019nt.cross.or.jp
X-WR-CALDESC:CROSS 中性子科学センター（2019年アーカイブ） のイベント
BEGIN:VTIMEZONE
TZID:Asia/Tokyo
BEGIN:STANDARD
TZOFFSETFROM:+0900
TZOFFSETTO:+0900
TZNAME:JST
DTSTART:20230101T000000
END:STANDARD
END:VTIMEZONE
BEGIN:VEVENT
DTSTART;TZID=Asia/Tokyo:20230322T130000
DTEND;TZID=Asia/Tokyo:20230322T170000
DTSTAMP:20260426T035029
CREATED:20230117T234321Z
LAST-MODIFIED:20230117T234321Z
UID:22864-1679490000-1679504400@archive2019nt.cross.or.jp
SUMMARY:2022年度 中性子構造生物学研究会 「天然変性タンパク質」
DESCRIPTION:開催趣旨\n東海村のJ-PARC MLF（物質・生命科学実験施設）では、大強度陽子加速器により発生する世界最高強度のパルス中性子とミュオンビームを用いて物質科学および生命科学研究を展開しています。 \n懇談会と協議会の中性子構造生物学と生物・生体材料の２つの研究会は、それぞれ学術界および産業界を中心に中性子を利用した生命科学研究の推進を目指して活動しています。 \n今回は、生物・生体材料研究会とCBI研究機構量子構造生命科学研究所にご協力いただいて、中性子構造生物学研究会「天然変性タンパク質」を企画しました。天然変性タンパク質は従来のタンパク質の構造・機能研究にパラダイムシフトをもたらし、近年では創薬ターゲットとして、さらには液－液相分離の主役としても注目されています。今回の研究会では、大きく揺らいだ天然変性タンパク質の動的挙動を解析する手法や方法論に着目し、その開発研究の現状と将来への展望について講演者のみなさんに語っていただく予定です。数多くの方にご参加いただき、活発な議論ができますことを心より願っています。\n \n主催\nJ-PARC MLF利用者懇談会中性子産業利用推進協議会（IUSNA) \n共催\n総合科学研究機構(CROSS)中性子科学センター茨城県中性子利用研究会 \n協賛\nCBI研究機構量子構造生命科学研究所
URL:https://archive2019nt.cross.or.jp/events/20230322/
LOCATION:オンライン
CATEGORIES:シンポジウム
ATTACH;FMTTYPE=image/png:https://archive2019nt.cross.or.jp/wp/wp-content/uploads/2018/01/noimg.png
END:VEVENT
END:VCALENDAR