BEGIN:VCALENDAR
VERSION:2.0
PRODID:-//CROSS 中性子科学センター（2019年アーカイブ） - ECPv5.14.1//NONSGML v1.0//EN
CALSCALE:GREGORIAN
METHOD:PUBLISH
X-WR-CALNAME:CROSS 中性子科学センター（2019年アーカイブ）
X-ORIGINAL-URL:https://archive2019nt.cross.or.jp
X-WR-CALDESC:CROSS 中性子科学センター（2019年アーカイブ） のイベント
BEGIN:VTIMEZONE
TZID:Asia/Tokyo
BEGIN:STANDARD
TZOFFSETFROM:+0900
TZOFFSETTO:+0900
TZNAME:JST
DTSTART:20230101T000000
END:STANDARD
END:VTIMEZONE
BEGIN:VEVENT
DTSTART;TZID=Asia/Tokyo:20230720T131500
DTEND;TZID=Asia/Tokyo:20230720T143000
DTSTAMP:20260426T035040
CREATED:20230620T065132Z
LAST-MODIFIED:20230720T022701Z
UID:23854-1689858900-1689863400@archive2019nt.cross.or.jp
SUMMARY:【事前講習会＠オンライン開催】第8回　放射光・中性子の連携利用に向けた合同研修会「粉末回折測定研修会」
DESCRIPTION:概要\n2019年度より高輝度光科学研究センター(JASRI)と総合科学研究機構(CROSS)では、量子ビーム施設の実習を通して、放射光・中性子それぞれの測定技術特徴を知っていただくための合同研修会を開催しております。\n　※2022年度開催済 第7回　放射光・中性子の連携利用に向けた合同研修会「粉末回折測定研修会」\n合同研修会に先立ち、粉末回折測定に関する事前講習会（オンライン）を以下の要領にて開催します。 \n－事前講習会（オンライン開催）－ \n（1）日時：2023年7月20日（木） 13:15～14:30\n（2）開催形式：オンライン開催（Zoom）\n（3）プログラム：\n　　　13:15～14:15　「粉末回折実験におけるX線と中性子の相補利用のメリットについて」\n　　　　　　　　 　　　　　（講師：京都大学　陰山 洋教授）\n　　　14:15～14:30　 合同研修会に関する案内 \n \n参加申込：締め切りました。\nこちらよりご確認ください。 \n※参加対象：放射光・中性子における測定技術特徴にご興味のある方\n※申込締切：2023年7月18日（火）12:00(予定) \nなお、合同研修会の詳細につきましては順次webにて告知いたします。 \n*********************************************************************************************************************************************************** \n－合同研修会 －\n日時：\n【SPring-8】\n2023年10月12日（木）\n【JRR-3】\n2023年11月20日（月）\n【J-PARC MLF】\n2023年度（調整中）　　　　　\n \n講義・実習場所：\n【SPring-8】SPring-8中央管理棟　上坪記念講堂、蓄積リング棟 BL02B2\n【JRR-3・J-PARC MLF】AYA’S LABORATORY量子ビーム研究センター（AQBRC）（予定）、JRR-3東北大学金研中性子粉末回折装置「HERMES」、J-PARC MLF BL20茨城県材料構造解析装置「iMATERIA」\n \n実習担当：\n【SPring-8】\nJASRI　回折・散乱推進室　筒井 智嗣 (satoshi〔at〕spring8.or.jp)、河口 彰吾 (kawaguchi〔at〕spring8.or.jp)　\nJASRI　産業利用・産学連携推進室　佐藤 眞直(msato〔at〕spring8.or.jp)\n（事務担当）JASRI　利用推進部 普及情報課　濱本 美和子（jasri-event〔at〕spring8.or.jp）\n【JRR-3】\nJRR-3　東北大学金属材料研究所　藤田 全基（fujita〔at〕tohoku.ac.jp） \n【J-PARC MLF】\nJ-PARC MLF　CROSS　中性子産業利用推進センター　鈴木 淳市（j_suzuki〔at〕cross.or.jp）\n（事務担当）CROSS　中性子科学センター 利用推進部　石川 知子（suishin-event〔at〕cross.or.jp）\n※〔at〕を@に置き換えてください。
URL:https://archive2019nt.cross.or.jp/events/20230720/
LOCATION:Web形式
CATEGORIES:講習会
ATTACH;FMTTYPE=image/png:https://archive2019nt.cross.or.jp/wp/wp-content/uploads/2018/01/noimg.png
END:VEVENT
END:VCALENDAR