BEGIN:VCALENDAR
VERSION:2.0
PRODID:-//CROSS 中性子科学センター（2019年アーカイブ） - ECPv5.14.1//NONSGML v1.0//EN
CALSCALE:GREGORIAN
METHOD:PUBLISH
X-WR-CALNAME:CROSS 中性子科学センター（2019年アーカイブ）
X-ORIGINAL-URL:https://archive2019nt.cross.or.jp
X-WR-CALDESC:CROSS 中性子科学センター（2019年アーカイブ） のイベント
BEGIN:VTIMEZONE
TZID:Asia/Tokyo
BEGIN:STANDARD
TZOFFSETFROM:+0900
TZOFFSETTO:+0900
TZNAME:JST
DTSTART:20230101T000000
END:STANDARD
END:VTIMEZONE
BEGIN:VEVENT
DTSTART;TZID=Asia/Tokyo:20231030T100000
DTEND;TZID=Asia/Tokyo:20231030T173000
DTSTAMP:20260426T035151
CREATED:20230731T074852Z
LAST-MODIFIED:20231029T225455Z
UID:23697-1698660000-1698687000@archive2019nt.cross.or.jp
SUMMARY:第27回 CROSSroads Workshop「中性子・ミュオンによるオペランド測定のエネルギー材料への展開」
DESCRIPTION:開催趣旨\n動作状態や反応過程を視るオペランド測定は、機能材料の動作原理の理解、及び材料改善のために重要なツールです。従来、量子ビームを利用したオペランド測定の多くは、放射光をもちいた実験でした。しかし、大強度陽子加速器施設J-PARCのビーム強度の増強により、中性子散乱実験、及びミュオン実験によるオペランド測定が始まりました。その最新状況を講師の先生方にご報告いただき、今後の発展方向を展望します。 \n開催日時\n2023年10月30日（月）　10:00～17:30\n　　 ＊Zoom接続開始    9：45～より開始予定 \n開催場所\nAYA’S LABORATORY量子ビーム研究センター（AQBRC）1階会議室（Zoom併用） \n使用言語\n日本語 \n  \nプログラム\n  \n\n\n\nプログラム\n\n\n9:30-10:00\n受付開始        \n\n\n10:00-10:10\n開会挨拶　杉山 純（CROSS）        \n\n\n各量子ビームの現状と将来　　座長：杉山 純（CROSS）\n\n\n10:10-10:50\n放射光の現状と将来\n  雨宮 健太（KEK）\n\n\n10:50-11:30\n中性子の現状と将来\n  川北 至信（JAEA）\n\n\n11:30-12:10\nオペランド測定：ミュオンの現状と将来\n  幸田 章宏（KEK）\n\n\n12:10-13:10\n 昼　食　　※昼食前に写真撮影を行います\n\n\n蓄電池　　座長：大石 一城 (CROSS)      \n\n\n13:10-13:40\nミュオンによるナトリウムイオン電池電極材料のオペランド測定\n  多々良 涼一（東京理科大学）\n\n\n13:40-14:10\n特殊環境中性子回折装置 SPICA を利用したフッ化物電池の構造研究\n  森 一広（KEK）\n\n\n14:10-14:40\nミュオン特性X線によるリチウムイオン電池内のリチウムのオペランド観察\n  梅垣 いづみ（KEK）\n\n\n14:40-15:00\n 休憩（コーヒーブレイク）\n\n\n燃料電池と磁石　　座長：幸田 章宏 (KEK)      \n\n\n15:00-15:30\n中性子と放射光による固体高分子形燃料電池内部の液水解析\n  加藤 悟（（株）豊田中央研究所）\n\n\n15:30-16:00\n流路付きGDLを組み込んだ固体高分子形燃料電池（PEFC）発電中の生成水イメージング\n  那須 三紀（（株）エノモト）\n\n\n16:00-16:30\n熱処理に伴うアモルファス相→ナノ結晶相の析出過程のミュオンによるその場観察\n   太田 元基、北村　海（島根大学）\n\n\n光誘起反応　　座長：幸田 章宏 (KEK)      \n\n\n16:30-17:00\n中性子を用いた光誘起現象の観測\n  坂口 佳史（CROSS）\n\n\n全体討論　　座長：大石 一城 (CROSS)      \n\n\n17:25-17:30\n閉会挨拶　柴山 充弘（CROSS）\n\n\n\n参加申し込み\n \n＊参加費無料 \n\n\n\n第27回CROSSroads Workshop　参加申し込みフォーム\n\n\n\n\n　申込締切：2023年10月23日（月）13：00 \n＊申込み受付後、受付通知メールを送付させて頂きます。受付通知メールが届かない場合は、\n　CROSSroads Workshop事務局＜workshop27[at]cross.or.jp＞までご連絡ください。 \n注1）画面の保存、ビデオ録画及び録音はご遠慮下さい。\n注2）本ワークショップでは記録のため、Zoom映像を録画させて頂きます。\n     また、画面保存した画像データをホームページ等に使用させて頂く場合がございます。あらかじめご了承下さい。\n注3）参加申し込みフォームよりお申し込みできない場合は、こちらの「参加申し込み書」にご記入の上、\n     CROSSroads Workshop事務局＜workshop27[at]cross.or.jp＞までメールにてお申込みください。 \n\n※[at]を@に置き換えてください。 \n運営組織\n主　催\n（一財）総合科学研究機構（CROSS） \n協　賛\nJ-PARCセンター（JAEA＆KEK)\n日本中性子科学会\n日本中間子科学会\nJ-PARC MLF利用者懇談会\n中性子産業利用推進協議会（IUSNA)\n茨城県 \n世話人\n（一財）総合科学研究機構（CROSS）中性子科学センター\n  杉山　純　・　大石　一城\n  E-mail：j_sugiyama[at]cross.or.jp 　k_ohishi[at]cross.or.jp ＊[at]を@に置き換えてください。\n  Tel：029-219-5300 \n問い合わせ先\nCROSSroads Workshop事務局　\nworkshop27[at]cross.or.jp　＊[at]を@に置き換えてください。\n  Tel：029-219-5300 　Fax：029-219-5311
URL:https://archive2019nt.cross.or.jp/events/20231030/
LOCATION:AQBRC 1階　大会議室　B101
CATEGORIES:ワークショップ
ATTACH;FMTTYPE=image/png:https://archive2019nt.cross.or.jp/wp/wp-content/uploads/2018/01/noimg.png
END:VEVENT
END:VCALENDAR