BEGIN:VCALENDAR
VERSION:2.0
PRODID:-//CROSS 中性子科学センター（2019年アーカイブ） - ECPv5.14.1//NONSGML v1.0//EN
CALSCALE:GREGORIAN
METHOD:PUBLISH
X-WR-CALNAME:CROSS 中性子科学センター（2019年アーカイブ）
X-ORIGINAL-URL:https://archive2019nt.cross.or.jp
X-WR-CALDESC:CROSS 中性子科学センター（2019年アーカイブ） のイベント
BEGIN:VTIMEZONE
TZID:Asia/Tokyo
BEGIN:STANDARD
TZOFFSETFROM:+0900
TZOFFSETTO:+0900
TZNAME:JST
DTSTART:20240101T000000
END:STANDARD
END:VTIMEZONE
BEGIN:VEVENT
DTSTART;VALUE=DATE:20241209
DTEND;VALUE=DATE:20241214
DTSTAMP:20260426T035022
CREATED:20240719T085533Z
LAST-MODIFIED:20240730T025353Z
UID:26911-1733702400-1734134399@archive2019nt.cross.or.jp
SUMMARY:The 8th Neutron and Muon School
DESCRIPTION:開催趣旨\n中性子・ミュオンユーザーの裾野拡大や関連分野の若手育成を目的とし、第8回中性子・ミュオンスクールを開催します。 \n中性子・ミュオンは物質研究において非常に強力なプローブであり、代表的な実験手法としては、中性子弾性散乱による物質の結晶構造・磁気構造決定や、非弾性散乱による格子振動や磁気励起の観測などがあげられます。他にも、中性子は高い透過率を生かしたイメージング測定や反射率による表面・界面の解析も可能であり、ミュオンは高い感度を持った局所プローブとしてバルク・薄膜試料に対して磁気秩序やそのダイナミクスを検出することなどが可能です。 \n本スクールでは、中性子・ミュオンの特性とその実験手法を、世界で活躍する第一線の研究者による講義によって学び、さらに大強度陽子加速器施設J-PARC MLFや研究用原子炉JRR-3の実験装置を用いた実習を行うことで、その理解を深めることができるプログラムとなっています。中性子・ミュオンを用いた物質研究に興味がある国内外の大学院生、若手研究者の多くの皆さんのご応募をお待ちしています。すでに中性子・ミュオンビームを利用されている（あるいは今後利用を検討されている）研究室主催者の皆様におかれましては、学生や若手研究者の教育の場としてぜひこのスクールを活用していただき、研究室からの参加を後押ししていただければ幸いです。なお、オンラインでの講義のみの参加も可能となっております。 \n\n対象者：大学院生、ポスドク、若手研究者（アカデミック、企業）\n定員：35名程度（オンライン講義のみの参加者は定員制限なし）\n内容：中性子・ミュオン科学の基礎とその応用に関する講義とMLFでのデータ解析実習\n使用言語：基本的に英語\n　 \n応募締切：2024年 8月 23日(講義と実習)\n　　　　　2024年11月22日(講義のみ)　\n\nこちらのサイトをご覧ください。\nhttps://conference-indico.kek.jp/event/276/
URL:https://archive2019nt.cross.or.jp/events/20231209/
LOCATION:J-PARCセンター\, 茨城県那珂郡東海村白方2-4\, 319-1106
CATEGORIES:講習会
ATTACH;FMTTYPE=image/png:https://archive2019nt.cross.or.jp/wp/wp-content/uploads/2018/01/noimg.png
END:VEVENT
END:VCALENDAR