BEGIN:VCALENDAR
VERSION:2.0
PRODID:-//CROSS 中性子科学センター（2019年アーカイブ） - ECPv5.14.1//NONSGML v1.0//EN
CALSCALE:GREGORIAN
METHOD:PUBLISH
X-WR-CALNAME:CROSS 中性子科学センター（2019年アーカイブ）
X-ORIGINAL-URL:https://archive2019nt.cross.or.jp
X-WR-CALDESC:CROSS 中性子科学センター（2019年アーカイブ） のイベント
BEGIN:VTIMEZONE
TZID:Asia/Tokyo
BEGIN:STANDARD
TZOFFSETFROM:+0900
TZOFFSETTO:+0900
TZNAME:JST
DTSTART:20230101T000000
END:STANDARD
END:VTIMEZONE
BEGIN:VEVENT
DTSTART;TZID=Asia/Tokyo:20231213T133000
DTEND;TZID=Asia/Tokyo:20231214T150000
DTSTAMP:20260426T035253
CREATED:20231106T070506Z
LAST-MODIFIED:20231106T070506Z
UID:24911-1702474200-1702566000@archive2019nt.cross.or.jp
SUMMARY:小型中性子施設活用研究会　2023年度研究会・見学会「小型中性子施設の産業利用の最前線について学ぶ」
DESCRIPTION:概要説明\n中性子産業利用推進協議会では、2023年度より、小型中性子施設の産業利用における計測技術や役割などについて学び・検討するために、“小型中性子施設活用研究会”を設立しました。この度、小型中性子施設活用研究会における活動の一環として、産総研・量子ビーム計測クラブ等と協力して、小型中性子施設における産業利用事例や関連する計測技術の開発動向を知ることを目的とした研究会・見学会を開催いたします。なお、２日目には、産総研・小型中性子施設AISTANSを含む産総研の量子ビーム計測施設の見学、およびブラッグエッジ・イメージング解析実習の機会を設けました。皆様の奮ってのご参加をお待ちしております。 \n日　時\n　２０２３年１２月１３日（水）１３時 ～ １２月１４日（木）１５時 \n形　式\n　１日目（現地＆ＷＥＢ（ハイブリッド））、２日目（現地のみ） \n開催場所\n　産業技術総合研究所　つくば中央第二 \n  \n運営組織\n主催：\n　中性子産業利用推進協議会（IUSNA）\n　産総研・計量標準総合センター・量子ビーム計測クラブ\n　総合科学研究機構（CROSS） \n協賛：\n　茨城県中性子利用研究会\n　日本中性子科学会 \n 
URL:https://archive2019nt.cross.or.jp/events/20231213-14/
LOCATION:産業技術総合研究所つくば中央事業所\, 1-1-1\, つくば市梅園\, 茨城県\, 305-8568\, 日本
CATEGORIES:研究会,見学会,講習会
ATTACH;FMTTYPE=image/png:https://archive2019nt.cross.or.jp/wp/wp-content/uploads/2018/01/noimg.png
END:VEVENT
END:VCALENDAR