BEGIN:VCALENDAR
VERSION:2.0
PRODID:-//CROSS 中性子科学センター（2019年アーカイブ） - ECPv5.14.1//NONSGML v1.0//EN
CALSCALE:GREGORIAN
METHOD:PUBLISH
X-WR-CALNAME:CROSS 中性子科学センター（2019年アーカイブ）
X-ORIGINAL-URL:https://archive2019nt.cross.or.jp
X-WR-CALDESC:CROSS 中性子科学センター（2019年アーカイブ） のイベント
BEGIN:VTIMEZONE
TZID:Asia/Tokyo
BEGIN:STANDARD
TZOFFSETFROM:+0900
TZOFFSETTO:+0900
TZNAME:JST
DTSTART:20230101T000000
END:STANDARD
END:VTIMEZONE
BEGIN:VEVENT
DTSTART;VALUE=DATE:20231218
DTEND;VALUE=DATE:20231223
DTSTAMP:20260426T035121
CREATED:20230731T021505Z
LAST-MODIFIED:20231206T064933Z
UID:24270-1702857600-1703289599@archive2019nt.cross.or.jp
SUMMARY:KEK-IINAS School The 7th Neutron and Muon School
DESCRIPTION:開催趣旨\n中性子・ミュオンユーザーの裾野拡大や関連分野の若手育成を目的とし、第7回中性子・ミュオンスクールを開催します。中性子科学、ミュオン科学の基礎に関する講義を学習した後、実際に実験装置を用いた実習を行うことで、その理解を深めることができるプログラムとなっています（講義のみの参加も可）。中性子科学及びミュオン科学に興味がある国内外の大学院生、若手研究者の多くの皆さんのご応募をお待ちしています。 \n\n対象者：大学院生、ポスドク、若手研究者（アカデミック、企業）\n定員：35名程度（講義のみの参加者は定員制限なし）\n内容：中性子・ミュオン科学の基礎とその応用に関する講義とMLFでのデータ解析実習\n使用言語：基本的に英語\n　 \n応募締切：2023年 8月 25日(講義と実習)\n　　　　　2023年11月24日(講義のみ)　\n\nこちらのサイトをご覧ください。\nhttps://conference-indico.kek.jp/event/221/
URL:https://archive2019nt.cross.or.jp/events/20231218/
LOCATION:J-PARCセンター\, 茨城県那珂郡東海村白方2-4\, 319-1106
CATEGORIES:講習会
ATTACH;FMTTYPE=image/png:https://archive2019nt.cross.or.jp/wp/wp-content/uploads/2018/01/noimg.png
END:VEVENT
END:VCALENDAR