BEGIN:VCALENDAR
VERSION:2.0
PRODID:-//CROSS 中性子科学センター（2019年アーカイブ） - ECPv5.14.1//NONSGML v1.0//EN
CALSCALE:GREGORIAN
METHOD:PUBLISH
X-WR-CALNAME:CROSS 中性子科学センター（2019年アーカイブ）
X-ORIGINAL-URL:https://archive2019nt.cross.or.jp
X-WR-CALDESC:CROSS 中性子科学センター（2019年アーカイブ） のイベント
BEGIN:VTIMEZONE
TZID:Asia/Tokyo
BEGIN:STANDARD
TZOFFSETFROM:+0900
TZOFFSETTO:+0900
TZNAME:JST
DTSTART:20230101T000000
END:STANDARD
END:VTIMEZONE
BEGIN:VEVENT
DTSTART;TZID=Asia/Tokyo:20231122T080000
DTEND;TZID=Asia/Tokyo:20231122T170000
DTSTAMP:20260426T035123
CREATED:20231122T052314Z
LAST-MODIFIED:20231122T053110Z
UID:25268-1700640000-1700672400@archive2019nt.cross.or.jp
SUMMARY:第28回　CROSSroads Workshop 「高圧中性子実験の物性研究への展開」
DESCRIPTION:開催趣旨\n本ワークショップでは、物性研究に焦点を当て、高圧中性子実験に期待されるサイエンステーマやニーズを、既存の実験手法に捕らわれず自由に議論します。このような議論を通して、MLFの高圧中性子実験と物性研究との新たな連携を築くとともに、実験技術の開発・高度化や新規利用者の拡大につなげます。 \n開催日時\n2024年1月11日 (木)  13:00-17:35 \n開催場所\nAYA’S LABORATORY量子ビーム研究センター（AQBRC）1階大会議室（B101） \nZoom併用 \n使用言語\n日本語 \n参加費\n無料 \n  \nプログラム\n\n\n\nプログラム\n\n\n12:30-13:00\n受付開始        \n\n\n13:00-13:05\n開会挨拶　町田　真一（CROSS）        \n\n\n高圧中性子物性研究のレビュー　　\n\n\n13:05-13:50\nTBD\n 上床　美也 （東京大学物性研）\n\n\n物性研究に対する実験装置　　\n\n\n13:50-14:20\n高圧中性子回折実験から探る氷の結晶構造\n  小松　一生 （東京大学）\n\n\n14:20-14:50\nTBD\n　宗像　孝司 （CROSS）\n\n\n14:50-15:20\nTBD\n　高阪　勇輔 （大阪公立大学）\n\n\n15:20-15:30\n　休憩\n\n\n物性研究の事例　　\n\n\n15:30-16:00\nTBD\n  長壁　豊隆 （JAEA）\n\n\n16:00-16:30\n高圧力下偏極・非偏極中性子回折によるマルチフェロイック物質の研究\n  寺田　典樹 （NIMS）\n\n\n16:30-17:00\nダイヤモンドアンビルセルを用いた高圧力・極低温物性測定\n  三宅　厚志 （東北大学金材研）　\n\n\n17:00-17:30\n全体討論　　　　　　 \n\n\n17:30-17:35\n閉会挨拶　上床　美也 (東京大学物性研）\n\n\n18:30-20:30\n懇親会 （希望者）\n\n\n\n  \n参加申込は、次の参加申込フォームからご登録ください。 \n\n第28回CROSSroads Workshop　参加申し込み\n\n　　申込締切：2024年1月9日（火）13:00\n \n  \n  \n運営組織\n主催\n一般財団法人 総合科学研究機構（CROSS） \n協賛（予定）\nJ-PARCセンター \nJ-PARC MLF利用者懇談会 \n中性子産業利用推進協議会（IUSNA） \n日本中性子科学会 \n日本高圧力学会 \nPFユーザーアソシエーション（PF-UA） \n  \n研究会世話人\n（一財）総合科学研究機構（CROSS）中性子科学センター\n町田 真一　　s_machida[at]cross.or.jp  \n宗像 孝司　　k_munakata[at]cross.or.jp  　　 \n舟越 賢一　　k_funakoshi[at]cross.or.jp \n   　　　　　　＊[at]を@に置き換えてください。 \n問い合わせ先\nCROSSroads Workshop事務局　\n　　suishin-event[at]cross.or.jp　　\n＊[at]を@に置き換えてください。\n  Tel：029-219-5300 　Fax：029-219-5311
URL:https://archive2019nt.cross.or.jp/events/20240111/
LOCATION:AQBRC 1階　大会議室　B101
CATEGORIES:イベント,ワークショップ
ATTACH;FMTTYPE=image/png:https://archive2019nt.cross.or.jp/wp/wp-content/uploads/2018/01/noimg.png
END:VEVENT
END:VCALENDAR