BEGIN:VCALENDAR
VERSION:2.0
PRODID:-//CROSS 中性子科学センター（2019年アーカイブ） - ECPv5.14.1//NONSGML v1.0//EN
CALSCALE:GREGORIAN
METHOD:PUBLISH
X-WR-CALNAME:CROSS 中性子科学センター（2019年アーカイブ）
X-ORIGINAL-URL:https://archive2019nt.cross.or.jp
X-WR-CALDESC:CROSS 中性子科学センター（2019年アーカイブ） のイベント
BEGIN:VTIMEZONE
TZID:Asia/Tokyo
BEGIN:STANDARD
TZOFFSETFROM:+0900
TZOFFSETTO:+0900
TZNAME:JST
DTSTART:20240101T000000
END:STANDARD
END:VTIMEZONE
BEGIN:VEVENT
DTSTART;TZID=Asia/Tokyo:20240111T130000
DTEND;TZID=Asia/Tokyo:20240111T174500
DTSTAMP:20260426T035153
CREATED:20231112T084707Z
LAST-MODIFIED:20240220T072409Z
UID:24820-1704978000-1704995100@archive2019nt.cross.or.jp
SUMMARY:第28回　CROSSroads Workshop 「高圧中性子実験の物性研究への展開」
DESCRIPTION:開催趣旨\n本ワークショップでは、物性研究に焦点を当て、高圧中性子実験に期待されるサイエンステーマやニーズを、既存の実験手法に捕らわれず自由に議論します。このような議論を通して、MLFの高圧中性子実験と物性研究との新たな連携を築くとともに、実験技術の開発・高度化や新規利用者の拡大につなげます。 \n開催日時\n2024年1月11日 (木)  13:00-17:45 \n開催場所\nAYA’S LABORATORY量子ビーム研究センター（AQBRC）1階大会議室（B101） \nZoom併用 \n使用言語\n日本語 \n参加費\n無料 \n  \nプログラム\n\n\n\nプログラム\n\n\n12:30-13:00\n受付   \n\n\n13:00-13:05\n開会挨拶　町田　真一（CROSS中性子科学センター）        \n\n\n　　　　　　　　　　高圧中性子物性研究のレビュー （座長：舟越　賢一）　　\n\n\n13:05-13:50\n中性子回折実験における低温用圧力装置開発\n 上床　美也 （東京大学物性研究所）\n\n\n　　　　　　　　　　物性研究に対する実験装置　　（座長：舟越　賢一）　\n\n\n13:50-14:20\n高圧中性子回折実験から探る氷の結晶構造\n  小松　一生 （東京大学大学院理学系研究科）\n\n\n14:20-14:50\n単結晶中性子構造解析装置SENJUにおける高圧中性子実験の現状\n　宗像　孝司 （CROSS中性子科学センター）\n\n\n14:50-15:20\nキラルらせん磁性体CrNb3S6における高圧下小角中性子散乱測定 \n　高阪　勇輔 （大阪公立大学工学研究科）\n\n\n15:20-15:40\n　休憩・写真撮影\n\n\n\n　　　　　　　　　　物性研究の事例　（座長：宗像　孝司）　\n\n\n15:40-16:10\n高圧力下単結晶中性子回折のための技術開発と磁性研究への応用\n  長壁　豊隆 （JAEA 原子力科学研究所 物質科学研究センター）\n\n\n16:10-16:40\n高圧力下偏極・非偏極中性子回折によるマルチフェロイック物質の研究\n  寺田　典樹 （NIMS　磁性・スピントロニクス材料研究センター）\n\n\n16:40-17:10\nダイヤモンドアンビルセルを用いた高圧力・極低温物性測定\n  三宅　厚志 （東北大学金属材料研究所）　\n\n\n　　　　　　　　　　全体討論　（座長：町田　真一）　\n\n\n17:10-17:40\n全体討論　　　　　　 \n\n\n17:40-17:45\n閉会挨拶　柴山 充弘（CROSS中性子科学センター長）\n\n\n\n18:30-20:30\n懇親会 （希望者）\n\n\n\n  \n \n  \n  \n運営組織\n主催\n一般財団法人 総合科学研究機構（CROSS） \n協賛\nJ-PARCセンター（予定） \nJ-PARC MLF利用者懇談会 \n中性子産業利用推進協議会（IUSNA） \n日本中性子科学会 \n日本高圧力学会（予定） \nPFユーザーアソシエーション（PF-UA） \n  \n研究会世話人\n（一財）総合科学研究機構（CROSS）中性子科学センター\n町田 真一　　s_machida[at]cross.or.jp  \n宗像 孝司　　k_munakata[at]cross.or.jp  　　 \n舟越 賢一　　k_funakoshi[at]cross.or.jp \n   　　　　　　＊[at]を@に置き換えてください。 \n問い合わせ先\nCROSSroads Workshop事務局　\n　　suishin-event[at]cross.or.jp　　\n＊[at]を@に置き換えてください。\n  Tel：029-219-5300 　Fax：029-219-5311
URL:https://archive2019nt.cross.or.jp/events/20240111m/
LOCATION:AQBRC 1階　大会議室　B101
ATTACH;FMTTYPE=image/png:https://archive2019nt.cross.or.jp/wp/wp-content/uploads/2018/01/noimg.png
END:VEVENT
END:VCALENDAR