BEGIN:VCALENDAR
VERSION:2.0
PRODID:-//CROSS 中性子科学センター（2019年アーカイブ） - ECPv5.14.1//NONSGML v1.0//EN
CALSCALE:GREGORIAN
METHOD:PUBLISH
X-WR-CALNAME:CROSS 中性子科学センター（2019年アーカイブ）
X-ORIGINAL-URL:https://archive2019nt.cross.or.jp
X-WR-CALDESC:CROSS 中性子科学センター（2019年アーカイブ） のイベント
BEGIN:VTIMEZONE
TZID:Asia/Tokyo
BEGIN:STANDARD
TZOFFSETFROM:+0900
TZOFFSETTO:+0900
TZNAME:JST
DTSTART:20240101T000000
END:STANDARD
END:VTIMEZONE
BEGIN:VEVENT
DTSTART;TZID=Asia/Tokyo:20240226T131500
DTEND;TZID=Asia/Tokyo:20240226T160500
DTSTAMP:20260426T035122
CREATED:20240202T080206Z
LAST-MODIFIED:20240202T080206Z
UID:25556-1708953300-1708963500@archive2019nt.cross.or.jp
SUMMARY:「ものづくり基盤研究会」ー接合・加工における課題解決に向けた評価技術ー
DESCRIPTION:開催趣旨\n　材料、部材の内部応力、ひずみを知ることは、材料・部材の変化、余寿命を前提とした製品の設計に重要です。本研究会は、2019年度まで設置していた「残留応力・ひずみ研究会」での活動を受けて、対象とする材料を限定することなく順次拡大し、内部応力、ひずみの測定技術をより深く理解し、更なる活用につなげるべく、基礎的事項から最新の測定技術までを知る場として設定します。\n　本年度は、回折、散乱法を中心とした実材料または模擬材料に関するホットな研究事例を紹介します。\n \n主催\n中性子産業利用推進協議会（IUSNA）\n総合科学研究機構（CROSS） \n共催\n茨城県中性子利用研究会\nSPring-8ユーザー共同体 残留応力と強度評価研究会\n日本原子力研究開発機構（JAEA）マテリアル先端リサーチインフラ \n協賛\nJ-PARC MLF利用者懇談会
URL:https://archive2019nt.cross.or.jp/events/20240226/
LOCATION:オンライン
CATEGORIES:研究会
ATTACH;FMTTYPE=image/png:https://archive2019nt.cross.or.jp/wp/wp-content/uploads/2018/01/noimg.png
END:VEVENT
END:VCALENDAR