BEGIN:VCALENDAR
VERSION:2.0
PRODID:-//CROSS 中性子科学センター（2019年アーカイブ） - ECPv5.14.1//NONSGML v1.0//EN
CALSCALE:GREGORIAN
METHOD:PUBLISH
X-WR-CALNAME:CROSS 中性子科学センター（2019年アーカイブ）
X-ORIGINAL-URL:https://archive2019nt.cross.or.jp
X-WR-CALDESC:CROSS 中性子科学センター（2019年アーカイブ） のイベント
BEGIN:VTIMEZONE
TZID:Asia/Tokyo
BEGIN:STANDARD
TZOFFSETFROM:+0900
TZOFFSETTO:+0900
TZNAME:JST
DTSTART:20240101T000000
END:STANDARD
END:VTIMEZONE
BEGIN:VEVENT
DTSTART;TZID=Asia/Tokyo:20240819T131500
DTEND;TZID=Asia/Tokyo:20240819T143000
DTSTAMP:20260426T045857
CREATED:20240719T040017Z
LAST-MODIFIED:20240910T055600Z
UID:26883-1724073300-1724077800@archive2019nt.cross.or.jp
SUMMARY:【事前講習会＠オンライン開催】 第10回　放射光・中性子の連携利用に向けた合同研修会「粉末回折測定研修会」
DESCRIPTION:概要\n2019年度より高輝度光科学研究センター（JASRI）と総合科学研究機構（CROSS）では、量子ビーム施設の実習を通して、放射光・中性子それぞれの測定技術特徴を知っていただくための合同研修会を開催しております。\n　※2023年度開催済 第8回　放射光・中性子の連携利用に向けた合同研修会「粉末回折測定研修会」\n合同研修会に先立ち、粉末回折測定に関する事前講習会（オンライン）を以下の要領にて開催します。 \n事前講習会（オンライン開催）\n（1）日時：2024年8月19日（月） 13:15～14:30\n（2）開催形式：オンライン開催（Zoom）\n（3）プログラム：\n　　　13:15～14:15　「粉末回折実験におけるX線と中性子の相補利用のメリットについて：複合アニオン化合物の研究から」\n　　　　　　　　 　　　　（講師：京都大学　陰山洋教授）\n　　　14:15～14:30　 合同研修会に関する案内　　　　 \n参加申込　※申込を締め切りました。\n申込ページよりオンラインでお申し込み下さい。　 \n参加対象\n放射光・中性子における測定技術特徴にご興味のある方 \n申込締切 \n2024年8月9日（金）12:00 \n合同研修会の詳細につきましては順次webにて告知いたします。 \n問い合わせ先\n研修会事務局（sangaku-event@cross.or.jp）までご連絡をお願い致します。\n（一財）総合科学研究機構 中性子科学センター 産学連携推進室 \n第10回放射光・中性子の連携利用に向けた合同研修会「粉末回折測定研修会」\n第10回放射光・中性子の連携利用に向けた合同研修会 「粉末回折測定研修会」 参加申込フォームよりお申し込みください。 \n合同研修会の詳細内容についてはこちらもご覧ください。 \n【SPring-8】\n2024年11月25日（月）\n【JRR-3】\n2024年12月17日（火）\n【J-PARC MLF】\n2024年度中に実施予定（日程調整中） \n【SPring-8】 \n講義、実習場所 \nSPring-8中央管理棟 上坪記念講堂、蓄積リング棟 BL02B2　　　　　        　 \nhttp://www.spring8.or.jp/ja/about_us/access/campus_map/ \n◆実習担当：内容・試料等に関すること \nJASRI　産業利用・産学連携推進室　筒井　智嗣（satoshi〔at〕spring8.or.jp）\nJASRI　回折・散乱推進室　河口　彰吾（kawaguchi〔at〕spring8.or.jp）\nJASRI　回折・散乱推進室　小林　慎太郎（kobayashi.shintaro〔at〕spring8.or.jp）\nJASRI　回折・散乱推進室　森　祐紀（yuki.mori〔at〕spring8.or.jp）\nJASRI　産業利用・産学連携推進室　佐藤　眞直（msato〔at〕spring8.or.jp） \n◆事務担当：参加登録等に関すること \nJASRI　利用推進部　普及情報課　濱本　美和子、松末　恵理子（jasri-event〔at〕spring8.or.jp） \n[at]を”@”に置き換えてください。 \n【JRR-3】 \n講義、実習場所 \nAYA’S LABORATORY量子ビーム研究センター（AQBRC）\nhttps://neutron.cross.or.jp/ja/access/ \nJRR-3東北大学金研中性子粉末回折装置「HERMES」 \nhttps://jrr3.jaea.go.jp/2/21.htm \n◆実習担当：内容・試料等に関すること \n東北大学金属材料研究所　量子ビーム利用物質材料研究センター　藤田　全基（fujita〔at〕tohoku.ac.jp） \n※〔at〕を@に置き換えてください。 \n【J-PARC　MLF】 \n講義、実習場所 \nAYA’S LABORATORY量子ビーム研究センター（AQBRC）（予定）\nJ-PARC MLF BL20茨城県材料構造解析装置「iMATERIA」\nhttps://mlfinfo.jp/ja/access.html \n◆実習担当：内容・試料等に関すること \nCROSS　中性子産業利用推進センター　鈴木　淳市（j_suzuki〔at〕cross.or.jp）\nCROSS　中性子産業利用推進センター　池田　一貴（k_ikeda〔at〕cross.or.jp）\nCROSS　中性子産業利用推進センター　石垣　徹　（t_ishigaki〔at〕cross.or.jp） \n※〔at〕を@に置き換えてください。 \n運営組織\n主催\n（公財）高輝度光科学研究センター（JASRI）\n（一財）総合科学研究機構（CROSS） \n共催\n東北大学金属材料研究所　量子ビーム利用物質材料研究センター \n後援\nSPRUC放射光・中性子連携利用研究会\nSPring-8利用推進協議会（IUSS）\n中性子産業利用推進協議会（IUSNA）
URL:https://archive2019nt.cross.or.jp/events/20240819/
ATTACH;FMTTYPE=image/png:https://archive2019nt.cross.or.jp/wp/wp-content/uploads/2018/01/noimg.png
END:VEVENT
END:VCALENDAR