BEGIN:VCALENDAR
VERSION:2.0
PRODID:-//CROSS 中性子科学センター（2019年アーカイブ） - ECPv5.14.1//NONSGML v1.0//EN
CALSCALE:GREGORIAN
METHOD:PUBLISH
X-WR-CALNAME:CROSS 中性子科学センター（2019年アーカイブ）
X-ORIGINAL-URL:https://archive2019nt.cross.or.jp
X-WR-CALDESC:CROSS 中性子科学センター（2019年アーカイブ） のイベント
BEGIN:VTIMEZONE
TZID:Asia/Tokyo
BEGIN:STANDARD
TZOFFSETFROM:+0900
TZOFFSETTO:+0900
TZNAME:JST
DTSTART:20240101T000000
END:STANDARD
END:VTIMEZONE
BEGIN:VEVENT
DTSTART;TZID=Asia/Tokyo:20240828T131500
DTEND;TZID=Asia/Tokyo:20240828T143000
DTSTAMP:20260426T035213
CREATED:20240725T065805Z
LAST-MODIFIED:20240910T054902Z
UID:26830-1724850900-1724855400@archive2019nt.cross.or.jp
SUMMARY:【事前講習会＠オンライン開催】第11回　放射光・中性子の連携利用に向けた合同研修会「小角散乱測定研修会」
DESCRIPTION:概要\n2019年度より高輝度光科学研究センター（JASRI）と総合科学研究機構（CROSS）では、量子ビーム施設の実習を通して、放射光・中性子それぞれの測定技術特徴を知っていただくための合同研修会を開催しております。\n　※2023年度開催済 第9回　放射光・中性子の連携利用に向けた合同研修会「小角散乱測定研修会」\n合同研修会に先立ち、小角散乱測定に関する事前講習会（オンライン）を以下の要領にて開催します。 \n事前講習会（オンライン開催）\n（1）日時：2024年8月28日（水） 13:15～14:30\n（2）開催形式：オンライン開催（Zoom）\n（3）プログラム：\n　　　13:15～14:15　「小角散乱におけるX線と中性子の相補利用のメリットについて」\n　　　　　　　　 　　　　　（講師：北海道大学大学院工学研究院　大沼正人教授）\n　　　14:15～14:30　 合同研修会に関する案内　　　　 \n参加申込　※申込を締め切りました。\nこちらよりご確認ください。 \n  \n\n運営組織\n主催\n（公財）高輝度光科学研究センター（JASRI）\n（一財）総合科学研究機構（CROSS） \n共催\nJ-PARCセンター（JAEA & KEK） \n後援\nSPRUC放射光・中性子連携利用研究会\nSPring-8利用推進協議会（IUSS）\n中性子産業利用推進協議会（IUSNA）
URL:https://archive2019nt.cross.or.jp/events/20240828/
ATTACH;FMTTYPE=image/png:https://archive2019nt.cross.or.jp/wp/wp-content/uploads/2018/01/noimg.png
END:VEVENT
END:VCALENDAR