BEGIN:VCALENDAR
VERSION:2.0
PRODID:-//CROSS 中性子科学センター（2019年アーカイブ） - ECPv5.14.1//NONSGML v1.0//EN
CALSCALE:GREGORIAN
METHOD:PUBLISH
X-WR-CALNAME:CROSS 中性子科学センター（2019年アーカイブ）
X-ORIGINAL-URL:https://archive2019nt.cross.or.jp
X-WR-CALDESC:CROSS 中性子科学センター（2019年アーカイブ） のイベント
BEGIN:VTIMEZONE
TZID:Asia/Tokyo
BEGIN:STANDARD
TZOFFSETFROM:+0900
TZOFFSETTO:+0900
TZNAME:JST
DTSTART:20240101T000000
END:STANDARD
END:VTIMEZONE
BEGIN:VEVENT
DTSTART;TZID=Asia/Tokyo:20240910T130000
DTEND;TZID=Asia/Tokyo:20240911T173000
DTSTAMP:20260426T035112
CREATED:20240617T233830Z
LAST-MODIFIED:20240621T014851Z
UID:26495-1725973200-1726075800@archive2019nt.cross.or.jp
SUMMARY:第21回 SPring-8産業利用報告会
DESCRIPTION:概要\n　最先端の学術研究とその成果の産業応用の推進による産業発展への貢献はSPring-8の重要なミッションであり、現在、広い産業分野で活用されています。\n 本報告会は、SPring-8の産業利用成果の情報発信による産業界における放射光の有用性の広報および産業界ユーザーの相互交流を目的として、JASRI、サンビーム、兵庫県、豊田中研が合同で開催しており、開催形態は各団体の年次成果報告会のジョイント構成で行っています。今回は、従来の口頭発表形式およびポスターセッションの成果報告に加え、SPring-8-IIへの産業界からの期待に関する企画講演を設けます。また兵庫県が主体となり実施する「ひょうごSPring-8賞」の受賞講演もあわせて行う予定です。\n SPring-8における最新の産業利用の状況、研究成果を知る絶好の機会ですので、奮ってご参加ください。 \n主催\nサンビーム共同体（7/1より呼称変更予定）\n兵庫県\n株式会社豊田中央研究所\n高輝度光科学研究センター（JASRI)\nSPring-8利用推進協議会 \n後援\n理化学研究所 放射光科学研究センター\nSPring-8ユーザー協同体（SPRUC）\nフロンティアソフトマター開発専用ビームライン産学連合体（FSBL）\n一般財団法人総合科学研究機構（CROSS）\n一般財団法人高度情報科学技術研究機構（RIST）\n中性子産業利用推進協議会（IUSNA)\nあいちシンクロトロン光センター\n佐賀県立九州シンクロトロン光研究センター\n（以上、予定）
URL:https://archive2019nt.cross.or.jp/events/20240910/
LOCATION:科学技術館\, 東京都千代田区北の丸公園2-1\, 102-0091\, 日本
CATEGORIES:報告会
ATTACH;FMTTYPE=image/png:https://archive2019nt.cross.or.jp/wp/wp-content/uploads/2018/01/noimg.png
END:VEVENT
END:VCALENDAR