BEGIN:VCALENDAR
VERSION:2.0
PRODID:-//CROSS 中性子科学センター（2019年アーカイブ） - ECPv5.14.1//NONSGML v1.0//EN
CALSCALE:GREGORIAN
METHOD:PUBLISH
X-WR-CALNAME:CROSS 中性子科学センター（2019年アーカイブ）
X-ORIGINAL-URL:https://archive2019nt.cross.or.jp
X-WR-CALDESC:CROSS 中性子科学センター（2019年アーカイブ） のイベント
BEGIN:VTIMEZONE
TZID:Asia/Tokyo
BEGIN:STANDARD
TZOFFSETFROM:+0900
TZOFFSETTO:+0900
TZNAME:JST
DTSTART:20240101T000000
END:STANDARD
END:VTIMEZONE
BEGIN:VEVENT
DTSTART;TZID=Asia/Tokyo:20240924T080000
DTEND;TZID=Asia/Tokyo:20240927T170000
DTSTAMP:20260426T035109
CREATED:20240624T233429Z
LAST-MODIFIED:20240624T233757Z
UID:26626-1727164800-1727456400@archive2019nt.cross.or.jp
SUMMARY:13th Design and Engineering of Neutron Instruments Meeting (DENIM XIII)
DESCRIPTION:Introduction\nWe are pleased to announce the 13th iteration of the Design and Engineering of Neutron Instruments Meeting (DENIM XIII)\, scheduled from the 25th to the 27th of September 2024\, in Japan. \nThis meeting\, organized under the International Society of Neutron Instrumentation Engineers (ISNIE)\, bringing together engineers and experts from more than 23 national laboratories\, universities\, and other neutron research institutes across 18 countries. \n  \nFor more details\, please refer to the link below.  \n \nhttps://mlfinfo.jp/sp/denim2024/index.html
URL:https://archive2019nt.cross.or.jp/events/20240924/
LOCATION:日本原子力研究開発機構外来者用多目的宿泊施設(JAEA Tokai Mirai Base)\, 茨城県那珂郡東海村⾈⽯川駅東三丁⽬ 7 番 25 号\, 茨城県\, 319-1118\, 日本
CATEGORIES:Workshop
ATTACH;FMTTYPE=image/png:https://archive2019nt.cross.or.jp/wp/wp-content/uploads/2018/01/noimg.png
END:VEVENT
END:VCALENDAR