BEGIN:VCALENDAR
VERSION:2.0
PRODID:-//CROSS 中性子科学センター（2019年アーカイブ） - ECPv5.14.1//NONSGML v1.0//EN
CALSCALE:GREGORIAN
METHOD:PUBLISH
X-WR-CALNAME:CROSS 中性子科学センター（2019年アーカイブ）
X-ORIGINAL-URL:https://archive2019nt.cross.or.jp
X-WR-CALDESC:CROSS 中性子科学センター（2019年アーカイブ） のイベント
BEGIN:VTIMEZONE
TZID:Asia/Tokyo
BEGIN:STANDARD
TZOFFSETFROM:+0900
TZOFFSETTO:+0900
TZNAME:JST
DTSTART:20240101T000000
END:STANDARD
END:VTIMEZONE
BEGIN:VEVENT
DTSTART;VALUE=DATE:20241018
DTEND;VALUE=DATE:20241019
DTSTAMP:20260426T050735
CREATED:20240411T045825Z
LAST-MODIFIED:20241016T075614Z
UID:26087-1729209600-1729295999@archive2019nt.cross.or.jp
SUMMARY:J-PARC Workshop 2024， Deuterium Science Entering an Advanced Phase
DESCRIPTION:開催趣旨（Objective of the meeting）\n重水素で標識した化合物は、中性子散乱法やNMR法などの同位体と敏感に相互作用する分析法や、医薬品､液晶材料、有機EL､光ファイバーなどの機能性亢進を目的として広く利用されている。中性子散乱研究においては、試料の散乱コントラスト制御や水素の中性子非干渉性散乱バックグラウンドを低減するために重水素標識技術が活用されている。本ワークショップでは、重水素標識機材料を用いた最先端的･先駆的な研究成果について発表･討論し、J-PARC MLFにおける中性子科学研究のための重水素ラベル化技術の成長戦略についても集中して議論することで、J-PARC MLFを始めとした国内外の重水素標識分子が先導する中性子科学研究の更なる活性化を図ります。 \n開催日時（Date and time）\n2024年10月18日（金）9:00～18:00（October 18th\, 2024　9:00～18:00 ） \n開催場所（Venue）\n茨城大学水戸キャンパス　ライブラリーホール\n〒310-8512 茨城県水戸市文京２丁目１−１ \nプログラム（予定）（Program）：Program and Abstract\n\n\n\n8:30-\nReception\n\n\n9:00-9:10\nOpening & Introduction of J-PARC MLF\nT. Otomo (KEK/J-PARC Center)\n\n\n9:10-9:15\nIntroduction of Quantum Beam Science at Ibaraki University\nS. Mori (Ibaraki University)\n\n\nPlenary Session 1（Zoom）\nChair：M. Sugiyama (Kyoto univ.)\n\n\n9:15-10:00\nState of the art of biological deuteration at the Institute Laue-Langevin\nFrank Gabel (ILL)\n\n\nGroup Photo & Coffee Break (10:00-10:20)\n\n\nScience Session 1 _Biology\nChair：T. Ikegami (Yokohama city univ.)\n\n\n10:20-10:50\nExploiting deuteration in BioSANS\nAnne Materl (ILL)\n\n\n10:50-11:20\nProtein deuteration in the deuteration laboratory of J-PARC MLF\nT. Oda (J-PARC Center)\n\n\nLunch (11:20-12:20) & Poster session (core time)\n\n\n11:20-12:20\nPoster-01: Yao Chen (ISIS Facility)\, Deuteration Unveils the Adsorption and Self-Assembly Mechanisms of Polymeric Surfactants\nPoster-02:  Kazuhiro Akutsu\, Misaki Ueda (CROSS)\, Chemical Deuteration Activities at CROSS Laboratory\nPoster-03:  Chie Shibazaki (J-PARC)\, Chemical Deuteration of Mono- and Di- Amino Acids for the Development of New Biopolymer Materials\n\n\n\nPlenary Session 2（Zoom）\nChair：H. Sajiki (Gifu Pharm. Univ.)\n\n\n12:20-13:05\nChasing the miracles of Science with Hydrogen Isotopes\nVolker Derdau (Sanofi Germany)\n\n\nScience Session 2 _Featured Research from Overseas\nChair: M. Tachikawa (Yokohama city univ.)\n\n\n13:20-14:00\nSynthetic Biology and Flow Chemistry- Newly funded activities at the National Deuteration Facility for expanding the range of labelled molecules and their applications\nT. A. Darwish (ANSTO-NDF)\n\n\n14:00-14:40\nISIS Deuteration Facility and its influencing to ISIS neutron science\nPeixun Li (ISIS Deuteration Facility)\n\n\n14:40-15:20\nCatalytic isotopic labeling\nWu Li (Wuhan Univ.)\n\n\nCoffee Break (15:20-15:40)\n\n\nScience Session_3_Industry (Japanese Session)\nChair： K.Akutsu (CROSS)\n\n\n15:40-15:45\n Introduction of Industry Session\n K. Akutsu (CROSS)\n\n\n15:45-16:00\nHeavy water recycling using waste power generation \nM. Yoshida (Asahi Pretec)\n\n\nScience Session_4_Chemistry\nChair：H. Sugiyama (CROSS)\n\n\n16:10-16:40\nA PIMD study of the hydrogen sulfate-formate proton-bound dimer\nT. Udagawa (Gifu university)\n\n\n16:40-17:10\nA comparison from the perspectives of coordination structures\, interfaces\, and bulk extraction phases: fluorous and organic extraction systems\nY. Ueda (JAEA)\n\n\nFree Discussion\nChair：M. Adachi (QST)\n\n\n17:15-17:45\n Recent activities of D-labeling in Japan\nT. Ikawa\,H. Sajiki (Gifu Pharm. Univ.)\n\n\nSummary\n\n\n17:45-17:55\nSummary talk & Closing\nM. Shibayama (CROSS)\n\n\nBanquet (19:00-\, @Mito)\n\n\n\n申込方法（Registration）\n参加申込は、次の参加申込フォームからご登録ください。 \n\n\n「J-PARC Workshop 2024， Deuterium Science Entering an Advanced Phase」　参加申込フォーム\n\n\n  \n参加申込み締切り：10/16（水）17：00（ Deadline for the Workshop：October 16th ）\n懇親会締切り：10/14（月）（ Deadline for the Banqet : October 14th ） \n※参加費無料（registration fee is free.）\n注）広報活動のため、ワークショップ当日の写真（会場スクリーンや参加者の姿が写っているものを含みます）をホームページ等に 使用させていただく場合がございます。あらかじめご了承ください。（Note: Photos taken at the workshop may be used on our website for publicity purposes. Please understand this in advance.） \n運営組織（予定）（Organizing Institution）\n主催 \nJ-PARCセンター \n共催 \nCROSS\nJ-PARC MLF利用者懇談会\n京都大学複合原子力科学研究所 \n後援 \n茨城大学原子科学研究教育センター\n日本プロセス化学会 \n本ワークショップは、市村清新技術財団からの助成を受けて実施されます。 \n実行委員（Organizing Committee）\n＜JAEA\, KEK\, J-PARCセンター＞\n  大友季哉（代表）、青木裕之、 奥隆之、 川北至信、 柴崎千枝、中村充孝、小田隆 \n＜CROSS＞\n  阿久津和宏、上田実咲、柴山充弘、日下勝弘、杉山晴紀 \n＜QST＞\n  安達基泰 \n＜岐阜薬科大学＞\n  佐治木弘尚（プログラム編集委員長）、井川貴詞 \n＜京都大学＞\n  杉山正明 \n<横浜市立大学>\n  立川仁典 \n<茨城大学>\n  森聖治、田中伊知朗、山口峻英 \n \n世話人（Local Organizing Committee） \n \n＜JAEA\, KEK\, J-PARCセンター＞\n根本恵子、大内裕子 \n＜岐阜薬科大学＞\n森重千絵 \n＜CROSS＞\n 大内薫 \nJ-PARC Workshop 2024 行動規範（J-PARC Workshop 2024 Code of Conduct）\nJ-PARC Workshop 2024は、重水素科学に携わる学生、若手研究者、常勤研究者などが討論及び交流するためのワークショップです。 国内外から重水素科学関係者の参加者を募り、互いの交流を深めることで新たな研究成果が生まれることを目指しています。\nそのためには、本ワークショップの全ての参加者は日本学術会議が定める「科学者の行動規範」 に則り、他の参加者に対して敬意と礼儀をもって参加いただくようにお願いいたします。\nなお、本ワークショップへの参加は、この行動規範を遵守することに同意したものとみなされます。 \n写真・ビデオ撮影\n参加者は、他の参加者のプライバシーを尊重し、許可なく録音や写真撮影を行わないでください。\n参加者は、本ワークショップで発表された科学的資料の写真や動画を許可なく撮影することを禁じます。 \n本方針に違反した場合の対応手順\n違反の性質に基づいて、現地実行委員は適切な措置を決定します。\nまた、本方針に違反したとみなされる場合、その事実について記録が残されます。\n \nこれまでの研究会一覧（Past workshops and meetings）\n1） J-PARC Workshop “Neutron Biology for Next Generation”\, March 22nd-23rd\, 2017\, Ibaraki Quantum Beam Research Center     Tokai\, Japan.\n    Summary: JAEA-Review 2017-024\, J-PARC 17-03\, DOI:10.11484/jaea-review-2017-024 \n2） J-PARC Workshop “Deuterated Materials Enhancing Neutron Science for Structure Function Applications”; October \n    19th-20th\, 2017\, Ibaraki Quantum Beam Research Center\, Tokai\, Japan.\n    Web site: https://neutron.cross.or.jp/ja/events/v17015/\n    Summary: JAEA-Review 2018-002\, J-PARC 17-06\, DOI:10.11484/jaea-review-2018-002 \n3） Meeting on Deuterium Labeled Compound for Neutron Science\, November 15th\, 2018\, Ibaraki Quantum Beam     Research Center\, Tokai\, Japan.\n    Web site: https://neutron.cross.or.jp/ja/events/v18019/ \n4） J-PARC Workshop “Deuterium Labeling Study for Neutron Science”\, January 15th-16th\, 2019\, Ibaraki Quantum Beam \n    Research Center\, Tokai\, Japan.\n    Web site: https://neutron.cross.or.jp/ja/events/190115-16/ \n5）J-PARC Workshop 2022\, ”Deuterium Science Entering a New Phase”\, January 19th-20th\, 2023\, Ibaraki Quantum Beam \n    Research Center\, Tokai\, Japan.\n    Web site: https://neutron.cross.or.jp/ja/events/20230119-20-2/ \n問い合わせ先（Contact）\n阿久津 和宏\n  （一財）総合科学研究機構（CROSS）中性子科学センター\n    茨城県東海村白方162-1　AYA’S LABORATORY量子ビーム研究センター A307\n    TEL: 029-219-5300 \n    E-mail: k_akutsu[at]cross.or.jp　＊[at]を@に置き換えてください。
URL:https://archive2019nt.cross.or.jp/events/20241018-2/
LOCATION:茨城大学　水戸キャンパス\, 水戸市文京2-1-1\, Ibaraki\, 310-8512\, 日本
CATEGORIES:イベント,ワークショップ
ATTACH;FMTTYPE=image/png:https://archive2019nt.cross.or.jp/wp/wp-content/uploads/2018/01/noimg.png
END:VEVENT
END:VCALENDAR